BEGIN:VCALENDAR
VERSION:2.0
PRODID:-//ISGW - ECPv6.13.0//NONSGML v1.0//EN
CALSCALE:GREGORIAN
METHOD:PUBLISH
X-WR-CALNAME:ISGW
X-ORIGINAL-URL:https://is-gw.ca
X-WR-CALDESC:Events for ISGW
REFRESH-INTERVAL;VALUE=DURATION:PT1H
X-Robots-Tag:noindex
X-PUBLISHED-TTL:PT1H
BEGIN:VTIMEZONE
TZID:America/Toronto
BEGIN:DAYLIGHT
TZOFFSETFROM:-0500
TZOFFSETTO:-0400
TZNAME:EDT
DTSTART:20250309T070000
END:DAYLIGHT
BEGIN:STANDARD
TZOFFSETFROM:-0400
TZOFFSETTO:-0500
TZNAME:EST
DTSTART:20251102T060000
END:STANDARD
END:VTIMEZONE
BEGIN:VEVENT
DTSTART;TZID=America/Toronto:20250424T100000
DTEND;TZID=America/Toronto:20250424T110000
DTSTAMP:20260422T143231
CREATED:20250325T195607Z
LAST-MODIFIED:20250325T200833Z
UID:10004224-1745488800-1745492400@is-gw.ca
SUMMARY:English Conversation Circle - online
DESCRIPTION:ISGW’s English Conversation Circles provide an opportunity to meet new people and develop language skills. Stay connected and engaged in a safe\, friendly environment by joining our ECCs. Adult language learners of all skill levels and all ages are welcome to attend. \nThis Thursday morning ECC takes place online  using Zoom. \nView PDF flyer. \nFor more information\, contact Yasmin at 519-836-2222\, ext. 230 or yholoubi@is-gw.ca
URL:https://is-gw.ca/event/english-conversation-circle-online-18/2025-04-24/
LOCATION:Zoom
CATEGORIES:English Conversation Circles
ATTACH;FMTTYPE=image/jpeg:https://is-gw.ca/wp-content/uploads/2024/09/ConnectLearn-featuregraphic.jpg
ORGANIZER;CN="Yasmin Holoubi":MAILTO:yholoubi@is-gw.ca
END:VEVENT
BEGIN:VEVENT
DTSTART;TZID=America/Toronto:20250424T100000
DTEND;TZID=America/Toronto:20250424T110000
DTSTAMP:20260422T143231
CREATED:20250409T140759Z
LAST-MODIFIED:20250409T141246Z
UID:10004236-1745488800-1745492400@is-gw.ca
SUMMARY:Employment Insurance (EI) Applications
DESCRIPTION:Join us\, in person  at ISGW\, to learn about applying for employment insurance. \nAt this session\, we will talk about: \n\nHow to apply\nRequirements\nWorking while on claim\n\nView PDF flyer. \n\n The maximum number of participants for this session is 20. You must register in advance to attend the session. \n Language interpretation is available\, based on need. Please register as soon as possible. \nFor more information\, or help to register\, contact Semhar at 519-836-2222\, ext. 257 or sfsehatsion@is-gw.ca
URL:https://is-gw.ca/event/employment-insurance-ei-applications/
LOCATION:ISGW Office\, 104 Dawson Road\, Unit 102\, Guelph\, Ontario\, N1H 1A6\, Canada
CATEGORIES:Employment
ATTACH;FMTTYPE=image/jpeg:https://is-gw.ca/wp-content/uploads/2022/08/NeedAJob-graphic.jpg
ORGANIZER;CN="Semhar Fsehatsion":MAILTO:sfsehatsion@is-gw.ca
END:VEVENT
BEGIN:VEVENT
DTSTART;TZID=America/Toronto:20250424T163000
DTEND;TZID=America/Toronto:20250424T173000
DTSTAMP:20260422T143231
CREATED:20250403T143811Z
LAST-MODIFIED:20250403T144119Z
UID:10004233-1745512200-1745515800@is-gw.ca
SUMMARY:SWIS Youth Chat: Summer Activities at the University of Guelph
DESCRIPTION:Join us in person  at ISGW to talk about University of Guelph’s Department of Athletics and Recreation with guest speaker Jennifer O’Neill — Manager of Recreation\, Fitness & Client Services\, Department of Athletics and Recreation\, University of Guelph. \nJoin us to learn about: \n\nPrograms\, activities\, summer camps\nYouth memberships\n\nView PDF flyer. \n\n You must register in advance to attend the session. \nch Language interpretation is available\, based on need. Please register as soon as possible. \nFor more information contact Nathalie (226) 821 0524 or nalaves@is-gw.ca \n\nThank you for your interest in this session. Registration is now closed.
URL:https://is-gw.ca/event/swis-youth-chat-summer-activities-at-the-university-of-guelph/
LOCATION:ISGW Office\, 104 Dawson Road\, Unit 102\, Guelph\, Ontario\, N1H 1A6\, Canada
CATEGORIES:SWIS Information Sessions,Youth
ATTACH;FMTTYPE=image/jpeg:https://is-gw.ca/wp-content/uploads/2024/04/YouthChat-featuregraphic.jpg
ORGANIZER;CN="Nathalie Alaves":MAILTO:nalaves@is-gw.ca
END:VEVENT
END:VCALENDAR