BEGIN:VCALENDAR
VERSION:2.0
PRODID:-//ISGW - ECPv6.13.0//NONSGML v1.0//EN
CALSCALE:GREGORIAN
METHOD:PUBLISH
X-ORIGINAL-URL:https://is-gw.ca
X-WR-CALDESC:Events for ISGW
REFRESH-INTERVAL;VALUE=DURATION:PT1H
X-Robots-Tag:noindex
X-PUBLISHED-TTL:PT1H
BEGIN:VTIMEZONE
TZID:America/Toronto
BEGIN:DAYLIGHT
TZOFFSETFROM:-0500
TZOFFSETTO:-0400
TZNAME:EDT
DTSTART:20250309T070000
END:DAYLIGHT
BEGIN:STANDARD
TZOFFSETFROM:-0400
TZOFFSETTO:-0500
TZNAME:EST
DTSTART:20251102T060000
END:STANDARD
END:VTIMEZONE
BEGIN:VEVENT
DTSTART;TZID=America/Toronto:20250514T100000
DTEND;TZID=America/Toronto:20250514T110000
DTSTAMP:20260422T114027
CREATED:20250325T194236Z
LAST-MODIFIED:20250325T200633Z
UID:10004209-1747216800-1747220400@is-gw.ca
SUMMARY:English Conversation Circle with GPL Main Library - online
DESCRIPTION:English Conversation Circles provide opportunities for newcomers to practice conversational English skills in a relaxed and friendly environment. \nEvery 2 weeks\, a staff member from Guelph Public Library – Main Library joins us to share an overview of library services and programs available to newcomers. During these sessions\, participants can receive assistance in applying for a library card. \nJoin us online  using Zoom for this English conversation circle. \nView PDF flyer. \nFor more information\, contact Yasmin at 519-836-2222\, ext. 230 or yholoubi@is-gw.ca
URL:https://is-gw.ca/event/english-conversation-circle-with-gpl-main-library-online-4/2025-05-14/
LOCATION:Zoom
CATEGORIES:English Conversation Circles,ISGW Online Classes
ATTACH;FMTTYPE=image/jpeg:https://is-gw.ca/wp-content/uploads/2024/09/ConnectLearn-featuregraphic.jpg
ORGANIZER;CN="Yasmin Holoubi":MAILTO:yholoubi@is-gw.ca
END:VEVENT
BEGIN:VEVENT
DTSTART;TZID=America/Toronto:20250514T130000
DTEND;TZID=America/Toronto:20250514T143000
DTSTAMP:20260422T114027
CREATED:20250325T195009Z
LAST-MODIFIED:20250325T200701Z
UID:10004218-1747227600-1747233000@is-gw.ca
SUMMARY:English Conversation Circle
DESCRIPTION:ISGW’s English Conversation Circles provide an opportunity to meet new people and develop language skills. Stay connected and engaged in a safe\, friendly environment by joining our ECCs. Adult language learners of all skill levels and all ages are welcome to attend. \nJoin us in person  at ISGW for this English Conversation Circle. \nView PDF flyer. \n\n Please note that a maximum of 20 participants will be accepted for this ECC. \nFor more information\, contact Yasmin at 519-836-2222\, ext. 230 or yholoubi@is-gw.ca
URL:https://is-gw.ca/event/english-conversation-circle-22/2025-05-14/
LOCATION:ISGW Office\, 104 Dawson Road\, Unit 102\, Guelph\, Ontario\, N1H 1A6\, Canada
CATEGORIES:English Conversation Circles
ATTACH;FMTTYPE=image/jpeg:https://is-gw.ca/wp-content/uploads/2024/09/ConnectLearn-featuregraphic.jpg
ORGANIZER;CN="Yasmin Holoubi":MAILTO:yholoubi@is-gw.ca
END:VEVENT
END:VCALENDAR