BEGIN:VCALENDAR
VERSION:2.0
PRODID:-//ISGW - ECPv6.13.0//NONSGML v1.0//EN
CALSCALE:GREGORIAN
METHOD:PUBLISH
X-WR-CALNAME:ISGW
X-ORIGINAL-URL:https://is-gw.ca
X-WR-CALDESC:Events for ISGW
REFRESH-INTERVAL;VALUE=DURATION:PT1H
X-Robots-Tag:noindex
X-PUBLISHED-TTL:PT1H
BEGIN:VTIMEZONE
TZID:America/Toronto
BEGIN:DAYLIGHT
TZOFFSETFROM:-0500
TZOFFSETTO:-0400
TZNAME:EDT
DTSTART:20250309T070000
END:DAYLIGHT
BEGIN:STANDARD
TZOFFSETFROM:-0400
TZOFFSETTO:-0500
TZNAME:EST
DTSTART:20251102T060000
END:STANDARD
END:VTIMEZONE
BEGIN:VEVENT
DTSTART;TZID=America/Toronto:20250515T100000
DTEND;TZID=America/Toronto:20250515T110000
DTSTAMP:20260422T085347
CREATED:20250325T195607Z
LAST-MODIFIED:20250325T200833Z
UID:10004227-1747303200-1747306800@is-gw.ca
SUMMARY:English Conversation Circle - online
DESCRIPTION:ISGW’s English Conversation Circles provide an opportunity to meet new people and develop language skills. Stay connected and engaged in a safe\, friendly environment by joining our ECCs. Adult language learners of all skill levels and all ages are welcome to attend. \nThis Thursday morning ECC takes place online  using Zoom. \nView PDF flyer. \nFor more information\, contact Yasmin at 519-836-2222\, ext. 230 or yholoubi@is-gw.ca
URL:https://is-gw.ca/event/english-conversation-circle-online-18/2025-05-15/
LOCATION:Zoom
CATEGORIES:English Conversation Circles
ATTACH;FMTTYPE=image/jpeg:https://is-gw.ca/wp-content/uploads/2024/09/ConnectLearn-featuregraphic.jpg
ORGANIZER;CN="Yasmin Holoubi":MAILTO:yholoubi@is-gw.ca
END:VEVENT
BEGIN:VEVENT
DTSTART;TZID=America/Toronto:20250515T110000
DTEND;TZID=America/Toronto:20250515T120000
DTSTAMP:20260422T085347
CREATED:20250506T140902Z
LAST-MODIFIED:20250506T141604Z
UID:10004260-1747306800-1747310400@is-gw.ca
SUMMARY:Navigating Senior/Family Benefits in Ontario
DESCRIPTION:This session will be presented in Mandarin. \nJoin us\, in person  at ISGW\, to learn about benefits for seniors and families in Ontario. \nAt this session we will talk about: \n\nPensions for seniors\nTax benefits for seniors and families\nLocal transportation/affordable bus pass\nOntario Disability Support program\nOntario Works financial assistance\nProvincial and federal drug and dental benefits\nSubsidized housing\nActivity subsidies for children and families\n\nView PDF flyer. \n\n Space is limited. You must register in advance to attend the session. \nFor more information\, contact Kathy at 519-836-2222\, ext. 239 or kzhao@is-gw.ca \n\nThank you for your interest in this session. Registration is now closed.
URL:https://is-gw.ca/event/navigating-senior-family-benefits-in-ontario/
LOCATION:ISGW Office\, 104 Dawson Road\, Unit 102\, Guelph\, Ontario\, N1H 1A6\, Canada
CATEGORIES:Information Sessions
ATTACH;FMTTYPE=image/jpeg:https://is-gw.ca/wp-content/uploads/2025/04/InPersonWorkshop-featuregraphic.jpg
ORGANIZER;CN="Kathy Zhao":MAILTO:kzhao@is-gw.ca
END:VEVENT
BEGIN:VEVENT
DTSTART;TZID=America/Toronto:20250515T140000
DTEND;TZID=America/Toronto:20250515T150000
DTSTAMP:20260422T085347
CREATED:20250423T171626Z
LAST-MODIFIED:20250505T150035Z
UID:10004253-1747317600-1747321200@is-gw.ca
SUMMARY:Financial Literacy for Newcomers: Building Wealth in Canada
DESCRIPTION:Join us\, online  using Zoom\, to learn strategies for managing your money with guest speaker Vince Mayne\, CPA. \nAt this session we will talk about: \n\nCreating a budget\nUnderstanding cash flow\nThe secret to being a good money manager\nDeciding on a financial plan\nSorting out your wants and needs\nPutting your financial plan in action\n\nView PDF flyer. \n\n Language interpretation is available\, based on need. Please register as soon as possible. \nNeed help with Zoom? Let us know\, we can help! \nFor more information\, contact Nuhad at 519-836-2222\, ext. 236 or nabdal@is-gw.ca \n\nThank you for your interest in this session. Registration is now closed.
URL:https://is-gw.ca/event/financial-literacy-for-newcomers-building-wealth-in-canada-2/
LOCATION:Zoom
CATEGORIES:Information Sessions
ATTACH;FMTTYPE=image/jpeg:https://is-gw.ca/wp-content/uploads/2025/03/OnlineWorkshop-featuregraphic.jpg
ORGANIZER;CN="Nuhad Abdal":MAILTO:nabdal@is-gw.ca
END:VEVENT
BEGIN:VEVENT
DTSTART;TZID=America/Toronto:20250515T163000
DTEND;TZID=America/Toronto:20250515T173000
DTSTAMP:20260422T085347
CREATED:20250505T143823Z
LAST-MODIFIED:20250505T150144Z
UID:10004258-1747326600-1747330200@is-gw.ca
SUMMARY:SWIS Youth Chat: Getting Your Driver's Licence
DESCRIPTION:Join our SWIS team\, in person  at ISGW\, to talk about getting your driver’s licence. \nTopics to be discussed include: \n\nGraduated licences\, what are the differences?\nWhen can you get a licence? How much does it cost?\nFree\, online preparation resources\nGovernment-approved driving schools\nCar insurance costs\nBooking your road test\, languages available\n\nView PDF flyer. \n\n You must register in advance to attend the session.\n Language interpretation is available\, based on need. Please register as soon as possible. \nFor more information contact Azita at 519-831-1157 or afarsi@is-gw.ca \n\nThank you for your interest in this session. Registration is now closed.
URL:https://is-gw.ca/event/swis-youth-chat-getting-your-drivers-licence/
LOCATION:ISGW Office\, 104 Dawson Road\, Unit 102\, Guelph\, Ontario\, N1H 1A6\, Canada
CATEGORIES:SWIS Information Sessions,Youth
ATTACH;FMTTYPE=image/jpeg:https://is-gw.ca/wp-content/uploads/2024/04/YouthChat-featuregraphic.jpg
ORGANIZER;CN="Azita Farsi":MAILTO:afarsi@is-gw.ca
END:VEVENT
END:VCALENDAR