BEGIN:VCALENDAR
VERSION:2.0
PRODID:-//ISGW - ECPv6.13.0//NONSGML v1.0//EN
CALSCALE:GREGORIAN
METHOD:PUBLISH
X-ORIGINAL-URL:https://is-gw.ca
X-WR-CALDESC:Events for ISGW
REFRESH-INTERVAL;VALUE=DURATION:PT1H
X-Robots-Tag:noindex
X-PUBLISHED-TTL:PT1H
BEGIN:VTIMEZONE
TZID:America/Toronto
BEGIN:DAYLIGHT
TZOFFSETFROM:-0500
TZOFFSETTO:-0400
TZNAME:EDT
DTSTART:20250309T070000
END:DAYLIGHT
BEGIN:STANDARD
TZOFFSETFROM:-0400
TZOFFSETTO:-0500
TZNAME:EST
DTSTART:20251102T060000
END:STANDARD
END:VTIMEZONE
BEGIN:VEVENT
DTSTART;TZID=America/Toronto:20250522T100000
DTEND;TZID=America/Toronto:20250522T110000
DTSTAMP:20260422T085353
CREATED:20250325T195607Z
LAST-MODIFIED:20250325T200833Z
UID:10004228-1747908000-1747911600@is-gw.ca
SUMMARY:English Conversation Circle - online
DESCRIPTION:ISGW’s English Conversation Circles provide an opportunity to meet new people and develop language skills. Stay connected and engaged in a safe\, friendly environment by joining our ECCs. Adult language learners of all skill levels and all ages are welcome to attend. \nThis Thursday morning ECC takes place online  using Zoom. \nView PDF flyer. \nFor more information\, contact Yasmin at 519-836-2222\, ext. 230 or yholoubi@is-gw.ca
URL:https://is-gw.ca/event/english-conversation-circle-online-18/2025-05-22/
LOCATION:Zoom
CATEGORIES:English Conversation Circles
ATTACH;FMTTYPE=image/jpeg:https://is-gw.ca/wp-content/uploads/2024/09/ConnectLearn-featuregraphic.jpg
ORGANIZER;CN="Yasmin Holoubi":MAILTO:yholoubi@is-gw.ca
END:VEVENT
BEGIN:VEVENT
DTSTART;TZID=America/Toronto:20250522T143000
DTEND;TZID=America/Toronto:20250522T153000
DTSTAMP:20260422T085353
CREATED:20250421T191809Z
LAST-MODIFIED:20250505T150126Z
UID:10004252-1747924200-1747927800@is-gw.ca
SUMMARY:Canadian Workplace Culture
DESCRIPTION:Every culture has customs and norms which are based on the culture’s history\, traditions\, etiquettes and understanding of what is right and wrong. This extends to the workplace. Join us in person  at ISGW to learn and ask questions about Canadian Workplace Culture. \nDiscussion topics include: \n\nPresentation and appearance at work\nWork relationships (supervisors\, co-workers)\nPerformance\, expectations and punctuality\nWhen expectations are not met\nCommunication styles\nConflict resolution\n\nView PDF flyer. \n\n The maximum number of participants for this session is 25. You must register in advance to attend the session. \n Language interpretation is available\, based on need. Please register as soon as possible and be sure to complete the interpretation section of the registration form. \nFor more information\, or help to register\, contact Tarik at 519-836-2222\, ext. 227 or tbelmqaddem@is-gw.ca \n\nThank you for your interest in this session. Registration is now closed.
URL:https://is-gw.ca/event/canadian-workplace-culture-4/
LOCATION:ISGW Office\, 104 Dawson Road\, Unit 102\, Guelph\, Ontario\, N1H 1A6\, Canada
CATEGORIES:Employment
ATTACH;FMTTYPE=image/jpeg:https://is-gw.ca/wp-content/uploads/2022/08/NeedAJob-graphic.jpg
ORGANIZER;CN="Tarik Belmqaddem":MAILTO:tbelmqaddem@is-gw.ca
END:VEVENT
END:VCALENDAR