BEGIN:VCALENDAR
VERSION:2.0
PRODID:-//ISGW - ECPv6.13.0//NONSGML v1.0//EN
CALSCALE:GREGORIAN
METHOD:PUBLISH
X-WR-CALNAME:ISGW
X-ORIGINAL-URL:https://is-gw.ca
X-WR-CALDESC:Events for ISGW
REFRESH-INTERVAL;VALUE=DURATION:PT1H
X-Robots-Tag:noindex
X-PUBLISHED-TTL:PT1H
BEGIN:VTIMEZONE
TZID:America/Toronto
BEGIN:DAYLIGHT
TZOFFSETFROM:-0500
TZOFFSETTO:-0400
TZNAME:EDT
DTSTART:20250309T070000
END:DAYLIGHT
BEGIN:STANDARD
TZOFFSETFROM:-0400
TZOFFSETTO:-0500
TZNAME:EST
DTSTART:20251102T060000
END:STANDARD
END:VTIMEZONE
BEGIN:VEVENT
DTSTART;TZID=America/Toronto:20250603T100000
DTEND;TZID=America/Toronto:20250603T110000
DTSTAMP:20260422T071004
CREATED:20250325T191832Z
LAST-MODIFIED:20250325T200522Z
UID:10004194-1748944800-1748948400@is-gw.ca
SUMMARY:ESL Reading Club - online
DESCRIPTION:Join the ESL Reading Club to improve your reading skills by reading and discussing English newspaper and magazine articles. \nAdult language learners of all levels and ages are welcome to attend this program. It takes place online  using Zoom. \nWe would love see you! \nView PDF flyer. \nFor more information\, contact Yasmin at 519-836-2222\, ext. 230 or yholoubi@is-gw.ca
URL:https://is-gw.ca/event/esl-reading-club-online-5/2025-06-03/
LOCATION:Zoom
CATEGORIES:English Conversation Circles,ISGW Online Classes
ATTACH;FMTTYPE=image/jpeg:https://is-gw.ca/wp-content/uploads/2024/09/ConnectLearn-featuregraphic.jpg
ORGANIZER;CN="Yasmin Holoubi":MAILTO:yholoubi@is-gw.ca
END:VEVENT
BEGIN:VEVENT
DTSTART;TZID=America/Toronto:20250603T100000
DTEND;TZID=America/Toronto:20250603T113000
DTSTAMP:20260422T071004
CREATED:20250529T135012Z
LAST-MODIFIED:20250529T135237Z
UID:10004281-1748944800-1748950200@is-gw.ca
SUMMARY:Applying for Canadian Citizenship
DESCRIPTION:This session will be presented in Tigrinya. \nJoin us online  using Zoom\, to learn and ask questions about applying for Canadian citizenship. \nDiscussion topics will include: \n\nHow to apply\nEligibility\nApplication package (application form\, documents\, and document checklist)\nPreparing a complete application\n\nView PDF flyer. \n\nNeed help with Zoom? Let us know\, we can help! \n For more information\, contact Lulia at 519-836-2222\, ext. 223 or lisaias@is-gw.ca \n\nThank you for your interest in this session. Registration is now closed.
URL:https://is-gw.ca/event/applying-for-canadian-citizenship-6/
LOCATION:Zoom
CATEGORIES:Information Sessions
ATTACH;FMTTYPE=image/jpeg:https://is-gw.ca/wp-content/uploads/2025/03/OnlineWorkshop-featuregraphic.jpg
ORGANIZER;CN="Lulia Isaias":MAILTO:lisaias@is-gw.ca
END:VEVENT
BEGIN:VEVENT
DTSTART;TZID=America/Toronto:20250603T130000
DTEND;TZID=America/Toronto:20250603T143000
DTSTAMP:20260422T071004
CREATED:20250325T192349Z
LAST-MODIFIED:20250325T200604Z
UID:10004203-1748955600-1748961000@is-gw.ca
SUMMARY:ESL Literacy Circle
DESCRIPTION:We start with ABC and 123 in this conversation circle.\nWould you like to practise the English alphabet and learn to write\, read and say new words in English? \nDuring this in-person  session\, participants will learn English from the beginning. \nView PDF flyer. \n\n Clients who want to participate in this English Conversation Circle must be referred by one of  ISGW’s language assessors.  \nFor more information\, contact Yasmin at 519-836-2222\, ext. 230 or yholoubi@is-gw.ca
URL:https://is-gw.ca/event/esl-literacy-circle-3/2025-06-03/
LOCATION:ISGW Office\, 104 Dawson Road\, Unit 102\, Guelph\, Ontario\, N1H 1A6\, Canada
CATEGORIES:English Conversation Circles
ATTACH;FMTTYPE=image/jpeg:https://is-gw.ca/wp-content/uploads/2024/09/ConnectLearn-featuregraphic.jpg
ORGANIZER;CN="Yasmin Holoubi":MAILTO:yholoubi@is-gw.ca
END:VEVENT
END:VCALENDAR