BEGIN:VCALENDAR
VERSION:2.0
PRODID:-//ISGW - ECPv6.13.0//NONSGML v1.0//EN
CALSCALE:GREGORIAN
METHOD:PUBLISH
X-WR-CALNAME:ISGW
X-ORIGINAL-URL:https://is-gw.ca
X-WR-CALDESC:Events for ISGW
REFRESH-INTERVAL;VALUE=DURATION:PT1H
X-Robots-Tag:noindex
X-PUBLISHED-TTL:PT1H
BEGIN:VTIMEZONE
TZID:America/Toronto
BEGIN:DAYLIGHT
TZOFFSETFROM:-0500
TZOFFSETTO:-0400
TZNAME:EDT
DTSTART:20250309T070000
END:DAYLIGHT
BEGIN:STANDARD
TZOFFSETFROM:-0400
TZOFFSETTO:-0500
TZNAME:EST
DTSTART:20251102T060000
END:STANDARD
END:VTIMEZONE
BEGIN:VEVENT
DTSTART;TZID=America/Toronto:20250612T130000
DTEND;TZID=America/Toronto:20250612T140000
DTSTAMP:20260422T071003
CREATED:20250520T194655Z
LAST-MODIFIED:20250602T151454Z
UID:10004278-1749733200-1749736800@is-gw.ca
SUMMARY:Learn about Service Canada
DESCRIPTION:Join us online  using Zoom\, to learn more about programs and services that are available with Service Canada and ensure that you are receiving all the benefits that you may be entitled to receive. We’re pleased to welcome guest speaker Jenny Dang Tran\, Citizen Services Specialist\, Citizen Service Branch to the session! \nAt this session we will talk about: \n\nEmployment Insurance (Includes maternity leave\, sickness\, lay off\, work sharing)\nRetirement – CPP & OAS (CPP disability\, death benefit\, survivors benefits\, Guaranteed Income Supplement)\nSocial Insurance Numbers\nThe Canadian Dental Care Plan\n\nView PDF flyer. \n\n Language interpretation is available\, based on need. Please register as soon as possible.\nNeed help with Zoom? Let us know\, we can help! \nFor more information\, contact Nataliia at 519-836-2222\, ext. 235 or ngonyk@is-gw.ca \n\nThank you for your interest in this session. Registration is now closed.
URL:https://is-gw.ca/event/learn-about-service-canada/
LOCATION:Zoom
CATEGORIES:Information Sessions
ATTACH;FMTTYPE=image/jpeg:https://is-gw.ca/wp-content/uploads/2025/03/OnlineWorkshop-featuregraphic.jpg
ORGANIZER;CN="Nataliia Gonyk":MAILTO:ngonyk@is-gw.ca
END:VEVENT
BEGIN:VEVENT
DTSTART;TZID=America/Toronto:20250612T163000
DTEND;TZID=America/Toronto:20250612T173000
DTSTAMP:20260422T071003
CREATED:20250514T181119Z
LAST-MODIFIED:20250514T181119Z
UID:10004268-1749745800-1749749400@is-gw.ca
SUMMARY:Citizenship Test Preparation
DESCRIPTION:This online program is intended for Permanent Residents who have applied or are in the process of applying for Canadian citizenship. It is designed to help you prepare to take the Canadian citizenship test. \nUsing the Discover Canada: The Rights and Responsibilities of Citizenship study guide\, we will provide you with many opportunities to learn\, study\, and practice material that will be on your test. Participants should have already completed CLB level 4 for Listening and Speaking. \nThe program will be delivered online  using Zoom and runs for 8 weeks. The Discover Canada study guide will be provided for participants (either online or a hard copy). \nView PDF flyer. \nFor more information contact Yasmin at 519-836-2222\, ext. 230 or yholoubi@is-gw.ca \n\n\n\n                \n                        \n                            Citizenship Test Preparation - April 2026\n                             \n							"*" indicates required fields \n                        \n                        Name*\n                            \n                            \n                                                    \n                                                    First\n                                                \n                            \n                            \n                                                    \n                                                    Last\n                                                \n                            \n                        Email*\n                                \n                                    \n                                    Enter Email\n                                \n                                \n                                    \n                                    Confirm Email\n                                \n                                \n                            Phone/Cellular Number*What is your status in Canada?\n			\n					\n					Permanent Resident\n			\n			\n					\n					Protected Person\n			\n			\n					\n					Refugee Claimant\n			\n			\n					\n					Canadian Citizen\n			\n			\n					\n					Other\n			Are you familiar with the online meeting platform Zoom?\n			\n					\n					Yes\n			\n			\n					\n					No\n			Do you need assistance using Zoom?\n			\n					\n					Yes\n			\n			\n					\n					No\n			Consent*By clicking the box below\, I consent to being contacted by Immigrant Services Guelph-Wellington (ISGW) by phone\, email and Zoom. I acknowledge that in attending ISGW’s online workshops\, my name and image may be visible to other ISGW clients\, volunteers and staff. Yes\, I consent.CAPTCHA
URL:https://is-gw.ca/event/citizenship-test-preparation-7/2025-06-12/
LOCATION:Zoom
CATEGORIES:ISGW Online Classes
ATTACH;FMTTYPE=image/jpeg:https://is-gw.ca/wp-content/uploads/2024/09/ConnectLearn-featuregraphic.jpg
ORGANIZER;CN="Yasmin Holoubi":MAILTO:yholoubi@is-gw.ca
END:VEVENT
BEGIN:VEVENT
DTSTART;TZID=America/Toronto:20250612T163000
DTEND;TZID=America/Toronto:20250612T173000
DTSTAMP:20260422T071003
CREATED:20250604T133857Z
LAST-MODIFIED:20250604T134057Z
UID:10004289-1749745800-1749749400@is-gw.ca
SUMMARY:Youth Chat: The Grove Youth Hubs
DESCRIPTION:Field Trip! For this session\, we will meet at The Grove 737 Woolwich St\, Guelph\, ON N1H 3Z2\nJoin us at The Grove Hub on Woolwich to learn about : \n\nFree\, supportive services offered at The Grove (drop-in or by appointment)\nParticipating in monthly\, planned activities/events for youth\nVolunteer opportunities\n\nView PDF flyer. \n You must register in advance to attend these sessions. \n Language interpretation is available\, based on need. Please register as soon as possible. \nFor more information contact Azita at 519-831-1157 or afarsi@is-gw.ca \n\nThank you for your interest in this session. Registration is now closed.
URL:https://is-gw.ca/event/youth-chat-the-grove-youth-hubs-2/
LOCATION:The Grove – Woolwich\, 737 Woolwich St.ON N1H 3Z2\, Guelph\, Ontario\, N1H 3Z2\, Canada
CATEGORIES:SWIS Information Sessions,Youth
ATTACH;FMTTYPE=image/jpeg:https://is-gw.ca/wp-content/uploads/2024/04/YouthChat-featuregraphic.jpg
ORGANIZER;CN="Azita Farsi":MAILTO:afarsi@is-gw.ca
END:VEVENT
END:VCALENDAR