BEGIN:VCALENDAR
VERSION:2.0
PRODID:-//ISGW - ECPv6.13.0//NONSGML v1.0//EN
CALSCALE:GREGORIAN
METHOD:PUBLISH
X-ORIGINAL-URL:https://is-gw.ca
X-WR-CALDESC:Events for ISGW
REFRESH-INTERVAL;VALUE=DURATION:PT1H
X-Robots-Tag:noindex
X-PUBLISHED-TTL:PT1H
BEGIN:VTIMEZONE
TZID:America/Toronto
BEGIN:DAYLIGHT
TZOFFSETFROM:-0500
TZOFFSETTO:-0400
TZNAME:EDT
DTSTART:20250309T070000
END:DAYLIGHT
BEGIN:STANDARD
TZOFFSETFROM:-0400
TZOFFSETTO:-0500
TZNAME:EST
DTSTART:20251102T060000
END:STANDARD
END:VTIMEZONE
BEGIN:VEVENT
DTSTART;TZID=America/Toronto:20250623T100000
DTEND;TZID=America/Toronto:20250623T110000
DTSTAMP:20260422T084337
CREATED:20250520T145943Z
LAST-MODIFIED:20250610T134006Z
UID:10004277-1750672800-1750676400@is-gw.ca
SUMMARY:CANCELLED - How to Create a CRA Account
DESCRIPTION:Please be aware that this event has been cancelled.  \n These sessions will be presented in English and include interpretation in Tigrinya. \nJoin us in person  at ISGW for the second session about creating a CRA account. \nAt this session\, participants will be guided step-by-step through the process of creating their own CRA account. \nView PDF flyer. \nFor more information\, contact Nataliia at 519-836-2222\, ext. 235\, ngonyk@is-gw.ca\nor Nahom at 519-836-2222\, ext. 263\, ntekle@is-gw.ca \n\n 
URL:https://is-gw.ca/event/how-to-create-a-cra-account-2-2/
LOCATION:ISGW Office\, 104 Dawson Road\, Unit 102\, Guelph\, Ontario\, N1H 1A6\, Canada
CATEGORIES:Information Sessions
ATTACH;FMTTYPE=image/jpeg:https://is-gw.ca/wp-content/uploads/2025/04/InPersonWorkshop-featuregraphic.jpg
ORGANIZER;CN="Nataliia Gonyk":MAILTO:ngonyk@is-gw.ca
END:VEVENT
BEGIN:VEVENT
DTSTART;TZID=America/Toronto:20250623T163000
DTEND;TZID=America/Toronto:20250623T190000
DTSTAMP:20260422T084337
CREATED:20250529T151641Z
LAST-MODIFIED:20250529T152044Z
UID:10004283-1750696200-1750705200@is-gw.ca
SUMMARY:Orientation to Ontario for Refugees
DESCRIPTION:This workshop is for refugees and will be presented in  Tigrinya\, however\, everyone is welcome\, including visitors to Canada! \nJoin us for an amazing opportunity to learn valuable information about Ontario and the Guelph community!\nTopics will include: Getting to Know Canada and Ontario\, Living in Your New Community\, Education and Training\, Working and Business\, Money and Personal Finances and People and the Environment. \nAttendance to all sessions is encouraged. Attendees will receive a participation certificate and a workbook with information about important topics. \nView PDF flyer. \nFor questions or help registering\, contact Nahom Tekle by email: O2OISGW@is-gw.ca or call 519-836-2222\, ext. 263 \n  \n\nSorry. This form is no longer available.
URL:https://is-gw.ca/event/orientation-to-ontario-for-refugees-3/2025-06-23/
LOCATION:Zoom
CATEGORIES:Orientation to Ontario
ATTACH;FMTTYPE=image/jpeg:https://is-gw.ca/wp-content/uploads/2021/09/O2O-image.jpeg
ORGANIZER;CN="Nahom - O2O":MAILTO:O2OISGW@is-gw.ca
END:VEVENT
BEGIN:VEVENT
DTSTART;TZID=America/Toronto:20250623T170000
DTEND;TZID=America/Toronto:20250623T183000
DTSTAMP:20260422T084338
CREATED:20250610T190454Z
LAST-MODIFIED:20250610T191759Z
UID:10004290-1750698000-1750703400@is-gw.ca
SUMMARY:Habitat for Humanity Guelph-Wellington Homeownership Program
DESCRIPTION:Habitat for Humanity Guelph Wellington bridges the gap for families who live in inadequate\, unsafe\, and/or unaffordable housing and want to become a homeowner. \nJoin us online  using Zoom to learn about Habitat’s Homeownership Program with guest speaker Kathryn Stokes (she/her)\, Director\, Housing Partnerships\, Habitat for Humanity Guelph Wellington. \nView PDF flyer. \n\n Language interpretation is available\, based on need. Please register as soon as possible. \n Need help with Zoom? Let us know\, we can help! \n For more information\, contact Cynthia at 519-836-2222\, ext. 259 or cmora@is-gw.ca \n\nThank you for your interest in this session. Registration is now closed.
URL:https://is-gw.ca/event/habitat-for-humanity-guelph-wellington-homeownership-program-3/
LOCATION:Zoom
CATEGORIES:Information Sessions
ATTACH;FMTTYPE=image/jpeg:https://is-gw.ca/wp-content/uploads/2025/03/OnlineWorkshop-featuregraphic.jpg
ORGANIZER;CN="Cynthia Mora":MAILTO:cmora@is-gw.ca
END:VEVENT
END:VCALENDAR