BEGIN:VCALENDAR
VERSION:2.0
PRODID:-//ISGW - ECPv6.13.0//NONSGML v1.0//EN
CALSCALE:GREGORIAN
METHOD:PUBLISH
X-WR-CALNAME:ISGW
X-ORIGINAL-URL:https://is-gw.ca
X-WR-CALDESC:Events for ISGW
REFRESH-INTERVAL;VALUE=DURATION:PT1H
X-Robots-Tag:noindex
X-PUBLISHED-TTL:PT1H
BEGIN:VTIMEZONE
TZID:America/Toronto
BEGIN:DAYLIGHT
TZOFFSETFROM:-0500
TZOFFSETTO:-0400
TZNAME:EDT
DTSTART:20250309T070000
END:DAYLIGHT
BEGIN:STANDARD
TZOFFSETFROM:-0400
TZOFFSETTO:-0500
TZNAME:EST
DTSTART:20251102T060000
END:STANDARD
END:VTIMEZONE
BEGIN:VEVENT
DTSTART;TZID=America/Toronto:20250626T130000
DTEND;TZID=America/Toronto:20250626T140000
DTSTAMP:20260422T071003
CREATED:20250527T141444Z
LAST-MODIFIED:20250619T144919Z
UID:10004280-1750942800-1750946400@is-gw.ca
SUMMARY:NEW TIME! Employment Insurance (EI) Applications
DESCRIPTION:Join us\, in person  at ISGW\, to learn about applying for employment insurance with\nguest speaker Jenny Dang Tran from Service Canada. \nAt this session\, we will talk about: \n\nHow to apply\nRequirements\nWorking while on claim\n\nView PDF flyer. \n\n The maximum number of participants for this session is 20. You must register in advance to attend the session. \n Language interpretation is available\, based on need. Please register as soon as possible. \nFor more information\, or help to register\, contact Semhar at 519-836-2222\, ext. 257 or sfsehatsion@is-gw.ca
URL:https://is-gw.ca/event/employment-insurance-ei-applications-2/
LOCATION:ISGW Office\, 104 Dawson Road\, Unit 102\, Guelph\, Ontario\, N1H 1A6\, Canada
CATEGORIES:Employment
ATTACH;FMTTYPE=image/jpeg:https://is-gw.ca/wp-content/uploads/2022/08/NeedAJob-graphic.jpg
ORGANIZER;CN="Semhar Fsehatsion":MAILTO:sfsehatsion@is-gw.ca
END:VEVENT
BEGIN:VEVENT
DTSTART;TZID=America/Toronto:20250626T163000
DTEND;TZID=America/Toronto:20250626T173000
DTSTAMP:20260422T071003
CREATED:20250514T181119Z
LAST-MODIFIED:20250514T181119Z
UID:10004270-1750955400-1750959000@is-gw.ca
SUMMARY:Citizenship Test Preparation
DESCRIPTION:This online program is intended for Permanent Residents who have applied or are in the process of applying for Canadian citizenship. It is designed to help you prepare to take the Canadian citizenship test. \nUsing the Discover Canada: The Rights and Responsibilities of Citizenship study guide\, we will provide you with many opportunities to learn\, study\, and practice material that will be on your test. Participants should have already completed CLB level 4 for Listening and Speaking. \nThe program will be delivered online  using Zoom and runs for 8 weeks. The Discover Canada study guide will be provided for participants (either online or a hard copy). \nView PDF flyer. \nFor more information contact Yasmin at 519-836-2222\, ext. 230 or yholoubi@is-gw.ca \n\n\n\n                \n                        \n                            Citizenship Test Preparation - April 2026\n                             \n							"*" indicates required fields \n                        \n                        Name*\n                            \n                            \n                                                    \n                                                    First\n                                                \n                            \n                            \n                                                    \n                                                    Last\n                                                \n                            \n                        Email*\n                                \n                                    \n                                    Enter Email\n                                \n                                \n                                    \n                                    Confirm Email\n                                \n                                \n                            Phone/Cellular Number*What is your status in Canada?\n			\n					\n					Permanent Resident\n			\n			\n					\n					Protected Person\n			\n			\n					\n					Refugee Claimant\n			\n			\n					\n					Canadian Citizen\n			\n			\n					\n					Other\n			Are you familiar with the online meeting platform Zoom?\n			\n					\n					Yes\n			\n			\n					\n					No\n			Do you need assistance using Zoom?\n			\n					\n					Yes\n			\n			\n					\n					No\n			Consent*By clicking the box below\, I consent to being contacted by Immigrant Services Guelph-Wellington (ISGW) by phone\, email and Zoom. I acknowledge that in attending ISGW’s online workshops\, my name and image may be visible to other ISGW clients\, volunteers and staff. Yes\, I consent.CAPTCHA
URL:https://is-gw.ca/event/citizenship-test-preparation-7/2025-06-26/
LOCATION:Zoom
CATEGORIES:ISGW Online Classes
ATTACH;FMTTYPE=image/jpeg:https://is-gw.ca/wp-content/uploads/2024/09/ConnectLearn-featuregraphic.jpg
ORGANIZER;CN="Yasmin Holoubi":MAILTO:yholoubi@is-gw.ca
END:VEVENT
BEGIN:VEVENT
DTSTART;TZID=America/Toronto:20250626T163000
DTEND;TZID=America/Toronto:20250626T173000
DTSTAMP:20260422T071003
CREATED:20250604T132658Z
LAST-MODIFIED:20250604T134111Z
UID:10004288-1750955400-1750959000@is-gw.ca
SUMMARY:Youth Chat: Guelph Public Library
DESCRIPTION:Join us in person  at ISGW to talk about about the benefits of having a library card with a guest speaker from Guelph Public Library. \nWe’ll be talking about: \n\nHow to register for library cards\nActivities available at the library\nOnline resources available for students\nLibrary services and programs\n\nView PDF flyer. \n\n You must register in advance to attend these sessions. \n Language interpretation is available\, based on need. Please register as soon as possible. \nFor more information contact Nathalie at 226-821-0524 or nalaves@is-gw.ca \n\nThank you for your interest. Registration is now closed.
URL:https://is-gw.ca/event/youth-chat-guelph-public-library/
LOCATION:ISGW Office\, 104 Dawson Road\, Unit 102\, Guelph\, Ontario\, N1H 1A6\, Canada
CATEGORIES:SWIS Information Sessions,Youth
ATTACH;FMTTYPE=image/jpeg:https://is-gw.ca/wp-content/uploads/2024/04/YouthChat-featuregraphic.jpg
ORGANIZER;CN="Nathalie Alaves":MAILTO:nalaves@is-gw.ca
END:VEVENT
END:VCALENDAR