BEGIN:VCALENDAR
VERSION:2.0
PRODID:-//ISGW - ECPv6.13.0//NONSGML v1.0//EN
CALSCALE:GREGORIAN
METHOD:PUBLISH
X-WR-CALNAME:ISGW
X-ORIGINAL-URL:https://is-gw.ca
X-WR-CALDESC:Events for ISGW
REFRESH-INTERVAL;VALUE=DURATION:PT1H
X-Robots-Tag:noindex
X-PUBLISHED-TTL:PT1H
BEGIN:VTIMEZONE
TZID:America/Toronto
BEGIN:DAYLIGHT
TZOFFSETFROM:-0500
TZOFFSETTO:-0400
TZNAME:EDT
DTSTART:20250309T070000
END:DAYLIGHT
BEGIN:STANDARD
TZOFFSETFROM:-0400
TZOFFSETTO:-0500
TZNAME:EST
DTSTART:20251102T060000
END:STANDARD
END:VTIMEZONE
BEGIN:VEVENT
DTSTART;TZID=America/Toronto:20250701T090000
DTEND;TZID=America/Toronto:20250701T163000
DTSTAMP:20260422T054309
CREATED:20250624T145645Z
LAST-MODIFIED:20250624T145645Z
UID:10004352-1751360400-1751387400@is-gw.ca
SUMMARY:CANADA DAY - office closed
DESCRIPTION:Happy Canada Day!\nISGW is closed today for the holiday. We will open\, as usual\, on Wednesday\, July 2 at 9:00am.
URL:https://is-gw.ca/event/canada-day-office-closed-2/
LOCATION:ISGW Office\, 104 Dawson Road\, Unit 102\, Guelph\, Ontario\, N1H 1A6\, Canada
END:VEVENT
END:VCALENDAR