BEGIN:VCALENDAR
VERSION:2.0
PRODID:-//ISGW - ECPv6.13.0//NONSGML v1.0//EN
CALSCALE:GREGORIAN
METHOD:PUBLISH
X-WR-CALNAME:ISGW
X-ORIGINAL-URL:https://is-gw.ca
X-WR-CALDESC:Events for ISGW
REFRESH-INTERVAL;VALUE=DURATION:PT1H
X-Robots-Tag:noindex
X-PUBLISHED-TTL:PT1H
BEGIN:VTIMEZONE
TZID:America/Toronto
BEGIN:DAYLIGHT
TZOFFSETFROM:-0500
TZOFFSETTO:-0400
TZNAME:EDT
DTSTART:20250309T070000
END:DAYLIGHT
BEGIN:STANDARD
TZOFFSETFROM:-0400
TZOFFSETTO:-0500
TZNAME:EST
DTSTART:20251102T060000
END:STANDARD
END:VTIMEZONE
BEGIN:VEVENT
DTSTART;TZID=America/Toronto:20250715T093000
DTEND;TZID=America/Toronto:20250715T113000
DTSTAMP:20260422T053130
CREATED:20250613T194213Z
LAST-MODIFIED:20250617T175925Z
UID:10004293-1752571800-1752579000@is-gw.ca
SUMMARY:Seniors' English Conversation Circle
DESCRIPTION:Please note that this group will meet on Tuesdays for the summer. \nISGW’s English Conversation Circles (ECC) provide an opportunity to meet new people and develop language skills. Stay connected and engaged in a safe\, friendly environment by joining our ECCs. Adult language learners of all skill levels and all ages are welcome to attend. \nOur Seniors’ ECC takes place in person  at Immigrant Services. It is a chance to practise English\, exercise and socialize with others over light snacks. \n Please note that classes will be cancelled on Tuesday\, August 19. \nView PDF flyer. \nFor more information\, contact Yasmin at 519-836-2222\, ext. 230 or yholoubi@is-gw.ca
URL:https://is-gw.ca/event/seniors-english-conversation-circle-8/2025-07-15/
LOCATION:ISGW Office\, 104 Dawson Road\, Unit 102\, Guelph\, Ontario\, N1H 1A6\, Canada
CATEGORIES:English Conversation Circles
ATTACH;FMTTYPE=image/jpeg:https://is-gw.ca/wp-content/uploads/2024/09/ConnectLearn-featuregraphic.jpg
ORGANIZER;CN="Yasmin Holoubi":MAILTO:yholoubi@is-gw.ca
END:VEVENT
BEGIN:VEVENT
DTSTART;TZID=America/Toronto:20250715T100000
DTEND;TZID=America/Toronto:20250715T120000
DTSTAMP:20260422T053130
CREATED:20250613T175018Z
LAST-MODIFIED:20250620T134737Z
UID:10004291-1752573600-1752580800@is-gw.ca
SUMMARY:Energy Coach Workshop at Harriston Public Library
DESCRIPTION:Join us in person  at the Harriston Library to learn about local\, provincial\, and federal energy support programs. \n Understand eligibility and how to apply.\n Get help accessing rebates\, grants\, and subsidies.\n Find no-cost and low-cost energy solutions.\n Live Q&A with the Energy Coach of County of Wellington. \nGuest speakers include: Independent Electricity System Operator\, Enbridge\, The Home Inspectors Group Inc. and The County of Wellington \nView PDF flyer \nLight refreshments and kids activities provided. \n\n Language interpretation is available\, based on need. Please register as soon as possible. \n For more information\, contact Binaya at 226-332-0783 or bnyaupane@is-gw.ca \n\nThank you for your interest in this session. Registration is now closed.
URL:https://is-gw.ca/event/energy-coach-workshop-at-harriston-public-library/
LOCATION:Harriston Library\, 88 Mill Street N0G 1Z0\, Harriston\, Ontario\, N0G 1Z0\, Canada
CATEGORIES:Information Sessions
ORGANIZER;CN="Binaya Nyaupane":MAILTO:bnyaupane@is-gw.ca
END:VEVENT
BEGIN:VEVENT
DTSTART;TZID=America/Toronto:20250715T130000
DTEND;TZID=America/Toronto:20250715T143000
DTSTAMP:20260422T053130
CREATED:20250616T164938Z
LAST-MODIFIED:20250617T175955Z
UID:10004308-1752584400-1752589800@is-gw.ca
SUMMARY:ESL Literacy Circle
DESCRIPTION:We start with ABC and 123 in this conversation circle.\nWould you like to practise the English alphabet and learn to write\, read and say new words in English? \nDuring this in-person  session\, participants will learn English from the beginning. \nView PDF flyer. \n\n Clients who want to participate in this English Conversation Circle must be referred by one of  ISGW’s language assessors.  \nFor more information\, contact Yasmin at 519-836-2222\, ext. 230 or yholoubi@is-gw.ca
URL:https://is-gw.ca/event/esl-literacy-circle-4/2025-07-15/
LOCATION:ISGW Office\, 104 Dawson Road\, Unit 102\, Guelph\, Ontario\, N1H 1A6\, Canada
CATEGORIES:English Conversation Circles
ATTACH;FMTTYPE=image/jpeg:https://is-gw.ca/wp-content/uploads/2024/09/ConnectLearn-featuregraphic.jpg
ORGANIZER;CN="Yasmin Holoubi":MAILTO:yholoubi@is-gw.ca
END:VEVENT
END:VCALENDAR