BEGIN:VCALENDAR
VERSION:2.0
PRODID:-//ISGW - ECPv6.13.0//NONSGML v1.0//EN
CALSCALE:GREGORIAN
METHOD:PUBLISH
X-ORIGINAL-URL:https://is-gw.ca
X-WR-CALDESC:Events for ISGW
REFRESH-INTERVAL;VALUE=DURATION:PT1H
X-Robots-Tag:noindex
X-PUBLISHED-TTL:PT1H
BEGIN:VTIMEZONE
TZID:America/Toronto
BEGIN:DAYLIGHT
TZOFFSETFROM:-0500
TZOFFSETTO:-0400
TZNAME:EDT
DTSTART:20250309T070000
END:DAYLIGHT
BEGIN:STANDARD
TZOFFSETFROM:-0400
TZOFFSETTO:-0500
TZNAME:EST
DTSTART:20251102T060000
END:STANDARD
END:VTIMEZONE
BEGIN:VEVENT
DTSTART;TZID=America/Toronto:20250804T090000
DTEND;TZID=America/Toronto:20250804T163000
DTSTAMP:20260422T041740
CREATED:20250721T135823Z
LAST-MODIFIED:20250721T135823Z
UID:10004421-1754298000-1754325000@is-gw.ca
SUMMARY:CIVIC HOLIDAY - office closed
DESCRIPTION:We are closed today for the Civic Holiday.\nPrograms and services will resume tomorrow – Tuesday\, August 5.
URL:https://is-gw.ca/event/civic-holiday-office-closed-2/
LOCATION:ISGW Office\, 104 Dawson Road\, Unit 102\, Guelph\, Ontario\, N1H 1A6\, Canada
END:VEVENT
END:VCALENDAR