BEGIN:VCALENDAR
VERSION:2.0
PRODID:-//ISGW - ECPv6.13.0//NONSGML v1.0//EN
CALSCALE:GREGORIAN
METHOD:PUBLISH
X-WR-CALNAME:ISGW
X-ORIGINAL-URL:https://is-gw.ca
X-WR-CALDESC:Events for ISGW
REFRESH-INTERVAL;VALUE=DURATION:PT1H
X-Robots-Tag:noindex
X-PUBLISHED-TTL:PT1H
BEGIN:VTIMEZONE
TZID:America/Toronto
BEGIN:DAYLIGHT
TZOFFSETFROM:-0500
TZOFFSETTO:-0400
TZNAME:EDT
DTSTART:20250309T070000
END:DAYLIGHT
BEGIN:STANDARD
TZOFFSETFROM:-0400
TZOFFSETTO:-0500
TZNAME:EST
DTSTART:20251102T060000
END:STANDARD
END:VTIMEZONE
BEGIN:VEVENT
DTSTART;TZID=America/Toronto:20250828T130000
DTEND;TZID=America/Toronto:20250828T140000
DTSTAMP:20260422T041505
CREATED:20250822T191031Z
LAST-MODIFIED:20250822T191250Z
UID:10004551-1756386000-1756389600@is-gw.ca
SUMMARY:Dental Care
DESCRIPTION:Join our SWIS team in person  at ISGW to talk about dental health with a guest speaker from Infinity Dental Studio. \nAt this session\, we will talk about: \n\nIFHP dental coverage\nOral health care information\n\nDaily practices\nCommon dental problems\nResources\n\n\n\nView PDF flyer. \n Space is limited. You must register in advance to attend the session. \n Language interpretation is available\, based on need. Please register by as soon as possible and be sure to complete the interpretation section of the registration form. \n For more information or to register\, contact Wranus at 226-332-0784 or wsaleh@is-gw.ca \n\nThank you for your interest in this session. Registration is now closed.
URL:https://is-gw.ca/event/dental-care/
LOCATION:ISGW Office\, 104 Dawson Road\, Unit 102\, Guelph\, Ontario\, N1H 1A6\, Canada
CATEGORIES:SWIS Information Sessions
ATTACH;FMTTYPE=image/jpeg:https://is-gw.ca/wp-content/uploads/2024/08/SWIS-feature-graphic-2024.jpg
ORGANIZER;CN="Wranus Saleh":MAILTO:wsaleh@is-gw.ca
END:VEVENT
END:VCALENDAR