BEGIN:VCALENDAR
VERSION:2.0
PRODID:-//ISGW - ECPv6.13.0//NONSGML v1.0//EN
CALSCALE:GREGORIAN
METHOD:PUBLISH
X-ORIGINAL-URL:https://is-gw.ca
X-WR-CALDESC:Events for ISGW
REFRESH-INTERVAL;VALUE=DURATION:PT1H
X-Robots-Tag:noindex
X-PUBLISHED-TTL:PT1H
BEGIN:VTIMEZONE
TZID:America/Toronto
BEGIN:DAYLIGHT
TZOFFSETFROM:-0500
TZOFFSETTO:-0400
TZNAME:EDT
DTSTART:20250309T070000
END:DAYLIGHT
BEGIN:STANDARD
TZOFFSETFROM:-0400
TZOFFSETTO:-0500
TZNAME:EST
DTSTART:20251102T060000
END:STANDARD
END:VTIMEZONE
BEGIN:VEVENT
DTSTART;TZID=America/Toronto:20250902T093000
DTEND;TZID=America/Toronto:20250902T113000
DTSTAMP:20260422T024641
CREATED:20250613T194213Z
LAST-MODIFIED:20250617T175925Z
UID:10004341-1756805400-1756812600@is-gw.ca
SUMMARY:Seniors' English Conversation Circle
DESCRIPTION:Please note that this group will meet on Tuesdays for the summer. \nISGW’s English Conversation Circles (ECC) provide an opportunity to meet new people and develop language skills. Stay connected and engaged in a safe\, friendly environment by joining our ECCs. Adult language learners of all skill levels and all ages are welcome to attend. \nOur Seniors’ ECC takes place in person  at Immigrant Services. It is a chance to practise English\, exercise and socialize with others over light snacks. \n Please note that classes will be cancelled on Tuesday\, August 19. \nView PDF flyer. \nFor more information\, contact Yasmin at 519-836-2222\, ext. 230 or yholoubi@is-gw.ca
URL:https://is-gw.ca/event/seniors-english-conversation-circle-8/2025-09-02/
LOCATION:ISGW Office\, 104 Dawson Road\, Unit 102\, Guelph\, Ontario\, N1H 1A6\, Canada
CATEGORIES:English Conversation Circles
ATTACH;FMTTYPE=image/jpeg:https://is-gw.ca/wp-content/uploads/2024/09/ConnectLearn-featuregraphic.jpg
ORGANIZER;CN="Yasmin Holoubi":MAILTO:yholoubi@is-gw.ca
END:VEVENT
BEGIN:VEVENT
DTSTART;TZID=America/Toronto:20250902T130000
DTEND;TZID=America/Toronto:20250902T143000
DTSTAMP:20260422T024641
CREATED:20250616T164938Z
LAST-MODIFIED:20250617T175955Z
UID:10004315-1756818000-1756823400@is-gw.ca
SUMMARY:ESL Literacy Circle
DESCRIPTION:We start with ABC and 123 in this conversation circle.\nWould you like to practise the English alphabet and learn to write\, read and say new words in English? \nDuring this in-person  session\, participants will learn English from the beginning. \nView PDF flyer. \n\n Clients who want to participate in this English Conversation Circle must be referred by one of  ISGW’s language assessors.  \nFor more information\, contact Yasmin at 519-836-2222\, ext. 230 or yholoubi@is-gw.ca
URL:https://is-gw.ca/event/esl-literacy-circle-4/2025-09-02/
LOCATION:ISGW Office\, 104 Dawson Road\, Unit 102\, Guelph\, Ontario\, N1H 1A6\, Canada
CATEGORIES:English Conversation Circles
ATTACH;FMTTYPE=image/jpeg:https://is-gw.ca/wp-content/uploads/2024/09/ConnectLearn-featuregraphic.jpg
ORGANIZER;CN="Yasmin Holoubi":MAILTO:yholoubi@is-gw.ca
END:VEVENT
END:VCALENDAR