BEGIN:VCALENDAR
VERSION:2.0
PRODID:-//ISGW - ECPv6.13.0//NONSGML v1.0//EN
CALSCALE:GREGORIAN
METHOD:PUBLISH
X-ORIGINAL-URL:https://is-gw.ca
X-WR-CALDESC:Events for ISGW
REFRESH-INTERVAL;VALUE=DURATION:PT1H
X-Robots-Tag:noindex
X-PUBLISHED-TTL:PT1H
BEGIN:VTIMEZONE
TZID:America/Toronto
BEGIN:DAYLIGHT
TZOFFSETFROM:-0500
TZOFFSETTO:-0400
TZNAME:EDT
DTSTART:20250309T070000
END:DAYLIGHT
BEGIN:STANDARD
TZOFFSETFROM:-0400
TZOFFSETTO:-0500
TZNAME:EST
DTSTART:20251102T060000
END:STANDARD
END:VTIMEZONE
BEGIN:VEVENT
DTSTART;TZID=America/Toronto:20250906T100000
DTEND;TZID=America/Toronto:20250906T123000
DTSTAMP:20260422T024606
CREATED:20250731T141654Z
LAST-MODIFIED:20250731T142047Z
UID:10004424-1757152800-1757161800@is-gw.ca
SUMMARY:Orientation to Ontario for Youth - online
DESCRIPTION:Join us online  using Zoom\, for an amazing opportunity to learn valuable information about Ontario and the Guelph community! We will have special guest speakers joining us to discuss topics that will include: Getting to Know Canada and Ontario\, Living in Your New Community\, Education and Training\, Working and Business\, Money and Personal Finances and People and the Environment. \nView PDF flyer. \nPlan to attend all three sessions as we will present different topics at each session. \nStudents will earn volunteer hours for participating in this session. \nThis workshop is for youth. Everyone is welcome\, including visitors to Canada! \n Interpretation support is available. \n For questions or help registering\, contact Nahom Tekle by email: O2OISGW@is-gw.ca or call 519-836-2222\, ext. 263 \n\nThank you for your interest in this session. Registration is now closed.
URL:https://is-gw.ca/event/orientation-to-ontario-for-youth-online-2/2025-09-06/
LOCATION:Zoom
CATEGORIES:Orientation to Ontario,Youth
ATTACH;FMTTYPE=image/jpeg:https://is-gw.ca/wp-content/uploads/2021/11/O2O-image.jpg
ORGANIZER;CN="Nahom - O2O":MAILTO:O2OISGW@is-gw.ca
END:VEVENT
END:VCALENDAR