BEGIN:VCALENDAR
VERSION:2.0
PRODID:-//ISGW - ECPv6.13.0//NONSGML v1.0//EN
CALSCALE:GREGORIAN
METHOD:PUBLISH
X-WR-CALNAME:ISGW
X-ORIGINAL-URL:https://is-gw.ca
X-WR-CALDESC:Events for ISGW
REFRESH-INTERVAL;VALUE=DURATION:PT1H
X-Robots-Tag:noindex
X-PUBLISHED-TTL:PT1H
BEGIN:VTIMEZONE
TZID:America/Toronto
BEGIN:DAYLIGHT
TZOFFSETFROM:-0500
TZOFFSETTO:-0400
TZNAME:EDT
DTSTART:20250309T070000
END:DAYLIGHT
BEGIN:STANDARD
TZOFFSETFROM:-0400
TZOFFSETTO:-0500
TZNAME:EST
DTSTART:20251102T060000
END:STANDARD
END:VTIMEZONE
BEGIN:VEVENT
DTSTART;TZID=America/Toronto:20250922T130000
DTEND;TZID=America/Toronto:20250922T140000
DTSTAMP:20260422T024230
CREATED:20250905T141809Z
LAST-MODIFIED:20250905T142445Z
UID:10004567-1758546000-1758549600@is-gw.ca
SUMMARY:Preparing for Winter in Guelph
DESCRIPTION:Join our SWIS team in person  at ISGW to talk about how to get ready for winter in Canada and learn about The Children’s Foundation support program – Adopt-A-Family. \nWe will talk about: \n\nAdopt-A-Family program\nHow to dress for Canadian winter\nThe signs of frostbite\nWhat is a “Snow Day”?\nHow to check city/school bus cancellations during bad weather\nCar safety (importance of winter tires\, winter washer fluid)\n\nView PDF flyer. \n\n Space is limited. You must register in advance to attend the session. \n Language interpretation is available\, based on need. Please register by as soon as possible and be sure to complete the interpretation section of the registration form. \n For more information or to register\, contact Nathalie at 226-821-0524 or nalaves@is-gw.ca \n\nThank you for your interest in this session. Registration is now closed.
URL:https://is-gw.ca/event/preparing-for-winter-in-guelph-4/
LOCATION:ISGW Office\, 104 Dawson Road\, Unit 102\, Guelph\, Ontario\, N1H 1A6\, Canada
CATEGORIES:SWIS Information Sessions
ATTACH;FMTTYPE=image/jpeg:https://is-gw.ca/wp-content/uploads/2024/08/SWIS-feature-graphic-2024.jpg
ORGANIZER;CN="Nathalie Alaves":MAILTO:nalaves@is-gw.ca
END:VEVENT
END:VCALENDAR