BEGIN:VCALENDAR
VERSION:2.0
PRODID:-//ISGW - ECPv6.13.0//NONSGML v1.0//EN
CALSCALE:GREGORIAN
METHOD:PUBLISH
X-ORIGINAL-URL:https://is-gw.ca
X-WR-CALDESC:Events for ISGW
REFRESH-INTERVAL;VALUE=DURATION:PT1H
X-Robots-Tag:noindex
X-PUBLISHED-TTL:PT1H
BEGIN:VTIMEZONE
TZID:America/Toronto
BEGIN:DAYLIGHT
TZOFFSETFROM:-0500
TZOFFSETTO:-0400
TZNAME:EDT
DTSTART:20250309T070000
END:DAYLIGHT
BEGIN:STANDARD
TZOFFSETFROM:-0400
TZOFFSETTO:-0500
TZNAME:EST
DTSTART:20251102T060000
END:STANDARD
END:VTIMEZONE
BEGIN:VEVENT
DTSTART;TZID=America/Toronto:20250923T163000
DTEND;TZID=America/Toronto:20250923T173000
DTSTAMP:20260422T024605
CREATED:20250827T171234Z
LAST-MODIFIED:20250924T142334Z
UID:10004563-1758645000-1758648600@is-gw.ca
SUMMARY:Teens in a Digital World and Youth Engagement Program Guelph Police Service
DESCRIPTION:Join us in person  at ISGW to learn about the Youth Engagement Program at Guelph Police Service with a guest speaker from Guelph Police Service (GPS). The program is an interactive and informative\, after-school\, learning program about policing. \nWe’ll also talk about cyber security and social media safety for teens. \nView PDF flyer. \n\n You must register in advance to attend the session. \n Language interpretation is available\, based on need. Please register as soon as possible. \n For more information contact Azita 519-831-1157 or afarsi@is-gw.ca \n\nThank you for your interest in this session. Registration is now closed.
URL:https://is-gw.ca/event/teens-in-a-digital-world-and-youth-engagement-program-guelph-police-service/
LOCATION:ISGW Office\, 104 Dawson Road\, Unit 102\, Guelph\, Ontario\, N1H 1A6\, Canada
CATEGORIES:SWIS Information Sessions,Youth
ATTACH;FMTTYPE=image/jpeg:https://is-gw.ca/wp-content/uploads/2024/04/YouthChat-featuregraphic.jpg
ORGANIZER;CN="Azita Farsi":MAILTO:afarsi@is-gw.ca
END:VEVENT
BEGIN:VEVENT
DTSTART;TZID=America/Toronto:20250923T170000
DTEND;TZID=America/Toronto:20250923T180000
DTSTAMP:20260422T024605
CREATED:20250827T152701Z
LAST-MODIFIED:20250827T152925Z
UID:10004561-1758646800-1758650400@is-gw.ca
SUMMARY:Child Care and Child Care Subsidy
DESCRIPTION:Join us online  using Zoom to learn about the different child care services available in Guelph and how to access the Child Care Fee Subsidy through Wellington County. \nGuest Speaker:\nAmanda Raaymakers\, Child Care Subsidy Worker\, County of Wellington \nView PDF flyer. \n\n Language interpretation is available\, based on need. Please register by September 17. \n Need help with technology? Let us know\, we can help! \n For more information\, contact Cynthia at 519-836-2222\, ext. 259 or cmora@is-gw.ca \n\nThank you for your interest in this session. Registration is now closed.
URL:https://is-gw.ca/event/child-care-and-child-care-subsidy-4/
LOCATION:Zoom
CATEGORIES:Information Sessions
ATTACH;FMTTYPE=image/jpeg:https://is-gw.ca/wp-content/uploads/2025/03/OnlineWorkshop-featuregraphic.jpg
ORGANIZER;CN="Cynthia Mora":MAILTO:cmora@is-gw.ca
END:VEVENT
END:VCALENDAR