BEGIN:VCALENDAR
VERSION:2.0
PRODID:-//ISGW - ECPv6.13.0//NONSGML v1.0//EN
CALSCALE:GREGORIAN
METHOD:PUBLISH
X-ORIGINAL-URL:https://is-gw.ca
X-WR-CALDESC:Events for ISGW
REFRESH-INTERVAL;VALUE=DURATION:PT1H
X-Robots-Tag:noindex
X-PUBLISHED-TTL:PT1H
BEGIN:VTIMEZONE
TZID:America/Toronto
BEGIN:DAYLIGHT
TZOFFSETFROM:-0500
TZOFFSETTO:-0400
TZNAME:EDT
DTSTART:20250309T070000
END:DAYLIGHT
BEGIN:STANDARD
TZOFFSETFROM:-0400
TZOFFSETTO:-0500
TZNAME:EST
DTSTART:20251102T060000
END:STANDARD
END:VTIMEZONE
BEGIN:VEVENT
DTSTART;TZID=America/Toronto:20250924T110000
DTEND;TZID=America/Toronto:20250924T120000
DTSTAMP:20260422T024642
CREATED:20250421T173924Z
LAST-MODIFIED:20250929T133529Z
UID:10004433-1758711600-1758715200@is-gw.ca
SUMMARY:Extended! English Conversation Circle at Guelph Enabling Garden
DESCRIPTION:Join us for a friendly and relaxed English Conversation Circle in the beautiful Guelph Enabling Garden!\nThis program offers newcomers a chance to practice English in a welcoming outdoor setting while connecting with others in the community. Each week\, we’ll explore topics related to nature\, gardening\, and everyday life through fun and interactive conversations. \nWhether you’re looking to build confidence in speaking\, expand your vocabulary\, or simply enjoy meaningful chats with others\, this is a great opportunity to learn and grow—together! \nAll levels of English are welcome. No gardening experience needed—just a willingness to participate and enjoy the outdoors! \n Wednesdays\, May 21 – October 15 (extended!)\n11:00 am – 12:00 pm\nRiverside Park\, 81 Woolwich St\, Guelph\, ON N1H 3Y8 \nView PDF flyer. \n For more information\, contact Tarik at 519-836-2222\, ext. 230 or tBelmqaddem@is-gw.ca \n\nThank you for your interest in this English Conversation Circle. Registration for the session is now closed. \nTo learn more about our English conversation circles please contact Yasmin at 519-836-2222\, ext. 230 or yholoubi@is-gw.ca
URL:https://is-gw.ca/event/english-conversation-circle-at-guelph-enabling-garden-5/2025-09-24/
LOCATION:Riverside Park\, Guelph\, 709 Woolwich St\, Guelph\, Ontario\, N1H 7G6\, Canada
CATEGORIES:English Conversation Circles
ATTACH;FMTTYPE=image/jpeg:https://is-gw.ca/wp-content/uploads/2024/09/ConnectLearn-featuregraphic.jpg
ORGANIZER;CN="Yasmin Holoubi":MAILTO:yholoubi@is-gw.ca
END:VEVENT
BEGIN:VEVENT
DTSTART;TZID=America/Toronto:20250924T173000
DTEND;TZID=America/Toronto:20250924T193000
DTSTAMP:20260422T024642
CREATED:20250820T153757Z
LAST-MODIFIED:20250825T154950Z
UID:10004440-1758735000-1758742200@is-gw.ca
SUMMARY:Annual General Meeting 2025
DESCRIPTION:Please join us on Wednesday\, September 24 for our Annual General Meeting. \nWe’re excited to host you at 104 Dawson Road\, Unit 102\, Guelph at 5:30 pm\, for an in-person event that includes storytelling and light refreshments. \n\n\n\n                \n                        \n                            ISGW Annual General Meeting RSVP\n                            Please let us know you plan to attend by filling this form. \n							"*" indicates required fields \n                        \n                        Name*\n                            \n                            \n                                                    \n                                                    First\n                                                \n                            \n                            \n                                                    \n                                                    Last\n                                                \n                            \n                        Email*\n                                \n                                    \n                                    Enter Email\n                                \n                                \n                                    \n                                    Confirm Email\n                                \n                                \n                            OrganizationPhoto ConsentBy clicking the box below\, I understand that photos of the group may be taken and I acknowledge that these photos may be used online or in print to promote ISGW and its programs. ISGW will not identify participants by name in any usage. Yes\, I consent.CAPTCHA
URL:https://is-gw.ca/event/annual-general-meeting-2025/
LOCATION:ISGW Office\, 104 Dawson Road\, Unit 102\, Guelph\, Ontario\, N1H 1A6\, Canada
CATEGORIES:ISGW Events
END:VEVENT
END:VCALENDAR