BEGIN:VCALENDAR
VERSION:2.0
PRODID:-//ISGW - ECPv6.13.0//NONSGML v1.0//EN
CALSCALE:GREGORIAN
METHOD:PUBLISH
X-ORIGINAL-URL:https://is-gw.ca
X-WR-CALDESC:Events for ISGW
REFRESH-INTERVAL;VALUE=DURATION:PT1H
X-Robots-Tag:noindex
X-PUBLISHED-TTL:PT1H
BEGIN:VTIMEZONE
TZID:America/Toronto
BEGIN:DAYLIGHT
TZOFFSETFROM:-0500
TZOFFSETTO:-0400
TZNAME:EDT
DTSTART:20250309T070000
END:DAYLIGHT
BEGIN:STANDARD
TZOFFSETFROM:-0400
TZOFFSETTO:-0500
TZNAME:EST
DTSTART:20251102T060000
END:STANDARD
END:VTIMEZONE
BEGIN:VEVENT
DTSTART;TZID=America/Toronto:20250925T100000
DTEND;TZID=America/Toronto:20250925T110000
DTSTAMP:20260422T024642
CREATED:20250827T172544Z
LAST-MODIFIED:20250827T190018Z
UID:10004564-1758794400-1758798000@is-gw.ca
SUMMARY:Job Search Strategies
DESCRIPTION:Join us in person  at ISGW to talk about different ways to find jobs and how to set yourself up to be successful when applying for jobs. \nAt this session we will talk about: \n\nUpdating/tailoring your resume and cover letter\nHow to use multiple job search channels\nImproving your English\nNetworking strategically\nBridging Programs\n\nView PDF flyer. \n\n The maximum number of participants for this session is 25. You must register in advance to attend the session. \n Language interpretation is available\, based on need. Please register as soon as possible. \n For more information\, or help to register\, contact Semhar at 519-836-2222\, ext. 257 or sfsehatsion@is-gw.ca \n\nThank you for your interest in this session. Registration is now closed.
URL:https://is-gw.ca/event/job-search-strategies/
LOCATION:ISGW Office\, 104 Dawson Road\, Unit 102\, Guelph\, Ontario\, N1H 1A6\, Canada
CATEGORIES:Employment
ATTACH;FMTTYPE=image/jpeg:https://is-gw.ca/wp-content/uploads/2022/08/NeedAJob-graphic.jpg
ORGANIZER;CN="Semhar Fsehatsion":MAILTO:sfsehatsion@is-gw.ca
END:VEVENT
BEGIN:VEVENT
DTSTART;TZID=America/Toronto:20250925T130000
DTEND;TZID=America/Toronto:20250925T140000
DTSTAMP:20260422T024642
CREATED:20250827T173949Z
LAST-MODIFIED:20250827T185951Z
UID:10004565-1758805200-1758808800@is-gw.ca
SUMMARY:Using CanAvenue to Practise English
DESCRIPTION:Join us online  using Zoom\, to learn and ask questions about CanAvenue – a website that can be used to practice English while waiting for an in-person ESL/LINC class. \nDiscussion topics will include: \n\nWhat is CanAvenue?\nHow to create an account\nHow to use CanAvenue to practise English\nDemonstration of specific modules on the site\n\nView PDF flyer. \n\n Language interpretation is available\, based on need. Please register by September 19. \n Need help with technology? Let us know\, we can help! \n For more information\, contact Lulia at 519-836-2222\, ext. 223 or lisaias@is-gw.ca \n\nThank you for your interest in this session. Registration is now closed.
URL:https://is-gw.ca/event/using-canavenue-to-practise-english/
LOCATION:Zoom
CATEGORIES:Information Sessions
ATTACH;FMTTYPE=image/jpeg:https://is-gw.ca/wp-content/uploads/2025/03/OnlineWorkshop-featuregraphic.jpg
ORGANIZER;CN="Lulia Isaias":MAILTO:lisaias@is-gw.ca
END:VEVENT
END:VCALENDAR