BEGIN:VCALENDAR
VERSION:2.0
PRODID:-//ISGW - ECPv6.13.0//NONSGML v1.0//EN
CALSCALE:GREGORIAN
METHOD:PUBLISH
X-ORIGINAL-URL:https://is-gw.ca
X-WR-CALDESC:Events for ISGW
REFRESH-INTERVAL;VALUE=DURATION:PT1H
X-Robots-Tag:noindex
X-PUBLISHED-TTL:PT1H
BEGIN:VTIMEZONE
TZID:America/Toronto
BEGIN:DAYLIGHT
TZOFFSETFROM:-0500
TZOFFSETTO:-0400
TZNAME:EDT
DTSTART:20250309T070000
END:DAYLIGHT
BEGIN:STANDARD
TZOFFSETFROM:-0400
TZOFFSETTO:-0500
TZNAME:EST
DTSTART:20251102T060000
END:STANDARD
END:VTIMEZONE
BEGIN:VEVENT
DTSTART;TZID=America/Toronto:20251008T100000
DTEND;TZID=America/Toronto:20251008T110000
DTSTAMP:20260422T025311
CREATED:20250821T201630Z
LAST-MODIFIED:20251009T185626Z
UID:10004532-1759917600-1759921200@is-gw.ca
SUMMARY:English Conversation Circle with GPL Main Library – online
DESCRIPTION:English Conversation Circles provide opportunities for newcomers to practice conversational English skills in a relaxed and friendly environment. \nEvery 2 weeks\, a staff member from Guelph Public Library – Main Library joins us to share an overview of library services and programs available to newcomers. During these sessions\, participants can receive assistance in applying for a library card. \nJoin us online  using Zoom for this English conversation circle. \nView PDF flyer. \n Need help with technology? Let us know\, we can help! \n For more information\, contact Tarik at 519-836-2222\, ext. 230 or tBelmqaddem@is-gw.ca
URL:https://is-gw.ca/event/english-conversation-circle-with-gpl-main-library-online-6/2025-10-08/
LOCATION:Zoom
CATEGORIES:English Conversation Circles
ATTACH;FMTTYPE=image/jpeg:https://is-gw.ca/wp-content/uploads/2024/09/ConnectLearn-featuregraphic.jpg
ORGANIZER;CN="Yasmin Holoubi":MAILTO:yholoubi@is-gw.ca
END:VEVENT
BEGIN:VEVENT
DTSTART;TZID=America/Toronto:20251008T100000
DTEND;TZID=America/Toronto:20251008T110000
DTSTAMP:20260422T025311
CREATED:20250929T185050Z
LAST-MODIFIED:20250929T185050Z
UID:10004569-1759917600-1759921200@is-gw.ca
SUMMARY:Ontario Works Program
DESCRIPTION:If you need financial assistance for food and housing\, and are in financial need\, you can apply for financial and employment assistance through Ontario Works. \nJoin us online  using Zoom to learn about the Ontario Works program with guest speaker Joanne Liang\, Newcomer Caseworker at County of Wellington Social Services. \nAt this session we will learn: \n\nAn overview of the Ontario Works program\nWho can apply\nApplication process\, how assistance is calculated\nAdditional benefits available for OW recipients\nand more!\n\nView PDF flyer. \n\n Language interpretation is available\, based on need. Please register as soon as possible. \n Need help with Zoom? Let us know\, we can help! \n For more information\, contact Nataliia at 519-836-2222\, ext. 235 or ngonyk@is-gw.ca \n\nThank you for your interest in this session. Registration is now closed.
URL:https://is-gw.ca/event/ontario-works-program-2/
LOCATION:Zoom
CATEGORIES:Information Sessions
ATTACH;FMTTYPE=image/jpeg:https://is-gw.ca/wp-content/uploads/2025/03/OnlineWorkshop-featuregraphic.jpg
ORGANIZER;CN="Nataliia Gonyk":MAILTO:ngonyk@is-gw.ca
END:VEVENT
BEGIN:VEVENT
DTSTART;TZID=America/Toronto:20251008T110000
DTEND;TZID=America/Toronto:20251008T120000
DTSTAMP:20260422T025311
CREATED:20250421T173924Z
LAST-MODIFIED:20250929T133529Z
UID:10004435-1759921200-1759924800@is-gw.ca
SUMMARY:Extended! English Conversation Circle at Guelph Enabling Garden
DESCRIPTION:Join us for a friendly and relaxed English Conversation Circle in the beautiful Guelph Enabling Garden!\nThis program offers newcomers a chance to practice English in a welcoming outdoor setting while connecting with others in the community. Each week\, we’ll explore topics related to nature\, gardening\, and everyday life through fun and interactive conversations. \nWhether you’re looking to build confidence in speaking\, expand your vocabulary\, or simply enjoy meaningful chats with others\, this is a great opportunity to learn and grow—together! \nAll levels of English are welcome. No gardening experience needed—just a willingness to participate and enjoy the outdoors! \n Wednesdays\, May 21 – October 15 (extended!)\n11:00 am – 12:00 pm\nRiverside Park\, 81 Woolwich St\, Guelph\, ON N1H 3Y8 \nView PDF flyer. \n For more information\, contact Tarik at 519-836-2222\, ext. 230 or tBelmqaddem@is-gw.ca \n\nThank you for your interest in this English Conversation Circle. Registration for the session is now closed. \nTo learn more about our English conversation circles please contact Yasmin at 519-836-2222\, ext. 230 or yholoubi@is-gw.ca
URL:https://is-gw.ca/event/english-conversation-circle-at-guelph-enabling-garden-5/2025-10-08/
LOCATION:Riverside Park\, Guelph\, 709 Woolwich St\, Guelph\, Ontario\, N1H 7G6\, Canada
CATEGORIES:English Conversation Circles
ATTACH;FMTTYPE=image/jpeg:https://is-gw.ca/wp-content/uploads/2024/09/ConnectLearn-featuregraphic.jpg
ORGANIZER;CN="Yasmin Holoubi":MAILTO:yholoubi@is-gw.ca
END:VEVENT
BEGIN:VEVENT
DTSTART;TZID=America/Toronto:20251008T130000
DTEND;TZID=America/Toronto:20251008T143000
DTSTAMP:20260422T025311
CREATED:20251008T190840Z
LAST-MODIFIED:20251009T185711Z
UID:10004632-1759928400-1759933800@is-gw.ca
SUMMARY:Wednesday English Conversation Circle
DESCRIPTION:ISGW’s English Conversation Circles provide an opportunity to meet new people and develop language skills. Stay connected and engaged in a safe\, friendly environment by joining our ECCs. Adult language learners of all skill levels and all ages are welcome to attend. \nThis Wednesday afternoon ECC takes place in person  at ISGW. \nView PDF flyer. \n For more information\, contact Tarik at 519-836-2222\, ext. 230 or tBelmqaddem@is-gw.ca
URL:https://is-gw.ca/event/wednesday-english-conversation-circle-2/2025-10-08/
LOCATION:ISGW Office\, 104 Dawson Road\, Unit 102\, Guelph\, Ontario\, N1H 1A6\, Canada
CATEGORIES:English Conversation Circles
ATTACH;FMTTYPE=image/jpeg:https://is-gw.ca/wp-content/uploads/2024/09/ConnectLearn-featuregraphic.jpg
ORGANIZER;CN="Yasmin Holoubi":MAILTO:yholoubi@is-gw.ca
END:VEVENT
END:VCALENDAR