BEGIN:VCALENDAR
VERSION:2.0
PRODID:-//ISGW - ECPv6.13.0//NONSGML v1.0//EN
CALSCALE:GREGORIAN
METHOD:PUBLISH
X-WR-CALNAME:ISGW
X-ORIGINAL-URL:https://is-gw.ca
X-WR-CALDESC:Events for ISGW
REFRESH-INTERVAL;VALUE=DURATION:PT1H
X-Robots-Tag:noindex
X-PUBLISHED-TTL:PT1H
BEGIN:VTIMEZONE
TZID:America/Toronto
BEGIN:DAYLIGHT
TZOFFSETFROM:-0500
TZOFFSETTO:-0400
TZNAME:EDT
DTSTART:20250309T070000
END:DAYLIGHT
BEGIN:STANDARD
TZOFFSETFROM:-0400
TZOFFSETTO:-0500
TZNAME:EST
DTSTART:20251102T060000
END:STANDARD
END:VTIMEZONE
BEGIN:VEVENT
DTSTART;TZID=America/Toronto:20251022T100000
DTEND;TZID=America/Toronto:20251022T110000
DTSTAMP:20260422T025123
CREATED:20250821T201630Z
LAST-MODIFIED:20251009T185626Z
UID:10004534-1761127200-1761130800@is-gw.ca
SUMMARY:English Conversation Circle with GPL Main Library – online
DESCRIPTION:English Conversation Circles provide opportunities for newcomers to practice conversational English skills in a relaxed and friendly environment. \nEvery 2 weeks\, a staff member from Guelph Public Library – Main Library joins us to share an overview of library services and programs available to newcomers. During these sessions\, participants can receive assistance in applying for a library card. \nJoin us online  using Zoom for this English conversation circle. \nView PDF flyer. \n Need help with technology? Let us know\, we can help! \n For more information\, contact Tarik at 519-836-2222\, ext. 230 or tBelmqaddem@is-gw.ca
URL:https://is-gw.ca/event/english-conversation-circle-with-gpl-main-library-online-6/2025-10-22/
LOCATION:Zoom
CATEGORIES:English Conversation Circles
ATTACH;FMTTYPE=image/jpeg:https://is-gw.ca/wp-content/uploads/2024/09/ConnectLearn-featuregraphic.jpg
ORGANIZER;CN="Yasmin Holoubi":MAILTO:yholoubi@is-gw.ca
END:VEVENT
BEGIN:VEVENT
DTSTART;TZID=America/Toronto:20251022T130000
DTEND;TZID=America/Toronto:20251022T143000
DTSTAMP:20260422T025123
CREATED:20251009T182640Z
LAST-MODIFIED:20251020T140340Z
UID:10004602-1761138000-1761143400@is-gw.ca
SUMMARY:Wednesday English Conversation Circle
DESCRIPTION:Please note that this conversation circle is FULL and no longer accepting new registrations.  \nISGW’s English Conversation Circles provide an opportunity to meet new people and develop language skills. Stay connected and engaged in a safe\, friendly environment by joining our ECCs. Adult language learners of all skill levels and all ages are welcome to attend. \nThis Wednesday afternoon ECC takes place in person  at ISGW. \nView PDF flyer. \n For more information\, contact Tarik at 519-836-2222\, ext. 230 or tBelmqaddem@is-gw.ca
URL:https://is-gw.ca/event/wednesday-english-conversation-circle-2-2/2025-10-22/
LOCATION:ISGW Office\, 104 Dawson Road\, Unit 102\, Guelph\, Ontario\, N1H 1A6\, Canada
CATEGORIES:English Conversation Circles
ATTACH;FMTTYPE=image/jpeg:https://is-gw.ca/wp-content/uploads/2024/09/ConnectLearn-featuregraphic.jpg
ORGANIZER;CN="Tarik Belmqaddem":MAILTO:tbelmqaddem@is-gw.ca
END:VEVENT
BEGIN:VEVENT
DTSTART;TZID=America/Toronto:20251022T170000
DTEND;TZID=America/Toronto:20251022T180000
DTSTAMP:20260422T025123
CREATED:20251006T152128Z
LAST-MODIFIED:20251006T152329Z
UID:10004585-1761152400-1761156000@is-gw.ca
SUMMARY:Getting Ready for Parent-Teacher Interviews: UGDSB Schools
DESCRIPTION:Are you new to Canada?\nAre your children attending Upper Grand District School Board?\nDo you want to learn more about Parent-Teacher Interviews?\nJoin our SWIS team\, online  using Zoom\, to learn about Parent-Teacher Interviews with guest speaker\nLara Rahim-Lasko\, MLL Resource Teacher/Planning\, UGDSB. \nDuring this online session we will talk about: \n\nImportance of attending parent-teacher interviews\nPreparing for the interview\nUnderstanding the report card\nWhat to expect during the interview\nDiscussing your child’s progress at school\nTaking your child to the interview\nAfter the parent-teacher interview (follow up)\nResources and language support available\n\nView PDF flyer. \n\n Language interpretation is available\, based on need. Please register by Friday\, October 17 and be sure to complete the interpretation section of the registration form. \n Need help with technology? Let us know\, we can help! \n For more information or to register\, contact Binaya at 226-332-0783 or bnyaupane@is-gw.ca \n\nThank you for your interest in this session. Registration is now closed.
URL:https://is-gw.ca/event/getting-ready-for-parent-teacher-interviews-ugdsb-schools-2/
LOCATION:Zoom
CATEGORIES:SWIS Information Sessions
ATTACH;FMTTYPE=image/jpeg:https://is-gw.ca/wp-content/uploads/2024/08/SWIS-feature-graphic-2024.jpg
ORGANIZER;CN="Binaya Nyaupane":MAILTO:bnyaupane@is-gw.ca
END:VEVENT
END:VCALENDAR