BEGIN:VCALENDAR
VERSION:2.0
PRODID:-//ISGW - ECPv6.13.0//NONSGML v1.0//EN
CALSCALE:GREGORIAN
METHOD:PUBLISH
X-WR-CALNAME:ISGW
X-ORIGINAL-URL:https://is-gw.ca
X-WR-CALDESC:Events for ISGW
REFRESH-INTERVAL;VALUE=DURATION:PT1H
X-Robots-Tag:noindex
X-PUBLISHED-TTL:PT1H
BEGIN:VTIMEZONE
TZID:America/Toronto
BEGIN:DAYLIGHT
TZOFFSETFROM:-0500
TZOFFSETTO:-0400
TZNAME:EDT
DTSTART:20250309T070000
END:DAYLIGHT
BEGIN:STANDARD
TZOFFSETFROM:-0400
TZOFFSETTO:-0500
TZNAME:EST
DTSTART:20251102T060000
END:STANDARD
END:VTIMEZONE
BEGIN:VEVENT
DTSTART;TZID=America/Toronto:20251106T163000
DTEND;TZID=America/Toronto:20251106T173000
DTSTAMP:20260421T233453
CREATED:20251022T153508Z
LAST-MODIFIED:20251022T154442Z
UID:10004637-1762446600-1762450200@is-gw.ca
SUMMARY:Youth Chat: Preparing to Apply for Jobs
DESCRIPTION:Are you getting ready to apply for jobs?\nJoin us in person  at ISGW to talk about: \n\nResume building\nHow to write a cover letter\nInterview preparation\n\nView PDF flyer. \n\n You must register in advance to attend the session. \n Language interpretation is available\, based on need. Please register as soon as possible. \n For more information contact Nathalie at 226-821-0524 or nalaves@is-gw.ca \n\nThank you for your interest in this session. Registration is now closed.
URL:https://is-gw.ca/event/youth-chat-preparing-to-apply-for-jobs/
LOCATION:ISGW Office\, 104 Dawson Road\, Unit 102\, Guelph\, Ontario\, N1H 1A6\, Canada
CATEGORIES:SWIS Information Sessions,Youth
ATTACH;FMTTYPE=image/jpeg:https://is-gw.ca/wp-content/uploads/2024/04/YouthChat-featuregraphic.jpg
ORGANIZER;CN="Nathalie Alaves":MAILTO:nalaves@is-gw.ca
END:VEVENT
END:VCALENDAR