BEGIN:VCALENDAR
VERSION:2.0
PRODID:-//ISGW - ECPv6.13.0//NONSGML v1.0//EN
CALSCALE:GREGORIAN
METHOD:PUBLISH
X-ORIGINAL-URL:https://is-gw.ca
X-WR-CALDESC:Events for ISGW
REFRESH-INTERVAL;VALUE=DURATION:PT1H
X-Robots-Tag:noindex
X-PUBLISHED-TTL:PT1H
BEGIN:VTIMEZONE
TZID:America/Toronto
BEGIN:DAYLIGHT
TZOFFSETFROM:-0500
TZOFFSETTO:-0400
TZNAME:EDT
DTSTART:20250309T070000
END:DAYLIGHT
BEGIN:STANDARD
TZOFFSETFROM:-0400
TZOFFSETTO:-0500
TZNAME:EST
DTSTART:20251102T060000
END:STANDARD
END:VTIMEZONE
BEGIN:VEVENT
DTSTART;TZID=America/Toronto:20251121T100000
DTEND;TZID=America/Toronto:20251121T120000
DTSTAMP:20260421T233837
CREATED:20251110T184417Z
LAST-MODIFIED:20251110T184526Z
UID:10004644-1763719200-1763726400@is-gw.ca
SUMMARY:Refugee Sponsorship Training
DESCRIPTION:Join us in person  at ISGW for an overview of refugee sponsorship with Said Nixon Bangura from the Refugee Sponsorship Training Program\, Catholic Crosscultural Services. \nDiscussion topics will include: \n\nUpdates in any on the G5 and CS application pause\nPre-and Post Arrival Responsibilities for Sponsors\n\nView PDF flyer. \n\n Space is limited. You must register in advance to attend the session. \n Language interpretation is available\, based on need. Please register by as soon as possible. \n For more information\, contact Lulia at 519-836-2222\, ext. 223 or lisaias@is-gw.ca \n\nThank you for your interest in this session. \nRegistration is now closed. \nPlease check our event calendar for information about upcoming sessions.
URL:https://is-gw.ca/event/refugee-sponsorship-training-29/
LOCATION:ISGW Office\, 104 Dawson Road\, Unit 102\, Guelph\, Ontario\, N1H 1A6\, Canada
CATEGORIES:Information Sessions
ATTACH;FMTTYPE=image/jpeg:https://is-gw.ca/wp-content/uploads/2025/04/InPersonWorkshop-featuregraphic.jpg
ORGANIZER;CN="Lulia Isaias":MAILTO:lisaias@is-gw.ca
END:VEVENT
END:VCALENDAR