BEGIN:VCALENDAR
VERSION:2.0
PRODID:-//ISGW - ECPv6.13.0//NONSGML v1.0//EN
CALSCALE:GREGORIAN
METHOD:PUBLISH
X-WR-CALNAME:ISGW
X-ORIGINAL-URL:https://is-gw.ca
X-WR-CALDESC:Events for ISGW
REFRESH-INTERVAL;VALUE=DURATION:PT1H
X-Robots-Tag:noindex
X-PUBLISHED-TTL:PT1H
BEGIN:VTIMEZONE
TZID:America/Toronto
BEGIN:DAYLIGHT
TZOFFSETFROM:-0500
TZOFFSETTO:-0400
TZNAME:EDT
DTSTART:20250309T070000
END:DAYLIGHT
BEGIN:STANDARD
TZOFFSETFROM:-0400
TZOFFSETTO:-0500
TZNAME:EST
DTSTART:20251102T060000
END:STANDARD
END:VTIMEZONE
BEGIN:VEVENT
DTSTART;TZID=America/Toronto:20251126T100000
DTEND;TZID=America/Toronto:20251126T110000
DTSTAMP:20260421T233510
CREATED:20250821T201630Z
LAST-MODIFIED:20251009T185626Z
UID:10004539-1764151200-1764154800@is-gw.ca
SUMMARY:English Conversation Circle with GPL Main Library – online
DESCRIPTION:English Conversation Circles provide opportunities for newcomers to practice conversational English skills in a relaxed and friendly environment. \nEvery 2 weeks\, a staff member from Guelph Public Library – Main Library joins us to share an overview of library services and programs available to newcomers. During these sessions\, participants can receive assistance in applying for a library card. \nJoin us online  using Zoom for this English conversation circle. \nView PDF flyer. \n Need help with technology? Let us know\, we can help! \n For more information\, contact Tarik at 519-836-2222\, ext. 230 or tBelmqaddem@is-gw.ca
URL:https://is-gw.ca/event/english-conversation-circle-with-gpl-main-library-online-6/2025-11-26/
LOCATION:Zoom
CATEGORIES:English Conversation Circles
ATTACH;FMTTYPE=image/jpeg:https://is-gw.ca/wp-content/uploads/2024/09/ConnectLearn-featuregraphic.jpg
ORGANIZER;CN="Yasmin Holoubi":MAILTO:yholoubi@is-gw.ca
END:VEVENT
BEGIN:VEVENT
DTSTART;TZID=America/Toronto:20251126T130000
DTEND;TZID=America/Toronto:20251126T143000
DTSTAMP:20260421T233510
CREATED:20251009T182640Z
LAST-MODIFIED:20251020T140340Z
UID:10004630-1764162000-1764167400@is-gw.ca
SUMMARY:Wednesday English Conversation Circle
DESCRIPTION:Please note that this conversation circle is FULL and no longer accepting new registrations.  \nISGW’s English Conversation Circles provide an opportunity to meet new people and develop language skills. Stay connected and engaged in a safe\, friendly environment by joining our ECCs. Adult language learners of all skill levels and all ages are welcome to attend. \nThis Wednesday afternoon ECC takes place in person  at ISGW. \nView PDF flyer. \n For more information\, contact Tarik at 519-836-2222\, ext. 230 or tBelmqaddem@is-gw.ca
URL:https://is-gw.ca/event/wednesday-english-conversation-circle-2-2/2025-11-26/
LOCATION:ISGW Office\, 104 Dawson Road\, Unit 102\, Guelph\, Ontario\, N1H 1A6\, Canada
CATEGORIES:English Conversation Circles
ATTACH;FMTTYPE=image/jpeg:https://is-gw.ca/wp-content/uploads/2024/09/ConnectLearn-featuregraphic.jpg
ORGANIZER;CN="Tarik Belmqaddem":MAILTO:tbelmqaddem@is-gw.ca
END:VEVENT
BEGIN:VEVENT
DTSTART;TZID=America/Toronto:20251126T163000
DTEND;TZID=America/Toronto:20251126T173000
DTSTAMP:20260421T233510
CREATED:20251103T162000Z
LAST-MODIFIED:20251103T162237Z
UID:10004642-1764174600-1764178200@is-gw.ca
SUMMARY:Winter and Spring Camps and Activities for Children
DESCRIPTION:Join our SWIS team online  using Zoom\, to learn about the winter and spring camps and activities available for children in the community. \nWe will talk about: \n\nThe benefits of attending camp for children\nHow to find and choose a camp for your child(ren)\nAge eligibility\, how to register and the cost\nFinancial assistance programs available: Free to Grow\, Jumpstart\n\nView PDF flyer. \n\n Language interpretation is available\, based on need. Please register as soon as possible and be sure\nto complete the interpretation section of the registration form. \n Need help with technology? Let us know\, we can help! \n For more information or to register\, contact Wranus at 226-332-0784 or wsaleh@is-gw.ca \n\nThank you for your interest in this session. Registration is now closed.
URL:https://is-gw.ca/event/winter-and-spring-camps-and-activities-for-children-2/
LOCATION:Zoom
CATEGORIES:SWIS Information Sessions
ATTACH;FMTTYPE=image/jpeg:https://is-gw.ca/wp-content/uploads/2024/08/SWIS-feature-graphic-2024.jpg
ORGANIZER;CN="Wranus Saleh":MAILTO:wsaleh@is-gw.ca
END:VEVENT
END:VCALENDAR