BEGIN:VCALENDAR
VERSION:2.0
PRODID:-//ISGW - ECPv6.13.0//NONSGML v1.0//EN
CALSCALE:GREGORIAN
METHOD:PUBLISH
X-WR-CALNAME:ISGW
X-ORIGINAL-URL:https://is-gw.ca
X-WR-CALDESC:Events for ISGW
REFRESH-INTERVAL;VALUE=DURATION:PT1H
X-Robots-Tag:noindex
X-PUBLISHED-TTL:PT1H
BEGIN:VTIMEZONE
TZID:America/Toronto
BEGIN:DAYLIGHT
TZOFFSETFROM:-0500
TZOFFSETTO:-0400
TZNAME:EDT
DTSTART:20250309T070000
END:DAYLIGHT
BEGIN:STANDARD
TZOFFSETFROM:-0400
TZOFFSETTO:-0500
TZNAME:EST
DTSTART:20251102T060000
END:STANDARD
END:VTIMEZONE
BEGIN:VEVENT
DTSTART;TZID=America/Toronto:20251201T100000
DTEND;TZID=America/Toronto:20251201T120000
DTSTAMP:20260421T215933
CREATED:20251020T135330Z
LAST-MODIFIED:20251020T135827Z
UID:10004449-1764583200-1764590400@is-gw.ca
SUMMARY:Tools for Learning English Online
DESCRIPTION:Please note that this conversation circle is FULL and no longer accepting new registrations.  \nJoin us\, in person  at ISGW\, for an introduction to effective online English learning techniques. Participants will be guided on how to use digital resources to find the best websites and tools for learning English. \nThe goal is to empower you to confidently begin your self-directed learning journey\, equipped with the skills and resources needed to improve your English on your own. \nClients will be encouraged to use their personal cell phones for easy access to the applications discussed. \nView PDF flyer. \n For more information\, contact Tarik at 519-836-2222\, ext. 230 or tBelmqaddem@is-gw.ca
URL:https://is-gw.ca/event/tools-for-learning-english-online-5-2/2025-12-01/
LOCATION:ISGW Office\, 104 Dawson Road\, Unit 102\, Guelph\, Ontario\, N1H 1A6\, Canada
CATEGORIES:English Conversation Circles
ATTACH;FMTTYPE=image/jpeg:https://is-gw.ca/wp-content/uploads/2024/09/ConnectLearn-featuregraphic.jpg
ORGANIZER;CN="Tarik Belmqaddem":MAILTO:tbelmqaddem@is-gw.ca
END:VEVENT
BEGIN:VEVENT
DTSTART;TZID=America/Toronto:20251201T133000
DTEND;TZID=America/Toronto:20251201T143000
DTSTAMP:20260421T215933
CREATED:20251008T190712Z
LAST-MODIFIED:20251009T182322Z
UID:10004616-1764595800-1764599400@is-gw.ca
SUMMARY:English Conversation Circle - online
DESCRIPTION:ISGW’s English Conversation Circles provide an opportunity to meet new people and develop language skills. Stay connected and engaged in a safe\, friendly environment by joining our ECCs. Adult language learners of all skill levels and all ages are welcome to attend. \nThis Monday afternoon ECC takes place online  using Zoom. \n Please note that this ECC is cancelled on Monday\, October 13 for the Thanksgiving Day holiday. \nView PDF flyer. \n\n Need help with technology? Let us know\, we can help! \n For more information\, contact Tarik at 519-836-2222\, ext. 230 or tBelmqaddem@is-gw.ca
URL:https://is-gw.ca/event/english-conversation-circle-online-19-2/2025-12-01/
LOCATION:Zoom
CATEGORIES:English Conversation Circles
ATTACH;FMTTYPE=image/jpeg:https://is-gw.ca/wp-content/uploads/2024/09/ConnectLearn-featuregraphic.jpg
ORGANIZER;CN="Yasmin Holoubi":MAILTO:yholoubi@is-gw.ca
END:VEVENT
END:VCALENDAR