BEGIN:VCALENDAR
VERSION:2.0
PRODID:-//ISGW - ECPv6.13.0//NONSGML v1.0//EN
CALSCALE:GREGORIAN
METHOD:PUBLISH
X-WR-CALNAME:ISGW
X-ORIGINAL-URL:https://is-gw.ca
X-WR-CALDESC:Events for ISGW
REFRESH-INTERVAL;VALUE=DURATION:PT1H
X-Robots-Tag:noindex
X-PUBLISHED-TTL:PT1H
BEGIN:VTIMEZONE
TZID:America/Toronto
BEGIN:DAYLIGHT
TZOFFSETFROM:-0500
TZOFFSETTO:-0400
TZNAME:EDT
DTSTART:20250309T070000
END:DAYLIGHT
BEGIN:STANDARD
TZOFFSETFROM:-0400
TZOFFSETTO:-0500
TZNAME:EST
DTSTART:20251102T060000
END:STANDARD
END:VTIMEZONE
BEGIN:VEVENT
DTSTART;TZID=America/Toronto:20251202T093000
DTEND;TZID=America/Toronto:20251202T113000
DTSTAMP:20260421T220028
CREATED:20251020T135453Z
LAST-MODIFIED:20251020T135907Z
UID:10004468-1764667800-1764675000@is-gw.ca
SUMMARY:Seniors' English Conversation Circle
DESCRIPTION:Please note that this conversation circle is FULL and no longer accepting new registrations.  \nISGW’s English Conversation Circles (ECC) provide an opportunity to meet new people and develop language skills. Stay connected and engaged in a safe\, friendly environment by joining our ECCs. Adult language learners of all skill levels and all ages are welcome to attend. \nOur Seniors’ ECC takes place in person  at Immigrant Services. It is a chance to practise English\, exercise and socialize with others over light snacks. \nView PDF flyer. \n For more information\, contact Tarik at 519-836-2222\, ext. 230 or tBelmqaddem@is-gw.ca
URL:https://is-gw.ca/event/seniors-english-conversation-circle-9-2/2025-12-02/
LOCATION:ISGW Office\, 104 Dawson Road\, Unit 102\, Guelph\, Ontario\, N1H 1A6\, Canada
CATEGORIES:English Conversation Circles
ATTACH;FMTTYPE=image/jpeg:https://is-gw.ca/wp-content/uploads/2024/09/ConnectLearn-featuregraphic.jpg
ORGANIZER;CN="Tarik Belmqaddem":MAILTO:tbelmqaddem@is-gw.ca
END:VEVENT
BEGIN:VEVENT
DTSTART;TZID=America/Toronto:20251202T130000
DTEND;TZID=America/Toronto:20251202T143000
DTSTAMP:20260421T220028
CREATED:20251020T140202Z
LAST-MODIFIED:20251020T140202Z
UID:10004625-1764680400-1764685800@is-gw.ca
SUMMARY:ESL Literacy Circle
DESCRIPTION:Please note that this conversation circle is FULL and no longer accepting new registrations.  \nWe start with ABC and 123 in this conversation circle.\nWould you like to practise the English alphabet and learn to write\, read and say new words in English? \nDuring this in-person  session\, participants will learn English from the beginning. \nView PDF flyer. \nThrough tailored lessons\, interactive workshops\, and personalized support\, participants will build confidence in reading\, writing\, and speaking English\, enhance their communication skills and connect with the community. \n\n Clients who want to participate in this English Conversation Circle must be referred by one of  ISGW’s language assessors.  \n For more information\, contact Tarik at 519-836-2222\, ext. 230 or tBelmqaddem@is-gw.ca
URL:https://is-gw.ca/event/esl-literacy-circle-5-2-2/2025-12-02/
LOCATION:ISGW Office\, 104 Dawson Road\, Unit 102\, Guelph\, Ontario\, N1H 1A6\, Canada
CATEGORIES:English Conversation Circles
ATTACH;FMTTYPE=image/jpeg:https://is-gw.ca/wp-content/uploads/2024/09/ConnectLearn-featuregraphic.jpg
ORGANIZER;CN="Tarik Belmqaddem":MAILTO:tbelmqaddem@is-gw.ca
END:VEVENT
END:VCALENDAR