BEGIN:VCALENDAR
VERSION:2.0
PRODID:-//ISGW - ECPv6.13.0//NONSGML v1.0//EN
CALSCALE:GREGORIAN
METHOD:PUBLISH
X-WR-CALNAME:ISGW
X-ORIGINAL-URL:https://is-gw.ca
X-WR-CALDESC:Events for ISGW
REFRESH-INTERVAL;VALUE=DURATION:PT1H
X-Robots-Tag:noindex
X-PUBLISHED-TTL:PT1H
BEGIN:VTIMEZONE
TZID:America/Toronto
BEGIN:DAYLIGHT
TZOFFSETFROM:-0500
TZOFFSETTO:-0400
TZNAME:EDT
DTSTART:20250309T070000
END:DAYLIGHT
BEGIN:STANDARD
TZOFFSETFROM:-0400
TZOFFSETTO:-0500
TZNAME:EST
DTSTART:20251102T060000
END:STANDARD
END:VTIMEZONE
BEGIN:VEVENT
DTSTART;TZID=America/Toronto:20251203T100000
DTEND;TZID=America/Toronto:20251203T110000
DTSTAMP:20260421T220031
CREATED:20250821T201630Z
LAST-MODIFIED:20251009T185626Z
UID:10004540-1764756000-1764759600@is-gw.ca
SUMMARY:English Conversation Circle with GPL Main Library – online
DESCRIPTION:English Conversation Circles provide opportunities for newcomers to practice conversational English skills in a relaxed and friendly environment. \nEvery 2 weeks\, a staff member from Guelph Public Library – Main Library joins us to share an overview of library services and programs available to newcomers. During these sessions\, participants can receive assistance in applying for a library card. \nJoin us online  using Zoom for this English conversation circle. \nView PDF flyer. \n Need help with technology? Let us know\, we can help! \n For more information\, contact Tarik at 519-836-2222\, ext. 230 or tBelmqaddem@is-gw.ca
URL:https://is-gw.ca/event/english-conversation-circle-with-gpl-main-library-online-6/2025-12-03/
LOCATION:Zoom
CATEGORIES:English Conversation Circles
ATTACH;FMTTYPE=image/jpeg:https://is-gw.ca/wp-content/uploads/2024/09/ConnectLearn-featuregraphic.jpg
ORGANIZER;CN="Yasmin Holoubi":MAILTO:yholoubi@is-gw.ca
END:VEVENT
BEGIN:VEVENT
DTSTART;TZID=America/Toronto:20251203T130000
DTEND;TZID=America/Toronto:20251203T143000
DTSTAMP:20260421T220031
CREATED:20251009T182640Z
LAST-MODIFIED:20251020T140340Z
UID:10004631-1764766800-1764772200@is-gw.ca
SUMMARY:Wednesday English Conversation Circle
DESCRIPTION:Please note that this conversation circle is FULL and no longer accepting new registrations.  \nISGW’s English Conversation Circles provide an opportunity to meet new people and develop language skills. Stay connected and engaged in a safe\, friendly environment by joining our ECCs. Adult language learners of all skill levels and all ages are welcome to attend. \nThis Wednesday afternoon ECC takes place in person  at ISGW. \nView PDF flyer. \n For more information\, contact Tarik at 519-836-2222\, ext. 230 or tBelmqaddem@is-gw.ca
URL:https://is-gw.ca/event/wednesday-english-conversation-circle-2-2/2025-12-03/
LOCATION:ISGW Office\, 104 Dawson Road\, Unit 102\, Guelph\, Ontario\, N1H 1A6\, Canada
CATEGORIES:English Conversation Circles
ATTACH;FMTTYPE=image/jpeg:https://is-gw.ca/wp-content/uploads/2024/09/ConnectLearn-featuregraphic.jpg
ORGANIZER;CN="Tarik Belmqaddem":MAILTO:tbelmqaddem@is-gw.ca
END:VEVENT
BEGIN:VEVENT
DTSTART;TZID=America/Toronto:20251203T173000
DTEND;TZID=America/Toronto:20251203T183000
DTSTAMP:20260421T220031
CREATED:20251028T153049Z
LAST-MODIFIED:20251028T153837Z
UID:10004639-1764783000-1764786600@is-gw.ca
SUMMARY:Christmas in the Community
DESCRIPTION:Join our SWIS team online  using Zoom to learn about fun community activities happening\nduring the holiday season as well as the community supports that are available. \nAt this session we will talk about: \n\nLow cost/Free activities around the city\nChristmas markets in Guelph/Kitchener\nCommunity supports available around the holidays\n\nView PDF flyer. \n\n Language interpretation is available\, based on need. Please register by as soon as possible and be sure to complete the interpretation section of the registration form. \n Need help with technology? Let us know\, we can help. \n For more information or to register\, contact Nathalie at 226-821-0524 or nalaves@is-gw.ca \n\nThank you for your interest in this session. Registration is now closed.
URL:https://is-gw.ca/event/christmas-in-the-community/
LOCATION:Zoom
CATEGORIES:SWIS Information Sessions
ATTACH;FMTTYPE=image/jpeg:https://is-gw.ca/wp-content/uploads/2024/08/SWIS-feature-graphic-2024.jpg
ORGANIZER;CN="Nathalie Alaves":MAILTO:nalaves@is-gw.ca
END:VEVENT
END:VCALENDAR