BEGIN:VCALENDAR
VERSION:2.0
PRODID:-//ISGW - ECPv6.13.0//NONSGML v1.0//EN
CALSCALE:GREGORIAN
METHOD:PUBLISH
X-WR-CALNAME:ISGW
X-ORIGINAL-URL:https://is-gw.ca
X-WR-CALDESC:Events for ISGW
REFRESH-INTERVAL;VALUE=DURATION:PT1H
X-Robots-Tag:noindex
X-PUBLISHED-TTL:PT1H
BEGIN:VTIMEZONE
TZID:America/Toronto
BEGIN:DAYLIGHT
TZOFFSETFROM:-0500
TZOFFSETTO:-0400
TZNAME:EDT
DTSTART:20250309T070000
END:DAYLIGHT
BEGIN:STANDARD
TZOFFSETFROM:-0400
TZOFFSETTO:-0500
TZNAME:EST
DTSTART:20251102T060000
END:STANDARD
END:VTIMEZONE
BEGIN:VEVENT
DTSTART;TZID=America/Toronto:20251204T120000
DTEND;TZID=America/Toronto:20251204T140000
DTSTAMP:20260421T215933
CREATED:20251120T220907Z
LAST-MODIFIED:20251125T140758Z
UID:10004657-1764849600-1764856800@is-gw.ca
SUMMARY:Developmental Services Resource Fair
DESCRIPTION:Join us in person  at Immigrant Services to learn about the community agencies offering services and support for Autism and developmental disabilities. \nAt this session\, families will have the opportunity to: \n\nmeet community agencies and learn about their services and supports\nask questions\, address any concerns\nmeet and connect with other families from the local area\n\nThe following agencies will be present: \n\nCompass Community Services\nCanadian Mental Health Association Waterloo Wellington\nDufferin Child & Family Services\nHopewell\nKerry’s Place\nKidsability\nSt. Joseph’s Healthcare Centre\n\nView PDF flyer. \n\n Language interpretation is available\, based on need. Please register as soon as possible. \n For more information contact Lindsay at lriddell@is-gw.ca or 519-831-1198 \n\nThank you for your interest in this session. Registration is now closed.
URL:https://is-gw.ca/event/developmental-services-resource-fair/
LOCATION:ISGW Office\, 104 Dawson Road\, Unit 102\, Guelph\, Ontario\, N1H 1A6\, Canada
CATEGORIES:Information Sessions
ATTACH;FMTTYPE=image/jpeg:https://is-gw.ca/wp-content/uploads/2025/04/InPersonWorkshop-featuregraphic.jpg
ORGANIZER;CN="Lindsay Riddell":MAILTO:lriddell@is-gw.ca
END:VEVENT
BEGIN:VEVENT
DTSTART;TZID=America/Toronto:20251204T163000
DTEND;TZID=America/Toronto:20251204T173000
DTSTAMP:20260421T215933
CREATED:20251117T181648Z
LAST-MODIFIED:20251117T181908Z
UID:10004647-1764865800-1764869400@is-gw.ca
SUMMARY:SWIS Youth Chat: Christmas in the Community
DESCRIPTION:Join our SWIS team in person  at ISGW to learn about Christmas in our community. \nAt this session we will talk about: \n\nLow cost/Free activities around the city\nChristmas market in Guelph/Kitchener\nCommunity supports available around the holidays\n\nView PDF flyer. \n\n Space is limited. You must register in advance to attend this session. \n Language interpretation is available\, based on need. Please register as soon as possible. \n For more information contact Elilta 226-332-0790\, ehabte@is-gw.ca \n\nThank you for your interest in this session. Registration is now closed.
URL:https://is-gw.ca/event/swis-youth-chat-christmas-in-the-community/
LOCATION:ISGW Office\, 104 Dawson Road\, Unit 102\, Guelph\, Ontario\, N1H 1A6\, Canada
CATEGORIES:SWIS Information Sessions,Youth
ATTACH;FMTTYPE=image/jpeg:https://is-gw.ca/wp-content/uploads/2024/04/YouthChat-featuregraphic.jpg
ORGANIZER;CN="Elilta Habte":MAILTO:ehabte@is-gw.ca
END:VEVENT
END:VCALENDAR