BEGIN:VCALENDAR
VERSION:2.0
PRODID:-//ISGW - ECPv6.13.0//NONSGML v1.0//EN
CALSCALE:GREGORIAN
METHOD:PUBLISH
X-WR-CALNAME:ISGW
X-ORIGINAL-URL:https://is-gw.ca
X-WR-CALDESC:Events for ISGW
REFRESH-INTERVAL;VALUE=DURATION:PT1H
X-Robots-Tag:noindex
X-PUBLISHED-TTL:PT1H
BEGIN:VTIMEZONE
TZID:America/Toronto
BEGIN:DAYLIGHT
TZOFFSETFROM:-0500
TZOFFSETTO:-0400
TZNAME:EDT
DTSTART:20250309T070000
END:DAYLIGHT
BEGIN:STANDARD
TZOFFSETFROM:-0400
TZOFFSETTO:-0500
TZNAME:EST
DTSTART:20251102T060000
END:STANDARD
END:VTIMEZONE
BEGIN:VEVENT
DTSTART;TZID=America/Toronto:20251206T093000
DTEND;TZID=America/Toronto:20251206T133000
DTSTAMP:20260421T215933
CREATED:20251113T205051Z
LAST-MODIFIED:20251117T194112Z
UID:10004645-1765013400-1765027800@is-gw.ca
SUMMARY:Public Safety and Crime Prevention in Our Community
DESCRIPTION:Join us in person  at ISGW for an important public safety event with guest speakers from Crime Stoppers Guelph Wellington\, Guelph Police Service and Victim Services Wellington. \nIt’s your chance to ask questions about how to protect yourself against fraud and crime. \nWe will talk about: \n\nInternet/phone/email scams\nDistraction crime\nHow to protect your home and car from break and enter\nHow to buy and sell products on Facebook Marketplace/Kijji\nand more!\n\nView PDF flyer. \nLight refreshments will be provided. \nThis community safety event is generously sponsored by DENSO and ISGW Board of Directors 2025. \nProceeds to United Way Guelph Wellington Dufferin. \n\n Space is limited. You must register in advance to attend the session. \n Language interpretation is available\, based on need. Please register as soon as possible. \n For more information call us: 519-836-2222 \n\nRegistration is now closed. Thank you for your interest in this session.
URL:https://is-gw.ca/event/public-safety-and-crime-prevention-in-our-community/
LOCATION:ISGW Office\, 104 Dawson Road\, Unit 102\, Guelph\, Ontario\, N1H 1A6\, Canada
CATEGORIES:ISGW Events
ATTACH;FMTTYPE=image/jpeg:https://is-gw.ca/wp-content/uploads/2025/11/PublicSafetyEvent-featuregraphic-re-1.jpg
END:VEVENT
END:VCALENDAR