BEGIN:VCALENDAR
VERSION:2.0
PRODID:-//ISGW - ECPv6.13.0//NONSGML v1.0//EN
CALSCALE:GREGORIAN
METHOD:PUBLISH
X-WR-CALNAME:ISGW
X-ORIGINAL-URL:https://is-gw.ca
X-WR-CALDESC:Events for ISGW
REFRESH-INTERVAL;VALUE=DURATION:PT1H
X-Robots-Tag:noindex
X-PUBLISHED-TTL:PT1H
BEGIN:VTIMEZONE
TZID:America/Toronto
BEGIN:DAYLIGHT
TZOFFSETFROM:-0500
TZOFFSETTO:-0400
TZNAME:EDT
DTSTART:20250309T070000
END:DAYLIGHT
BEGIN:STANDARD
TZOFFSETFROM:-0400
TZOFFSETTO:-0500
TZNAME:EST
DTSTART:20251102T060000
END:STANDARD
END:VTIMEZONE
BEGIN:VEVENT
DTSTART;TZID=America/Toronto:20251224T120000
DTEND;TZID=America/Toronto:20251224T163000
DTSTAMP:20260421T220031
CREATED:20251124T203022Z
LAST-MODIFIED:20251208T193718Z
UID:10004658-1766577600-1766593800@is-gw.ca
SUMMARY:ISGW is closing at 12:00pm today
DESCRIPTION:ISGW will be closed for the holidays from Wednesday\, December 24 at 12:00pm until Friday\, January 2 at 4:30pm. \nWe will re-open for regular hours on Monday\, January 5 at 9:00am.
URL:https://is-gw.ca/event/isgw-is-closing-at-1200pm-today/
LOCATION:ISGW Office\, 104 Dawson Road\, Unit 102\, Guelph\, Ontario\, N1H 1A6\, Canada
END:VEVENT
END:VCALENDAR