BEGIN:VCALENDAR
VERSION:2.0
PRODID:-//ISGW - ECPv6.13.0//NONSGML v1.0//EN
CALSCALE:GREGORIAN
METHOD:PUBLISH
X-WR-CALNAME:ISGW
X-ORIGINAL-URL:https://is-gw.ca
X-WR-CALDESC:Events for ISGW
REFRESH-INTERVAL;VALUE=DURATION:PT1H
X-Robots-Tag:noindex
X-PUBLISHED-TTL:PT1H
BEGIN:VTIMEZONE
TZID:America/Toronto
BEGIN:DAYLIGHT
TZOFFSETFROM:-0500
TZOFFSETTO:-0400
TZNAME:EDT
DTSTART:20260308T070000
END:DAYLIGHT
BEGIN:STANDARD
TZOFFSETFROM:-0400
TZOFFSETTO:-0500
TZNAME:EST
DTSTART:20261101T060000
END:STANDARD
END:VTIMEZONE
BEGIN:VEVENT
DTSTART;TZID=America/Toronto:20260217T093000
DTEND;TZID=America/Toronto:20260217T113000
DTSTAMP:20260421T183024
CREATED:20251126T190210Z
LAST-MODIFIED:20251218T143558Z
UID:10004682-1771320600-1771327800@is-gw.ca
SUMMARY:Seniors' English Conversation Circle
DESCRIPTION:ISGW’s English Conversation Circles (ECC) provide an opportunity to meet new people and develop language skills. Stay connected and engaged in a safe\, friendly environment by joining our ECCs. Adult language learners of all skill levels and all ages are welcome to attend. \nOur Seniors’ ECC takes place in person  at Immigrant Services. It is a chance to practise English\, exercise and socialize with others over light snacks. \nView PDF flyer. \n For more information\, contact Tarik at 519-836-2222\, ext. 230 or tBelmqaddem@is-gw.ca \n\nThank you for your interest in ISGW's English Conversation Circles. Registration for the Winter 2026 session is now closed. \nTo learn more about our English conversation circles please contact Tarik at 519-836-2222\, ext. 230
URL:https://is-gw.ca/event/seniors-english-conversation-circle-10/2026-02-17/
LOCATION:ISGW Office\, 104 Dawson Road\, Unit 102\, Guelph\, Ontario\, N1H 1A6\, Canada
CATEGORIES:English Conversation Circles
ATTACH;FMTTYPE=image/jpeg:https://is-gw.ca/wp-content/uploads/2024/09/ConnectLearn-featuregraphic.jpg
ORGANIZER;CN="Tarik Belmqaddem":MAILTO:tbelmqaddem@is-gw.ca
END:VEVENT
BEGIN:VEVENT
DTSTART;TZID=America/Toronto:20260217T130000
DTEND;TZID=America/Toronto:20260217T143000
DTSTAMP:20260421T183024
CREATED:20251126T190728Z
LAST-MODIFIED:20251218T143629Z
UID:10004691-1771333200-1771338600@is-gw.ca
SUMMARY:ESL Literacy Circle
DESCRIPTION:We start with ABC and 123 in this conversation circle.\nWould you like to practise the English alphabet and learn to write\, read and say new words in English? \nDuring this in-person  session\, participants will learn English from the beginning. \nView PDF flyer. \nThrough tailored lessons\, interactive workshops\, and personalized support\, participants will build confidence in reading\, writing\, and speaking English\, enhance their communication skills and connect with the community. \n\n Clients who want to participate in this English Conversation Circle must be referred by one of  ISGW’s language assessors. \n For more information\, contact Tarik at 519-836-2222\, ext. 230 or tBelmqaddem@is-gw.ca
URL:https://is-gw.ca/event/esl-literacy-circle-6/2026-02-17/
LOCATION:ISGW Office\, 104 Dawson Road\, Unit 102\, Guelph\, Ontario\, N1H 1A6\, Canada
CATEGORIES:English Conversation Circles
ATTACH;FMTTYPE=image/jpeg:https://is-gw.ca/wp-content/uploads/2024/09/ConnectLearn-featuregraphic.jpg
ORGANIZER;CN="Tarik Belmqaddem":MAILTO:tbelmqaddem@is-gw.ca
END:VEVENT
BEGIN:VEVENT
DTSTART;TZID=America/Toronto:20260217T173000
DTEND;TZID=America/Toronto:20260217T183000
DTSTAMP:20260421T183024
CREATED:20260203T153919Z
LAST-MODIFIED:20260203T154246Z
UID:10004750-1771349400-1771353000@is-gw.ca
SUMMARY:Selecting Courses for High School
DESCRIPTION:Students who will be entering Grade 9 in September 2026 and their parents/guardians are invited to join our SWIS team for a workshop about selecting courses for high school. \nWe will be joined by guest speaker Carolyn Frielink\, UGDSB to talk about: \n\nhigh school graduation requirements\nelective courses\nhow to navigate MyBluePrint to submit courses\nwhere to find registration forms\n\nView PDF flyer. \n\n Language interpretation is available\, based on need. Please register as soon as possible. \n Need help with technology? Let us know\, we can help! \n For more information or to register\, contact Asmait at 226-821-4454 or aafewerqi@is-gw.ca \n\nThank you for your interest in this session. Registration is now closed.
URL:https://is-gw.ca/event/selecting-courses-for-high-school/
LOCATION:Zoom
CATEGORIES:SWIS Information Sessions
ATTACH;FMTTYPE=image/jpeg:https://is-gw.ca/wp-content/uploads/2024/08/SWIS-feature-graphic-2024.jpg
ORGANIZER;CN="Asmait Afewerqi":MAILTO:aafewerqi@is-gw.ca
END:VEVENT
BEGIN:VEVENT
DTSTART;TZID=America/Toronto:20260217T173000
DTEND;TZID=America/Toronto:20260217T190000
DTSTAMP:20260421T183024
CREATED:20260123T151006Z
LAST-MODIFIED:20260203T154311Z
UID:10004746-1771349400-1771354800@is-gw.ca
SUMMARY:Declaración de Impuestos
DESCRIPTION:Acompáñenos en línea usando ZOOM \n¡Queremos que las declaraciónes de impuestos sean más fáciles para ustedes!\n¡Ven y aprende sobre sus IMPUESTOS individuales! \n⇒ ¿Qué tipo de información necesitaría?\n⇒ ¿Dónde puedo hacer mi declaración de impuestos gratis?\n⇒ ¿Qué tipos de gastos son deducibles y cuáles no?\n⇒ ¿Qué tipos de deducciones y créditos fiscales puedo esperar y cómo funcionan? \nPresentadora: Patricia Wohleser\, CPA\, CA \nView PDF flyer. \n\n ¿Necesita ayuda con ZOOM? Díganos y nosotros le podemos ayudar. \n Por favor contactar a Paola a pguzman@is-gw.ca\, 519-836-2222\, ext. 259 \n\nThank you for your interest in this session. Registration is now closed.
URL:https://is-gw.ca/event/declaracion-de-impuestos-4/
LOCATION:Zoom
CATEGORIES:Information Sessions
ATTACH;FMTTYPE=image/jpeg:https://is-gw.ca/wp-content/uploads/2025/03/OnlineWorkshop-featuregraphic.jpg
ORGANIZER;CN="Paola Guzman":MAILTO:pguzman@is-gw.ca
END:VEVENT
END:VCALENDAR