BEGIN:VCALENDAR
VERSION:2.0
PRODID:-//ISGW - ECPv6.13.0//NONSGML v1.0//EN
CALSCALE:GREGORIAN
METHOD:PUBLISH
X-WR-CALNAME:ISGW
X-ORIGINAL-URL:https://is-gw.ca
X-WR-CALDESC:Events for ISGW
REFRESH-INTERVAL;VALUE=DURATION:PT1H
X-Robots-Tag:noindex
X-PUBLISHED-TTL:PT1H
BEGIN:VTIMEZONE
TZID:America/Toronto
BEGIN:DAYLIGHT
TZOFFSETFROM:-0500
TZOFFSETTO:-0400
TZNAME:EDT
DTSTART:20260308T070000
END:DAYLIGHT
BEGIN:STANDARD
TZOFFSETFROM:-0400
TZOFFSETTO:-0500
TZNAME:EST
DTSTART:20261101T060000
END:STANDARD
END:VTIMEZONE
BEGIN:VEVENT
DTSTART;TZID=America/Toronto:20260219T110000
DTEND;TZID=America/Toronto:20260219T120000
DTSTAMP:20260421T183049
CREATED:20260211T172232Z
LAST-MODIFIED:20260212T151906Z
UID:10004753-1771498800-1771502400@is-gw.ca
SUMMARY:Home Childcare Business Basics
DESCRIPTION:Join us in person  at ISGW to talk about how to start a home childcare business through\nWee Watch with guest speaker Anita Compston\, Program Supervisor\, Wee Watch. \nAt this session we will talk about: \n\nWhat is Wee Watch\nOpportunities available\nHow to apply\n\nView PDF flyer. \n\n Space is limited. You must be registered to attend this session. \n Language interpretation is available\, based on need. Please register as soon as possible. \n For more information\, or help to register\, contact Malena at 519-836-2222\, ext. 257 or maramas@is-gw.ca \n\nThank you for your interest in this session. Registration is now closed.
URL:https://is-gw.ca/event/home-childcare-business-basics/
LOCATION:ISGW Office\, 104 Dawson Road\, Unit 102\, Guelph\, Ontario\, N1H 1A6\, Canada
CATEGORIES:Employment
ATTACH;FMTTYPE=image/jpeg:https://is-gw.ca/wp-content/uploads/2022/08/NeedAJob-graphic.jpg
ORGANIZER;CN="Malena Armas":MAILTO:marmas@is-gw.ca
END:VEVENT
BEGIN:VEVENT
DTSTART;TZID=America/Toronto:20260219T130000
DTEND;TZID=America/Toronto:20260219T140000
DTSTAMP:20260421T183049
CREATED:20260109T205919Z
LAST-MODIFIED:20260120T164139Z
UID:10004732-1771506000-1771509600@is-gw.ca
SUMMARY:Parenting in Canada
DESCRIPTION:Join our SWIS team\, in person  at ISGW\, to talk about parenting in Canada with guest speaker Priya Prince. \nAt this session\, we will talk about: \n\nParenting in a new country\nRaising children between two cultures\nPositive discipline\nParent-child communication\nChild development and needs\nInvolvement in school life\nParental role and shared responsibility\nScreen time and technology\nMental health and parenting\nTeen challenges and parenting teens\n\nView PDF flyer. \n\n Space is limited. You must be registered to attend this session. \n Language interpretation is available\, based on need. Please register as soon as possible. \n For more information or to register\, contact Merhawit at 226-332-7350 or mtukue@is-gw.ca \n\nThank you for your interest in the session. Registration is now closed.
URL:https://is-gw.ca/event/parenting-in-canada/
LOCATION:ISGW Office\, 104 Dawson Road\, Unit 102\, Guelph\, Ontario\, N1H 1A6\, Canada
CATEGORIES:SWIS Information Sessions
ATTACH;FMTTYPE=image/jpeg:https://is-gw.ca/wp-content/uploads/2024/08/SWIS-feature-graphic-2024.jpg
ORGANIZER;CN="Merhawit Tukue":MAILTO:mtukue@is-gw.ca
END:VEVENT
BEGIN:VEVENT
DTSTART;TZID=America/Toronto:20260219T140000
DTEND;TZID=America/Toronto:20260219T150000
DTSTAMP:20260421T183049
CREATED:20251218T142703Z
LAST-MODIFIED:20251218T143905Z
UID:10004727-1771509600-1771513200@is-gw.ca
SUMMARY:English Conversation Circle - online
DESCRIPTION:ISGW’s English Conversation Circles provide an opportunity to meet new people and develop language skills. Stay connected and engaged in a safe\, friendly environment by joining our ECCs. Adult language learners of all skill levels and all ages are welcome to attend. \nThis Thursday afternoon ECC takes place online  using Zoom. \nView PDF flyer. \n\n Need help with technology? Let us know\, we can help! \n For more information\, contact Tarik at 519-836-2222\, ext. 230 or tBelmqaddem@is-gw.ca \n\nThank you for your interest in ISGW's English Conversation Circles. Registration for the Winter 2026 session is now closed. \nTo learn more about our English conversation circles please contact Tarik at 519-836-2222\, ext. 230
URL:https://is-gw.ca/event/english-conversation-circle-online-21/2026-02-19/
LOCATION:Zoom
CATEGORIES:English Conversation Circles
ATTACH;FMTTYPE=image/jpeg:https://is-gw.ca/wp-content/uploads/2024/09/ConnectLearn-featuregraphic.jpg
ORGANIZER;CN="Tarik Belmqaddem":MAILTO:tbelmqaddem@is-gw.ca
END:VEVENT
BEGIN:VEVENT
DTSTART;TZID=America/Toronto:20260219T163000
DTEND;TZID=America/Toronto:20260219T173000
DTSTAMP:20260421T183049
CREATED:20251117T192240Z
LAST-MODIFIED:20251117T193904Z
UID:10004654-1771518600-1771522200@is-gw.ca
SUMMARY:Citizenship Test Preparation
DESCRIPTION:This online program is intended for Permanent Residents who have applied or are in the process of applying for Canadian citizenship. It is designed to help you prepare to take the Canadian citizenship test. \nUsing the Discover Canada: The Rights and Responsibilities of Citizenship study guide\, we will provide you with many opportunities to learn\, study\, and practice material that will be on your test. Participants should have already completed CLB level 4 for Listening and Speaking. \nThe program will be delivered online  using Zoom and runs for 8 weeks. The Discover Canada study guide will be provided for participants (either online or a hard copy). \nView PDF flyer. \n\n Need help with Zoom? Let us know\, we can help! \n For more information\, contact Elaine at 519-836-2222\, ext. 237 or EAnderson@is-gw.ca \n\n\n\n                \n                        \n                            Citizenship Test Preparation - April 2026\n                             \n							"*" indicates required fields \n                        \n                        Name*\n                            \n                            \n                                                    \n                                                    First\n                                                \n                            \n                            \n                                                    \n                                                    Last\n                                                \n                            \n                        Email*\n                                \n                                    \n                                    Enter Email\n                                \n                                \n                                    \n                                    Confirm Email\n                                \n                                \n                            Phone/Cellular Number*What is your status in Canada?\n			\n					\n					Permanent Resident\n			\n			\n					\n					Protected Person\n			\n			\n					\n					Refugee Claimant\n			\n			\n					\n					Canadian Citizen\n			\n			\n					\n					Other\n			Are you familiar with the online meeting platform Zoom?\n			\n					\n					Yes\n			\n			\n					\n					No\n			Do you need assistance using Zoom?\n			\n					\n					Yes\n			\n			\n					\n					No\n			Consent*By clicking the box below\, I consent to being contacted by Immigrant Services Guelph-Wellington (ISGW) by phone\, email and Zoom. I acknowledge that in attending ISGW’s online workshops\, my name and image may be visible to other ISGW clients\, volunteers and staff. Yes\, I consent.CAPTCHA
URL:https://is-gw.ca/event/citizenship-test-preparation-9/2026-02-19/
LOCATION:Zoom
CATEGORIES:ISGW Online Classes
ATTACH;FMTTYPE=image/jpeg:https://is-gw.ca/wp-content/uploads/2025/03/OnlineWorkshop-featuregraphic.jpg
ORGANIZER;CN="Elaine Anderson":MAILTO:EAnderson@is-gw.ca
END:VEVENT
END:VCALENDAR