BEGIN:VCALENDAR
VERSION:2.0
PRODID:-//ISGW - ECPv6.13.0//NONSGML v1.0//EN
CALSCALE:GREGORIAN
METHOD:PUBLISH
X-WR-CALNAME:ISGW
X-ORIGINAL-URL:https://is-gw.ca
X-WR-CALDESC:Events for ISGW
REFRESH-INTERVAL;VALUE=DURATION:PT1H
X-Robots-Tag:noindex
X-PUBLISHED-TTL:PT1H
BEGIN:VTIMEZONE
TZID:America/Toronto
BEGIN:DAYLIGHT
TZOFFSETFROM:-0500
TZOFFSETTO:-0400
TZNAME:EDT
DTSTART:20260308T070000
END:DAYLIGHT
BEGIN:STANDARD
TZOFFSETFROM:-0400
TZOFFSETTO:-0500
TZNAME:EST
DTSTART:20261101T060000
END:STANDARD
END:VTIMEZONE
BEGIN:VEVENT
DTSTART;TZID=America/Toronto:20260221T100000
DTEND;TZID=America/Toronto:20260221T123000
DTSTAMP:20260421T182231
CREATED:20251201T192326Z
LAST-MODIFIED:20251201T193007Z
UID:10004713-1771668000-1771677000@is-gw.ca
SUMMARY:Orientation to Ontario for Women\, in Tigrinya
DESCRIPTION:This workshop is for women who speak Tigrinya. \nJoin us for an amazing opportunity to learn valuable information about Ontario and the Guelph community!\nWe will have special guest speakers joining us. Topics will include: Getting to Know Canada and Ontario\, Living in Your New Community\, Education and Training\, Working and Business\, Money and Personal Finances and People and the Environment. \nEveryone is welcome\, including visitors to Canada! Plan to register and attend all 3 sessions! \nRefreshments will be provided. \nView PDF flyer. \n\nThese sessions will take place in person  at ISGW and will be presented in  Tigrinya. \n For questions or help registering\, contact Nahom Tekle by email: O2OISGW@is-gw.ca or call: 519-836-2222 ext. 263 \n\nThank you for your interest in this session. Registration is now closed.
URL:https://is-gw.ca/event/orientation-to-ontario-for-women-in-tigrinya-3/2026-02-21/
LOCATION:ISGW Office\, 104 Dawson Road\, Unit 102\, Guelph\, Ontario\, N1H 1A6\, Canada
CATEGORIES:Orientation to Ontario
ATTACH;FMTTYPE=image/jpeg:https://is-gw.ca/wp-content/uploads/2025/05/O2OISGW-webinarlogos.jpg
ORGANIZER;CN="Nahom - O2O":MAILTO:O2OISGW@is-gw.ca
END:VEVENT
END:VCALENDAR