BEGIN:VCALENDAR
VERSION:2.0
PRODID:-//ISGW - ECPv6.13.0//NONSGML v1.0//EN
CALSCALE:GREGORIAN
METHOD:PUBLISH
X-ORIGINAL-URL:https://is-gw.ca
X-WR-CALDESC:Events for ISGW
REFRESH-INTERVAL;VALUE=DURATION:PT1H
X-Robots-Tag:noindex
X-PUBLISHED-TTL:PT1H
BEGIN:VTIMEZONE
TZID:America/Toronto
BEGIN:DAYLIGHT
TZOFFSETFROM:-0500
TZOFFSETTO:-0400
TZNAME:EDT
DTSTART:20260308T070000
END:DAYLIGHT
BEGIN:STANDARD
TZOFFSETFROM:-0400
TZOFFSETTO:-0500
TZNAME:EST
DTSTART:20261101T060000
END:STANDARD
END:VTIMEZONE
BEGIN:VEVENT
DTSTART;TZID=America/Toronto:20260226T123000
DTEND;TZID=America/Toronto:20260226T133000
DTSTAMP:20260421T170020
CREATED:20260211T191536Z
LAST-MODIFIED:20260212T175231Z
UID:10004754-1772109000-1772112600@is-gw.ca
SUMMARY:Women's Wellness
DESCRIPTION:Self-care means taking the time to do things that help you live well and improve both your physical health and mental health.\nJoin us\, in person  at ISGW\, for an empowering session focused on supporting women’s mental and physical well-being. This workshop will explore practical strategies for managing stress\, building emotional resilience\, prioritizing self-care\, and maintaining physical health in our busy lives. Together\, we’ll create space to reflect\, connect\, and learn simple tools that promote balance\, confidence\, and overall wellness. \nJoin us! \nBecause taking care of yourself isn’t a luxury — it’s essential.  \nView PDF flyer. \n\n Space is limited. You must be registered to attend this session. \n Interpretation is available based on need. Please register as soon as possible and be sure to answer the interpretation question when you register. \n For more information or help to register\, contact Lindsay 519-836-2222\, ext. 242 or lriddell@is-gw.ca \n\nThank you for your interest in this session. Registration is now closed.
URL:https://is-gw.ca/event/womens-wellness/
LOCATION:ISGW Office\, 104 Dawson Road\, Unit 102\, Guelph\, Ontario\, N1H 1A6\, Canada
CATEGORIES:Information Sessions
ATTACH;FMTTYPE=image/jpeg:https://is-gw.ca/wp-content/uploads/2025/04/InPersonWorkshop-featuregraphic.jpg
ORGANIZER;CN="Lindsay Riddell":MAILTO:lriddell@is-gw.ca
END:VEVENT
BEGIN:VEVENT
DTSTART;TZID=America/Toronto:20260226T140000
DTEND;TZID=America/Toronto:20260226T150000
DTSTAMP:20260421T170020
CREATED:20251218T142703Z
LAST-MODIFIED:20251218T143905Z
UID:10004728-1772114400-1772118000@is-gw.ca
SUMMARY:English Conversation Circle - online
DESCRIPTION:ISGW’s English Conversation Circles provide an opportunity to meet new people and develop language skills. Stay connected and engaged in a safe\, friendly environment by joining our ECCs. Adult language learners of all skill levels and all ages are welcome to attend. \nThis Thursday afternoon ECC takes place online  using Zoom. \nView PDF flyer. \n\n Need help with technology? Let us know\, we can help! \n For more information\, contact Tarik at 519-836-2222\, ext. 230 or tBelmqaddem@is-gw.ca \n\nThank you for your interest in ISGW's English Conversation Circles. Registration for the Winter 2026 session is now closed. \nTo learn more about our English conversation circles please contact Tarik at 519-836-2222\, ext. 230
URL:https://is-gw.ca/event/english-conversation-circle-online-21/2026-02-26/
LOCATION:Zoom
CATEGORIES:English Conversation Circles
ATTACH;FMTTYPE=image/jpeg:https://is-gw.ca/wp-content/uploads/2024/09/ConnectLearn-featuregraphic.jpg
ORGANIZER;CN="Tarik Belmqaddem":MAILTO:tbelmqaddem@is-gw.ca
END:VEVENT
BEGIN:VEVENT
DTSTART;TZID=America/Toronto:20260226T160000
DTEND;TZID=America/Toronto:20260226T183000
DTSTAMP:20260421T170020
CREATED:20260115T193858Z
LAST-MODIFIED:20260120T174214Z
UID:10004734-1772121600-1772130600@is-gw.ca
SUMMARY:Orientation to Ontario for International Students
DESCRIPTION:This workshop is for international students. \nEveryone is welcome\, including visitors to Canada! \nThe workshop takes place over 2 sessions (Wednesday and Thursday) online  using Zoom. \nJoin us for an amazing opportunity to learn valuable information about Ontario and the Guelph community! \nWe will have special guest speakers to talk about Express Entry and Employment and Community Involvement. Topics will include: Getting to Know Canada and Ontario\, Living in Your New Community\, Education and Training\, Working and Business\, Money and Personal Finances and People and the Environment. \n Registration is required. Plan to register and attend both sessions! \n Attendees will receive a participation certificate and a workbook with information about important topics. \nView PDF flyer. \n For more information contact Nahom Tekle at O2OISGW@is-gw.ca or 519-836-2222\, ext. 263 \n\nThank you for your interest in this session. Registration is now closed.
URL:https://is-gw.ca/event/orientation-to-ontario-for-international-students-6/2026-02-26/
LOCATION:Zoom
CATEGORIES:Orientation to Ontario
ATTACH;FMTTYPE=image/jpeg:https://is-gw.ca/wp-content/uploads/2021/11/O2O-image.jpg
ORGANIZER;CN="Nahom - O2O":MAILTO:O2OISGW@is-gw.ca
END:VEVENT
BEGIN:VEVENT
DTSTART;TZID=America/Toronto:20260226T163000
DTEND;TZID=America/Toronto:20260226T173000
DTSTAMP:20260421T170020
CREATED:20251117T192240Z
LAST-MODIFIED:20251117T193904Z
UID:10004655-1772123400-1772127000@is-gw.ca
SUMMARY:Citizenship Test Preparation
DESCRIPTION:This online program is intended for Permanent Residents who have applied or are in the process of applying for Canadian citizenship. It is designed to help you prepare to take the Canadian citizenship test. \nUsing the Discover Canada: The Rights and Responsibilities of Citizenship study guide\, we will provide you with many opportunities to learn\, study\, and practice material that will be on your test. Participants should have already completed CLB level 4 for Listening and Speaking. \nThe program will be delivered online  using Zoom and runs for 8 weeks. The Discover Canada study guide will be provided for participants (either online or a hard copy). \nView PDF flyer. \n\n Need help with Zoom? Let us know\, we can help! \n For more information\, contact Elaine at 519-836-2222\, ext. 237 or EAnderson@is-gw.ca \n\n\n\n                \n                        \n                            Citizenship Test Preparation - April 2026\n                             \n							"*" indicates required fields \n                        \n                        Name*\n                            \n                            \n                                                    \n                                                    First\n                                                \n                            \n                            \n                                                    \n                                                    Last\n                                                \n                            \n                        Email*\n                                \n                                    \n                                    Enter Email\n                                \n                                \n                                    \n                                    Confirm Email\n                                \n                                \n                            Phone/Cellular Number*What is your status in Canada?\n			\n					\n					Permanent Resident\n			\n			\n					\n					Protected Person\n			\n			\n					\n					Refugee Claimant\n			\n			\n					\n					Canadian Citizen\n			\n			\n					\n					Other\n			Are you familiar with the online meeting platform Zoom?\n			\n					\n					Yes\n			\n			\n					\n					No\n			Do you need assistance using Zoom?\n			\n					\n					Yes\n			\n			\n					\n					No\n			Consent*By clicking the box below\, I consent to being contacted by Immigrant Services Guelph-Wellington (ISGW) by phone\, email and Zoom. I acknowledge that in attending ISGW’s online workshops\, my name and image may be visible to other ISGW clients\, volunteers and staff. Yes\, I consent.CAPTCHA
URL:https://is-gw.ca/event/citizenship-test-preparation-9/2026-02-26/
LOCATION:Zoom
CATEGORIES:ISGW Online Classes
ATTACH;FMTTYPE=image/jpeg:https://is-gw.ca/wp-content/uploads/2025/03/OnlineWorkshop-featuregraphic.jpg
ORGANIZER;CN="Elaine Anderson":MAILTO:EAnderson@is-gw.ca
END:VEVENT
BEGIN:VEVENT
DTSTART;TZID=America/Toronto:20260226T163000
DTEND;TZID=America/Toronto:20260226T173000
DTSTAMP:20260421T170020
CREATED:20260204T200230Z
LAST-MODIFIED:20260205T162524Z
UID:10004751-1772123400-1772127000@is-gw.ca
SUMMARY:Youth Chat: Volunteerism
DESCRIPTION:Join us in person at ISGW to talk about volunteerism and volunteer opportunities. \nAt this session we’re pleased to have guest speakers Fnan and Nagisa from Starling Community Services. \nWe will talk about: \n\nthe importance of community involvement\nbuilding leadership skills\nsummer jobs\ngaining work experience.\n\nView PDF flyer. \n\n You must register in advance to attend the session. \n Language interpretation is available\, based on need. Please register as soon as possible. \n For more information contact Elilta at 226-332-0790 or ehabte@is-gw.ca \n\nThank you for your interest in this session. Registration is now closed.
URL:https://is-gw.ca/event/youth-chat-volunteerism-2/
LOCATION:ISGW Office\, 104 Dawson Road\, Unit 102\, Guelph\, Ontario\, N1H 1A6\, Canada
CATEGORIES:SWIS Information Sessions,Youth
ATTACH;FMTTYPE=image/jpeg:https://is-gw.ca/wp-content/uploads/2024/04/YouthChat-featuregraphic.jpg
ORGANIZER;CN="Elilta Habte":MAILTO:ehabte@is-gw.ca
END:VEVENT
END:VCALENDAR