BEGIN:VCALENDAR
VERSION:2.0
PRODID:-//ISGW - ECPv6.13.0//NONSGML v1.0//EN
CALSCALE:GREGORIAN
METHOD:PUBLISH
X-ORIGINAL-URL:https://is-gw.ca
X-WR-CALDESC:Events for ISGW
REFRESH-INTERVAL;VALUE=DURATION:PT1H
X-Robots-Tag:noindex
X-PUBLISHED-TTL:PT1H
BEGIN:VTIMEZONE
TZID:America/Toronto
BEGIN:DAYLIGHT
TZOFFSETFROM:-0500
TZOFFSETTO:-0400
TZNAME:EDT
DTSTART:20260308T070000
END:DAYLIGHT
BEGIN:STANDARD
TZOFFSETFROM:-0400
TZOFFSETTO:-0500
TZNAME:EST
DTSTART:20261101T060000
END:STANDARD
END:VTIMEZONE
BEGIN:VEVENT
DTSTART;TZID=America/Toronto:20260306T100000
DTEND;TZID=America/Toronto:20260306T110000
DTSTAMP:20260421T165227
CREATED:20260223T195107Z
LAST-MODIFIED:20260224T140606Z
UID:10004763-1772791200-1772794800@is-gw.ca
SUMMARY:New Changes to the Interim Federal Health Program (IFHP)
DESCRIPTION:As of May 1\, 2026\, the Interim Federal Health Program (IFHP) is introducing co-payments on supplemental health benefits. \nJoin us online\, using Zoom to learn about the upcoming changes and how they may affect you. \nTopics to be covered include: \n\nWhat’s the current IFH coverage?\nHow long can I use IFH as a newcomer to Canada?\nHow to find service providers who accept IFH?\nWhat happens after May 2026 with my IFH coverage?\nOptions if I can’t afford to pay for my part?\n\nView PDF flyer. \n\n Interpretation is available based on need. Please register as soon as possible. \n Need help with technology? Let us know\, we can help! \n For more information\, contact Nahom at 519-836-2222\, ext. 263 or ntekle@is-gw.ca \n\nThank you for your interest in this session. Registration is now closed.
URL:https://is-gw.ca/event/new-changes-to-the-interim-federal-health-program-ifhp/
LOCATION:Zoom
CATEGORIES:Information Sessions
ATTACH;FMTTYPE=image/jpeg:https://is-gw.ca/wp-content/uploads/2025/03/OnlineWorkshop-featuregraphic.jpg
ORGANIZER;CN="Nahom Tekle":MAILTO:ntekle@is-gw.ca
END:VEVENT
END:VCALENDAR