BEGIN:VCALENDAR
VERSION:2.0
PRODID:-//ISGW - ECPv6.13.0//NONSGML v1.0//EN
CALSCALE:GREGORIAN
METHOD:PUBLISH
X-WR-CALNAME:ISGW
X-ORIGINAL-URL:https://is-gw.ca
X-WR-CALDESC:Events for ISGW
REFRESH-INTERVAL;VALUE=DURATION:PT1H
X-Robots-Tag:noindex
X-PUBLISHED-TTL:PT1H
BEGIN:VTIMEZONE
TZID:America/Toronto
BEGIN:DAYLIGHT
TZOFFSETFROM:-0500
TZOFFSETTO:-0400
TZNAME:EDT
DTSTART:20260308T070000
END:DAYLIGHT
BEGIN:STANDARD
TZOFFSETFROM:-0400
TZOFFSETTO:-0500
TZNAME:EST
DTSTART:20261101T060000
END:STANDARD
END:VTIMEZONE
BEGIN:VEVENT
DTSTART;TZID=America/Toronto:20260311T100000
DTEND;TZID=America/Toronto:20260311T110000
DTSTAMP:20260421T165739
CREATED:20251126T191455Z
LAST-MODIFIED:20251218T143731Z
UID:10004703-1773223200-1773226800@is-gw.ca
SUMMARY:English Conversation Circle with GPL Main Library – online
DESCRIPTION:English conversation circles provide opportunities for newcomers to practice conversational English skills in a relaxed and friendly environment. \nEvery 2 weeks\, a staff member from Guelph Public Library – Main Library joins us to share an overview of library services and programs available to newcomers. During these sessions\, participants can receive assistance in applying for a library card. \nJoin us online  using Zoom for this English conversation circle. \nView PDF flyer. \n\n Need help with technology? Let us know\, we can help! \n For more information\, contact Tarik at 519-836-2222\, ext. 230 or tBelmqaddem@is-gw.ca \n\nThank you for your interest in ISGW's English Conversation Circles. Registration for the Winter 2026 session is now closed. \nTo learn more about our English conversation circles please contact Tarik at 519-836-2222\, ext. 230
URL:https://is-gw.ca/event/english-conversation-circle-with-gpl-main-library-online-7/2026-03-11/
LOCATION:Zoom
CATEGORIES:English Conversation Circles
ATTACH;FMTTYPE=image/jpeg:https://is-gw.ca/wp-content/uploads/2024/09/ConnectLearn-featuregraphic.jpg
ORGANIZER;CN="Tarik Belmqaddem":MAILTO:tbelmqaddem@is-gw.ca
END:VEVENT
BEGIN:VEVENT
DTSTART;TZID=America/Toronto:20260311T110000
DTEND;TZID=America/Toronto:20260311T120000
DTSTAMP:20260421T165739
CREATED:20260223T200337Z
LAST-MODIFIED:20260309T134902Z
UID:10004764-1773226800-1773230400@is-gw.ca
SUMMARY:Women in the Workplace
DESCRIPTION:Join us in person  at ISGW to celebrate International Women’s Day with an information session about women in the workplace. The session will also include an activity with guest speaker Renata E. Mares\, Founder/Consultant\, Adaptable Folks. \nDiscussion topics will include: \n\nThe challenges that gender\, race\, ethnicity\, immigration/refugee status\, age\, etc. can create in the workplace\nHow to identify transferable skills\nConfidence & Self-Advocacy\nCommunication\, Boundaries & Conflict\nCareer Growth\n\nView PDF flyer. \n\n Space is limited. You must be registered to attend this session. \n Language interpretation is available\, based on need. Please register as soon as possible. \n For more information\, or help to register\, contact Malena at 519-836-2222\, ext. 257\nor marmas@is-gw.ca \n\nThank you for your interest in this session. Registration is now closed.
URL:https://is-gw.ca/event/women-in-the-workplace/
LOCATION:ISGW Office\, 104 Dawson Road\, Unit 102\, Guelph\, Ontario\, N1H 1A6\, Canada
CATEGORIES:Employment
ATTACH;FMTTYPE=image/jpeg:https://is-gw.ca/wp-content/uploads/2022/08/NeedAJob-graphic.jpg
ORGANIZER;CN="Malena Armas":MAILTO:marmas@is-gw.ca
END:VEVENT
BEGIN:VEVENT
DTSTART;TZID=America/Toronto:20260311T130000
DTEND;TZID=America/Toronto:20260311T143000
DTSTAMP:20260421T165739
CREATED:20251126T192406Z
LAST-MODIFIED:20251218T143811Z
UID:10004712-1773234000-1773239400@is-gw.ca
SUMMARY:Wednesday English Conversation Circle
DESCRIPTION:ISGW’s English Conversation Circles provide an opportunity to meet new people and develop language skills. Stay connected and engaged in a safe\, friendly environment by joining our ECCs. Adult language learners of all skill levels and all ages are welcome to attend. \nThis Wednesday afternoon ECC takes place in person  at ISGW. \nView PDF flyer. \n\n Space is limited. You must be registered to attend this ECC. \n For more information\, contact Tarik at 519-836-2222\, ext. 230 or tBelmqaddem@is-gw.ca \n\nThank you for your interest in ISGW's English Conversation Circles. Registration for the Winter 2026 session is now closed. \nTo learn more about our English conversation circles please contact Tarik at 519-836-2222\, ext. 230
URL:https://is-gw.ca/event/wednesday-english-conversation-circle-3/2026-03-11/
LOCATION:ISGW Office\, 104 Dawson Road\, Unit 102\, Guelph\, Ontario\, N1H 1A6\, Canada
CATEGORIES:English Conversation Circles
ATTACH;FMTTYPE=image/jpeg:https://is-gw.ca/wp-content/uploads/2024/09/ConnectLearn-featuregraphic.jpg
ORGANIZER;CN="Tarik Belmqaddem":MAILTO:tbelmqaddem@is-gw.ca
END:VEVENT
END:VCALENDAR