BEGIN:VCALENDAR
VERSION:2.0
PRODID:-//ISGW - ECPv6.13.0//NONSGML v1.0//EN
CALSCALE:GREGORIAN
METHOD:PUBLISH
X-WR-CALNAME:ISGW
X-ORIGINAL-URL:https://is-gw.ca
X-WR-CALDESC:Events for ISGW
REFRESH-INTERVAL;VALUE=DURATION:PT1H
X-Robots-Tag:noindex
X-PUBLISHED-TTL:PT1H
BEGIN:VTIMEZONE
TZID:America/Toronto
BEGIN:DAYLIGHT
TZOFFSETFROM:-0500
TZOFFSETTO:-0400
TZNAME:EDT
DTSTART:20260308T070000
END:DAYLIGHT
BEGIN:STANDARD
TZOFFSETFROM:-0400
TZOFFSETTO:-0500
TZNAME:EST
DTSTART:20261101T060000
END:STANDARD
END:VTIMEZONE
BEGIN:VEVENT
DTSTART;TZID=America/Toronto:20260318T130000
DTEND;TZID=America/Toronto:20260318T160000
DTSTAMP:20260421T165602
CREATED:20251205T192611Z
LAST-MODIFIED:20260107T150552Z
UID:10004717-1773838800-1773849600@is-gw.ca
SUMMARY:Dental Health with WDG Public Health
DESCRIPTION:Join us in person  at ISGW to talk about dental health with Wellington Dufferin Guelph Public Health. \nFree dental screenings will be available for children and youth (aged 17 and under). \nDuring the session\, we will: \n\nAnswer questions and address concerns related to dental and oral health\nHelp families determine whether they qualify for free dental care\nAssist families with applying for the Canadian Dental Care Program\n\nFamilies are encouraged to bring a health card and Social Insurance Number (for each person who has one). Please note: a SIN number is needed to apply for the Canadian Dental Care Program. \nView PDF flyer. \n\n Space is limited. You must be registered to attend this session. \n Language interpretation is available\, based on need. Please register by as soon as possible. \n For more information\, contact Nataliia at 519-836-2222\, ext. 235 or ngonyk@is-gw.ca \n\nThank you for your interest in this session. Registration is now closed.
URL:https://is-gw.ca/event/dental-health-with-wdg-public-health/
LOCATION:ISGW Office\, 104 Dawson Road\, Unit 102\, Guelph\, Ontario\, N1H 1A6\, Canada
CATEGORIES:Information Sessions
ATTACH;FMTTYPE=image/jpeg:https://is-gw.ca/wp-content/uploads/2025/04/InPersonWorkshop-featuregraphic.jpg
ORGANIZER;CN="Nataliia Gonyk":MAILTO:ngonyk@is-gw.ca
END:VEVENT
END:VCALENDAR