BEGIN:VCALENDAR
VERSION:2.0
PRODID:-//ISGW - ECPv6.13.0//NONSGML v1.0//EN
CALSCALE:GREGORIAN
METHOD:PUBLISH
X-WR-CALNAME:ISGW
X-ORIGINAL-URL:https://is-gw.ca
X-WR-CALDESC:Events for ISGW
REFRESH-INTERVAL;VALUE=DURATION:PT1H
X-Robots-Tag:noindex
X-PUBLISHED-TTL:PT1H
BEGIN:VTIMEZONE
TZID:America/Toronto
BEGIN:DAYLIGHT
TZOFFSETFROM:-0500
TZOFFSETTO:-0400
TZNAME:EDT
DTSTART:20260308T070000
END:DAYLIGHT
BEGIN:STANDARD
TZOFFSETFROM:-0400
TZOFFSETTO:-0500
TZNAME:EST
DTSTART:20261101T060000
END:STANDARD
END:VTIMEZONE
BEGIN:VEVENT
DTSTART;TZID=America/Toronto:20260319T130000
DTEND;TZID=America/Toronto:20260319T150000
DTSTAMP:20260421T165638
CREATED:20260309T160139Z
LAST-MODIFIED:20260310T192521Z
UID:10004766-1773925200-1773932400@is-gw.ca
SUMMARY:Getting Ready for Junior Kindergarten at St. Joseph Catholic School
DESCRIPTION:If you have a child starting JK in September 2026 at St. Joseph Catholic Elementary School\, this session is for you!\nJoin our SWIS team in person  at Immigrant Services to learn and ask questions about: \n\nStarting JK\, including what your child will need for the first day of school\nSWIS services and how we support newcomer families in schools.\nSchool policies and expectations\nHow to set up the school portal/account used for school communication\n\nView PDF flyer. \n\n Children are welcome! Fun activities for kids will be available. \n Space is limited. You must be registered to attend this session. \n For more information or help to register\, contact Asmait at 226-821-4454 or aafewerqi@is-gw.ca \n\nThank you for your interest in the session. Registration is now closed.
URL:https://is-gw.ca/event/getting-ready-for-junior-kindergarten-at-st-joseph-catholic-school/
LOCATION:ISGW Office\, 104 Dawson Road\, Unit 102\, Guelph\, Ontario\, N1H 1A6\, Canada
CATEGORIES:SWIS Information Sessions
ATTACH;FMTTYPE=image/jpeg:https://is-gw.ca/wp-content/uploads/2024/08/SWIS-feature-graphic-2024.jpg
ORGANIZER;CN="Asmait Afewerqi":MAILTO:aafewerqi@is-gw.ca
END:VEVENT
BEGIN:VEVENT
DTSTART;TZID=America/Toronto:20260319T170000
DTEND;TZID=America/Toronto:20260319T180000
DTSTAMP:20260421T165638
CREATED:20260302T193154Z
LAST-MODIFIED:20260304T142816Z
UID:10004765-1773939600-1773943200@is-gw.ca
SUMMARY:Empowering New Canadian Women\, Know your Rights and Responsibilities: in Tigrinya
DESCRIPTION:This session will be presented in Tigrinya. \nTigrinya-speaking families are invited to join our SWIS team\, online using Zoom\, to talk about: \nKnowing your Rights: \n\nEquality\nLegal protection\nEmployment rights\nHealthcare\nEducation\n\nKnowing your Responsibilities: \n\nFollow Canadian laws and regulations\nParticipate in society (vote\, work\, volunteer)\nSupport your family and children\nWork towards financial independence\nLearn English for better opportunity\n\nView PDF flyer. \n\n Need help with technology? Let us know\, we can help! \n For more information or to register\, contact Merhawit at 226-332-7350 or mtukue@is-gw.ca \n\nThank you for your interest in this session. Registration is now closed.
URL:https://is-gw.ca/event/empowering-new-canadian-woman-know-your-rights-and-responsibilities-in-tigrinya/
LOCATION:Zoom
CATEGORIES:SWIS Information Sessions
ATTACH;FMTTYPE=image/jpeg:https://is-gw.ca/wp-content/uploads/2024/08/SWIS-feature-graphic-2024.jpg
ORGANIZER;CN="Merhawit Tukue":MAILTO:mtukue@is-gw.ca
END:VEVENT
END:VCALENDAR