BEGIN:VCALENDAR
VERSION:2.0
PRODID:-//ISGW - ECPv6.13.0//NONSGML v1.0//EN
CALSCALE:GREGORIAN
METHOD:PUBLISH
X-WR-CALNAME:ISGW
X-ORIGINAL-URL:https://is-gw.ca
X-WR-CALDESC:Events for ISGW
REFRESH-INTERVAL;VALUE=DURATION:PT1H
X-Robots-Tag:noindex
X-PUBLISHED-TTL:PT1H
BEGIN:VTIMEZONE
TZID:America/Toronto
BEGIN:DAYLIGHT
TZOFFSETFROM:-0500
TZOFFSETTO:-0400
TZNAME:EDT
DTSTART:20260308T070000
END:DAYLIGHT
BEGIN:STANDARD
TZOFFSETFROM:-0400
TZOFFSETTO:-0500
TZNAME:EST
DTSTART:20261101T060000
END:STANDARD
END:VTIMEZONE
BEGIN:VEVENT
DTSTART;TZID=America/Toronto:20260325T170000
DTEND;TZID=America/Toronto:20260325T180000
DTSTAMP:20260421T164942
CREATED:20260219T203903Z
LAST-MODIFIED:20260219T211837Z
UID:10004759-1774458000-1774461600@is-gw.ca
SUMMARY:Summer Camps and Activities for Families in Wellington and Dufferin Counties
DESCRIPTION:Join our SWIS team  online\, using Zoom\, to learn about the summer camps and activities available for children in your area. \nWe will talk about: \n\nThe benefits for children of attending camp\nHow to find and choose a camp for your child(ren)\nAge eligibility\nHow to register and the cost\nFinancial assistance programs available\n\nView PDF flyer. \n\n Language interpretation is available\, based on need. Please register by Friday\, March 20 and be sure to complete the interpretation section of the registration form. \n Need help with Zoom? Let us know\, we can help! \n For more information or to register\, contact Binaya at 226-332-0783 or bnyaupane@is-gw.ca \n\nThank you for your interest in this session. Registration is now closed.
URL:https://is-gw.ca/event/summer-camps-and-activities-for-families-in-wellington-and-dufferin-counties-2/
LOCATION:Zoom
CATEGORIES:SWIS Information Sessions
ATTACH;FMTTYPE=image/jpeg:https://is-gw.ca/wp-content/uploads/2024/08/SWIS-feature-graphic-2024.jpg
ORGANIZER;CN="Binaya Nyaupane":MAILTO:bnyaupane@is-gw.ca
END:VEVENT
END:VCALENDAR