BEGIN:VCALENDAR
VERSION:2.0
PRODID:-//ISGW - ECPv6.13.0//NONSGML v1.0//EN
CALSCALE:GREGORIAN
METHOD:PUBLISH
X-WR-CALNAME:ISGW
X-ORIGINAL-URL:https://is-gw.ca
X-WR-CALDESC:Events for ISGW
REFRESH-INTERVAL;VALUE=DURATION:PT1H
X-Robots-Tag:noindex
X-PUBLISHED-TTL:PT1H
BEGIN:VTIMEZONE
TZID:America/Toronto
BEGIN:DAYLIGHT
TZOFFSETFROM:-0500
TZOFFSETTO:-0400
TZNAME:EDT
DTSTART:20260308T070000
END:DAYLIGHT
BEGIN:STANDARD
TZOFFSETFROM:-0400
TZOFFSETTO:-0500
TZNAME:EST
DTSTART:20261101T060000
END:STANDARD
END:VTIMEZONE
BEGIN:VEVENT
DTSTART;TZID=America/Toronto:20260327T103000
DTEND;TZID=America/Toronto:20260327T113000
DTSTAMP:20260421T164941
CREATED:20260219T214044Z
LAST-MODIFIED:20260219T214233Z
UID:10004760-1774607400-1774611000@is-gw.ca
SUMMARY:Employment Insurance (EI) Applications
DESCRIPTION:Join us in person  at ISGW\, to learn about applying for employment insurance with guest speaker Jenny Trang from Service Canada. \nAt this session\, we will talk about: \n\nHow to apply\nRequirements\nWorking while on claim\n\nView PDF flyer. \n\n Space is limited. You must be registered to attend this session! \n Language interpretation is available\, based on need. Please register as soon as possible. \n For more information\, or help to register\, contact Malena 519-836-2222\, ext. 257 or marmas@is-gw.ca \n\nThank you for your interest in this session. Registration is now closed.
URL:https://is-gw.ca/event/employment-insurance-ei-applications-4/
LOCATION:ISGW Office\, 104 Dawson Road\, Unit 102\, Guelph\, Ontario\, N1H 1A6\, Canada
CATEGORIES:Employment
ATTACH;FMTTYPE=image/jpeg:https://is-gw.ca/wp-content/uploads/2022/08/NeedAJob-graphic.jpg
ORGANIZER;CN="Malena Armas":MAILTO:marmas@is-gw.ca
END:VEVENT
END:VCALENDAR