BEGIN:VCALENDAR
VERSION:2.0
PRODID:-//ISGW - ECPv6.13.0//NONSGML v1.0//EN
CALSCALE:GREGORIAN
METHOD:PUBLISH
X-ORIGINAL-URL:https://is-gw.ca
X-WR-CALDESC:Events for ISGW
REFRESH-INTERVAL;VALUE=DURATION:PT1H
X-Robots-Tag:noindex
X-PUBLISHED-TTL:PT1H
BEGIN:VTIMEZONE
TZID:America/Toronto
BEGIN:DAYLIGHT
TZOFFSETFROM:-0500
TZOFFSETTO:-0400
TZNAME:EDT
DTSTART:20260308T070000
END:DAYLIGHT
BEGIN:STANDARD
TZOFFSETFROM:-0400
TZOFFSETTO:-0500
TZNAME:EST
DTSTART:20261101T060000
END:STANDARD
END:VTIMEZONE
BEGIN:VEVENT
DTSTART;TZID=America/Toronto:20260331T110000
DTEND;TZID=America/Toronto:20260331T130000
DTSTAMP:20260421T153014
CREATED:20260219T195934Z
LAST-MODIFIED:20260327T184619Z
UID:10004758-1774954800-1774962000@is-gw.ca
SUMMARY:CANCELLED - Comer en Canadá: cómo orientarse en los alimentos locales\, las tiendas y las etiquetas
DESCRIPTION:Please be aware that this session has been cancelled. \n Sesión presencial en ISWG. \n\nCómo funcionan los supermercados (pasillos\, marcas\, opciones económicas)\nCómo leer las etiquetas de los alimentos de forma sencilla (ingredientes\, azúcar\, sal)\nAlimentación saludable con un presupuesto limitado\nAlimentos comunes con alto contenido de azúcar y sal (jugos\, salsas\, snacks)\nIdeas de comidas sencillas y saludables usando ingredientes familiars\n\nNombre de la presentadora: Paulina Morelli\, Ciencias de la Nutrición y de la Alimentación \nView PDF flyer. \n\n Los cupos son limitados. Debe registrarse para poder asistir a esta sesión \n Por favor contactar a Paola a pguzman@is-gw.ca\, 519-836-2222\, ext. 259 \n\nThank you for your interest in this session. Registration is now closed.
URL:https://is-gw.ca/event/comer-en-canada-como-orientarse-en-los-alimentos-locales-las-tiendas-y-las-etiquetas/
LOCATION:ISGW Office\, 104 Dawson Road\, Unit 102\, Guelph\, Ontario\, N1H 1A6\, Canada
CATEGORIES:Information Sessions
ATTACH;FMTTYPE=image/jpeg:https://is-gw.ca/wp-content/uploads/2025/04/InPersonWorkshop-featuregraphic.jpg
ORGANIZER;CN="Paola Guzman":MAILTO:pguzman@is-gw.ca
END:VEVENT
END:VCALENDAR