BEGIN:VCALENDAR
VERSION:2.0
PRODID:-//ISGW - ECPv6.13.0//NONSGML v1.0//EN
CALSCALE:GREGORIAN
METHOD:PUBLISH
X-WR-CALNAME:ISGW
X-ORIGINAL-URL:https://is-gw.ca
X-WR-CALDESC:Events for ISGW
REFRESH-INTERVAL;VALUE=DURATION:PT1H
X-Robots-Tag:noindex
X-PUBLISHED-TTL:PT1H
BEGIN:VTIMEZONE
TZID:America/Toronto
BEGIN:DAYLIGHT
TZOFFSETFROM:-0500
TZOFFSETTO:-0400
TZNAME:EDT
DTSTART:20260308T070000
END:DAYLIGHT
BEGIN:STANDARD
TZOFFSETFROM:-0400
TZOFFSETTO:-0500
TZNAME:EST
DTSTART:20261101T060000
END:STANDARD
END:VTIMEZONE
BEGIN:VEVENT
DTSTART;TZID=America/Toronto:20260418T090000
DTEND;TZID=America/Toronto:20260418T120000
DTSTAMP:20260421T152717
CREATED:20260122T154112Z
LAST-MODIFIED:20260416T135259Z
UID:10004742-1776502800-1776513600@is-gw.ca
SUMMARY:CVITP Tax Clinic
DESCRIPTION:Immigrant Services is pleased to offer free income tax preparation to those who have a modest income and a simple tax situation through CRA’s Community Volunteer Income Tax Preparation program. \n ISGW clients and community members can book an appointment to have their tax return completed by a volunteer on Saturdays from February 28 to April 25\, 2026. \nIt is important to file your income tax return every year to continue to receive any benefits that you are eligible for. \nAppointments are available in-person\, virtually using Zoom and by document drop off. \n Please note that service is not available on Saturday\, March 21 and Saturday\, April 4. \n Multi-language service: We can help you in your own language. Let us know that you would like interpretation when you book your appointment. \nView PDF flyer. (including a list of documents to bring) \n To book a tax appointment call: 519-836-2222\, ext. 240 or email: cvitp@is-gw.ca
URL:https://is-gw.ca/event/cvitp-tax-clinic-3/2026-04-18/
LOCATION:ISGW Office\, 104 Dawson Road\, Unit 102\, Guelph\, Ontario\, N1H 1A6\, Canada
CATEGORIES:ISGW Events
ATTACH;FMTTYPE=image/jpeg:https://is-gw.ca/wp-content/uploads/2025/02/2025-Income-tax-graphic.jpg
END:VEVENT
END:VCALENDAR