BEGIN:VCALENDAR
VERSION:2.0
PRODID:-//ISGW - ECPv6.13.0//NONSGML v1.0//EN
CALSCALE:GREGORIAN
METHOD:PUBLISH
X-WR-CALNAME:ISGW
X-ORIGINAL-URL:https://is-gw.ca
X-WR-CALDESC:Events for ISGW
REFRESH-INTERVAL;VALUE=DURATION:PT1H
X-Robots-Tag:noindex
X-PUBLISHED-TTL:PT1H
BEGIN:VTIMEZONE
TZID:America/Toronto
BEGIN:DAYLIGHT
TZOFFSETFROM:-0500
TZOFFSETTO:-0400
TZNAME:EDT
DTSTART:20260308T070000
END:DAYLIGHT
BEGIN:STANDARD
TZOFFSETFROM:-0400
TZOFFSETTO:-0500
TZNAME:EST
DTSTART:20261101T060000
END:STANDARD
END:VTIMEZONE
BEGIN:VEVENT
DTSTART;TZID=America/Toronto:20260423T133000
DTEND;TZID=America/Toronto:20260423T143000
DTSTAMP:20260421T153615
CREATED:20260320T194502Z
LAST-MODIFIED:20260324T133517Z
UID:10004868-1776951000-1776954600@is-gw.ca
SUMMARY:Thursday English Conversation Circle
DESCRIPTION:Newcomers can join us to practise listening and speaking skills in a safe\, encouraging and welcoming environment. \nThis Thursday afternoon English Conversation Circle takes place in person  at Immigrant Services. \nView PDF flyer. \n\n Space is limited. You must be registered to attend this English Conversation Circle. \n Please note that this Circle will be cancelled on April 30 and May 14. \n For more information\, contact Tarik at 519-836-2222\, ext. 230 or tBelmqaddem@is-gw.ca \n\n\n\n                \n                        \n                            English Conversation Circles - Spring 2026\n                             \n							"*" indicates required fields \n                        \n                        Name*\n                            \n                            \n                                                    \n                                                    First\n                                                \n                            \n                            \n                                                    \n                                                    Last\n                                                \n                            \n                        Email*\n                                \n                                    \n                                    Enter Email\n                                \n                                \n                                    \n                                    Confirm Email\n                                \n                                \n                            Phone/Cellular Number*What is your status in Canada?*\n			\n					\n					Permanent Resident\n			\n			\n					\n					Protected Person\n			\n			\n					\n					Refugee Claimant\n			\n			\n					\n					Canadian Citizen\n			\n			\n					\n					Other\n			Select the English Conversation Circles you would like to attend:*\n								\n								Monday\, 10:00am - 12:00pm\, in person at ISGW\n							\n								\n								Monday\, 1:30pm - 2:30pm\, ONLINE\, using Zoom\n							\n								\n								Tuesday\, 9:30am - 11:30am\, for seniors\, in person at ISGW\n							\n								\n								Wednesday\, 1:00pm - 2:30pm\, in person at ISGW\n							\n								\n								Thursday\, Cooking Circle\, 11:30am - 1:00pm\, ONLINE\, using Zoom\n							\n								\n								Thursday\, 1:30pm - 2:30pm\, in person at ISGW\n							If you are attending online\, have you used Zoom before?*\n			\n					\n					Yes\n			\n			\n					\n					No. I would like help to set this up.\n			What is your English level?*\n			\n					\n					Beginner\n			\n			\n					\n					Intermediate\n			\n			\n					\n					Advanced\n			Enter the first and last names of any additional members of your household who will be attending:Consent*By clicking the box below\, I consent to being contacted by Immigrant Services Guelph-Wellington (ISGW) by phone\, email and Zoom. I acknowledge that in attending ISGW’s online workshops\, my name and image may be visible to other ISGW clients\, volunteers and staff.  Yes\, I consent.Photo Consent*By clicking the box above\, I understand that photos of the group may be taken and I acknowledge that these photos may be used online or in print to promote ISGW and its programs. ISGW will not identify participants by name in any usage.\n			\n					\n					Yes\, I consent.\n			CAPTCHA
URL:https://is-gw.ca/event/thursday-english-conversation-circle/2026-04-23/
LOCATION:ISGW Office\, 104 Dawson Road\, Unit 102\, Guelph\, Ontario\, N1H 1A6\, Canada
CATEGORIES:English Conversation Circles
ATTACH;FMTTYPE=image/jpeg:https://is-gw.ca/wp-content/uploads/2024/09/ConnectLearn-featuregraphic.jpg
ORGANIZER;CN="Tarik Belmqaddem":MAILTO:tbelmqaddem@is-gw.ca
END:VEVENT
BEGIN:VEVENT
DTSTART;TZID=America/Toronto:20260423T160000
DTEND;TZID=America/Toronto:20260423T180000
DTSTAMP:20260421T153615
CREATED:20260331T142350Z
LAST-MODIFIED:20260331T145207Z
UID:10004914-1776960000-1776967200@is-gw.ca
SUMMARY:How to Create a CRA Account
DESCRIPTION:This session will be presented in English and include interpretation in Tigrinya. \n“My Account” lets you view and manage your personal income tax and benefit information online. \nJoin us in person  at ISGW to discuss the benefits of having a Canada Revenue Agency (CRA) account. We will also guide you step-by-step through the process of creating your own CRA account. \nView PDF flyer. \n\n Space is limited. You must be registered to attend this session. \n For more information\, contact Nataliia at 519-836-2222\, ext. 235\, ngonyk@is-gw.ca\nor Nahom at 519-836-2222\, ext. 263\, ntekle@is-gw.ca \n\n\n                \n                        \n                            How to Create a CRA Account\n                             \n                        \n                        Name(Required)\n                            \n                            \n                                                    \n                                                    First\n                                                \n                            \n                            \n                                                    \n                                                    Last\n                                                \n                            \n                        Phone Number(Required)Email(Required)\n                                \n                                    \n                                    Enter Email\n                                \n                                \n                                    \n                                    Confirm Email\n                                \n                                \n                            What is your immigration status?(Required)\n			\n					\n					Permanent Resident\n			\n			\n					\n					Protected Person\n			\n			\n					\n					Refugee Claimant\n			\n			\n					\n					Canadian Citizen\n			\n			\n					\n					Other\n			Consent(Required) Yes\, I consent.By clicking the box below\, I consent to being contacted by Immigrant Services Guelph-Wellington (ISGW) by phone and/or email.Photo Consent(Required) Yes\, I consent.By clicking the box below\, I understand that photos of the group may be taken and I acknowledge that these photos may be used online or in print to promote ISGW and its programs. ISGW will not identify participants by name in any usage.CAPTCHA
URL:https://is-gw.ca/event/how-to-create-a-cra-account-3/
LOCATION:ISGW Office\, 104 Dawson Road\, Unit 102\, Guelph\, Ontario\, N1H 1A6\, Canada
CATEGORIES:Information Sessions
ATTACH;FMTTYPE=image/jpeg:https://is-gw.ca/wp-content/uploads/2025/04/InPersonWorkshop-featuregraphic.jpg
ORGANIZER;CN="Nataliia Gonyk":MAILTO:ngonyk@is-gw.ca
END:VEVENT
BEGIN:VEVENT
DTSTART;TZID=America/Toronto:20260423T163000
DTEND;TZID=America/Toronto:20260423T173000
DTSTAMP:20260421T153615
CREATED:20260331T144257Z
LAST-MODIFIED:20260401T142234Z
UID:10004916-1776961800-1776965400@is-gw.ca
SUMMARY:Youth Chat: Summer Activities at the University of Guelph
DESCRIPTION:Join us in person  at ISGW to talk about University of Guelph’s Department of\nAthletics and Recreation with guest speaker Rory Cooper. \nJoin us to learn about: \n\nPrograms\, activities\, summer camps\nYouth memberships\n\nView PDF flyer. \n\n You must register in advance to attend the session. \n Language interpretation is available\, based on need. Please register as soon as possible. \n For more information contact Elilta 226-332-0790 or ehabte@is-gw.ca \n\n\n                \n                        \n                            SWIS Youth Chat - April sessions\n                             \n							"*" indicates required fields \n                        \n                        Name*\n                            \n                            \n                                                    \n                                                    First\n                                                \n                            \n                            \n                                                    \n                                                    Last\n                                                \n                            \n                        Email*\n                                \n                                    \n                                    Enter Email\n                                \n                                \n                                    \n                                    Confirm Email\n                                \n                                \n                            Phone/Cellular Number*What is your immigration status?*\n			\n					\n					Permanent Resident\n			\n			\n					\n					Protected Person\n			\n			\n					\n					Refugee Claimant\n			\n			\n					\n					Canadian Citizen\n			\n			\n					\n					Other\n			Which school do you attend?*\n			\n					\n					Bishop Macdonell\n			\n			\n					\n					Centennial\n			\n			\n					\n					Guelph CVI\n			\n			\n					\n					John F. Ross\n			\n			\n					\n					Our Lady of Lourdes\n			\n			\n					\n					St. James\n			\n			\n					\n					Not attending school\n			\n			\n					\n					Other\n			Which session(s) will you attend?*\n								\n								April 9 - Mental Health\, Wellness and Self Care\n							\n								\n								April 23 - Summer Activities at the University of Guelph\n							Select AllDo you need language interpretation?Interpretation is available\, based on need. Please let us know your language.Consent*By clicking the box below\, I consent to being contacted by Immigrant Services Guelph-Wellington (ISGW) by phone and/or email. Yes\, I consent.Photo consent*By clicking the box below\, I understand that photos of the group may be taken and I acknowledge that these photos may be used online or in print to promote ISGW and its programs. ISGW will not identify participants by name in any usage. Yes\, I consent.CAPTCHA
URL:https://is-gw.ca/event/youth-chat-summer-activities-at-the-university-of-guelph/
LOCATION:ISGW Office\, 104 Dawson Road\, Unit 102\, Guelph\, Ontario\, N1H 1A6\, Canada
CATEGORIES:SWIS Information Sessions,Youth
ATTACH;FMTTYPE=image/jpeg:https://is-gw.ca/wp-content/uploads/2024/04/YouthChat-featuregraphic.jpg
ORGANIZER;CN="Elilta Habte":MAILTO:ehabte@is-gw.ca
END:VEVENT
END:VCALENDAR