BEGIN:VCALENDAR
VERSION:2.0
PRODID:-//ISGW - ECPv6.13.0//NONSGML v1.0//EN
CALSCALE:GREGORIAN
METHOD:PUBLISH
X-ORIGINAL-URL:https://is-gw.ca
X-WR-CALDESC:Events for ISGW
REFRESH-INTERVAL;VALUE=DURATION:PT1H
X-Robots-Tag:noindex
X-PUBLISHED-TTL:PT1H
BEGIN:VTIMEZONE
TZID:America/Toronto
BEGIN:DAYLIGHT
TZOFFSETFROM:-0500
TZOFFSETTO:-0400
TZNAME:EDT
DTSTART:20260308T070000
END:DAYLIGHT
BEGIN:STANDARD
TZOFFSETFROM:-0400
TZOFFSETTO:-0500
TZNAME:EST
DTSTART:20261101T060000
END:STANDARD
END:VTIMEZONE
BEGIN:VEVENT
DTSTART;TZID=America/Toronto:20260312T140000
DTEND;TZID=America/Toronto:20260312T150000
DTSTAMP:20260421T185242
CREATED:20251218T142703Z
LAST-MODIFIED:20251218T143905Z
UID:10004730-1773324000-1773327600@is-gw.ca
SUMMARY:English Conversation Circle - online
DESCRIPTION:ISGW’s English Conversation Circles provide an opportunity to meet new people and develop language skills. Stay connected and engaged in a safe\, friendly environment by joining our ECCs. Adult language learners of all skill levels and all ages are welcome to attend. \nThis Thursday afternoon ECC takes place online  using Zoom. \nView PDF flyer. \n\n Need help with technology? Let us know\, we can help! \n For more information\, contact Tarik at 519-836-2222\, ext. 230 or tBelmqaddem@is-gw.ca \n\nThank you for your interest in ISGW's English Conversation Circles. Registration for the Winter 2026 session is now closed. \nTo learn more about our English conversation circles please contact Tarik at 519-836-2222\, ext. 230
URL:https://is-gw.ca/event/english-conversation-circle-online-21/2026-03-12/
LOCATION:Zoom
CATEGORIES:English Conversation Circles
ATTACH;FMTTYPE=image/jpeg:https://is-gw.ca/wp-content/uploads/2024/09/ConnectLearn-featuregraphic.jpg
ORGANIZER;CN="Tarik Belmqaddem":MAILTO:tbelmqaddem@is-gw.ca
END:VEVENT
END:VCALENDAR