BEGIN:VCALENDAR
VERSION:2.0
PRODID:-//ISGW - ECPv6.13.0//NONSGML v1.0//EN
CALSCALE:GREGORIAN
METHOD:PUBLISH
X-ORIGINAL-URL:https://is-gw.ca
X-WR-CALDESC:Events for ISGW
REFRESH-INTERVAL;VALUE=DURATION:PT1H
X-Robots-Tag:noindex
X-PUBLISHED-TTL:PT1H
BEGIN:VTIMEZONE
TZID:America/Toronto
BEGIN:DAYLIGHT
TZOFFSETFROM:-0500
TZOFFSETTO:-0400
TZNAME:EDT
DTSTART:20260308T070000
END:DAYLIGHT
BEGIN:STANDARD
TZOFFSETFROM:-0400
TZOFFSETTO:-0500
TZNAME:EST
DTSTART:20261101T060000
END:STANDARD
END:VTIMEZONE
BEGIN:VEVENT
DTSTART;TZID=America/Toronto:20260601T100000
DTEND;TZID=America/Toronto:20260601T120000
DTSTAMP:20260421T203046
CREATED:20260320T190311Z
LAST-MODIFIED:20260324T133137Z
UID:10004775-1780308000-1780315200@is-gw.ca
SUMMARY:Learn and Dance
DESCRIPTION:Newcomers can join us to practise listening and speaking skills in a safe\, encouraging and welcoming environment. \nJoin us\, in person  at ISGW\, for an introduction to effective online English learning techniques. Participants will be guided on how to use digital resources to find the best websites and tools for learning English. \nThe goal is to empower you to confidently begin your self-directed learning journey\, equipped with the skills and resources needed to improve your English on your own. \nClients will be encouraged to use their personal cell phones for easy access to the applications discussed. \nWe will also get our bodies moving with 30 minutes of Zumba at the end of each session. \nView PDF flyer. \n\n Please note that this ECC will be cancelled on Monday\, May 18 for the Victoria Day holiday. \n For more information\, contact Tarik at 519-836-2222\, ext. 230 or tBelmqaddem@is-gw.ca \n\n\n\n                \n                        \n                            English Conversation Circles - Spring 2026\n                             \n							"*" indicates required fields \n                        \n                        Name*\n                            \n                            \n                                                    \n                                                    First\n                                                \n                            \n                            \n                                                    \n                                                    Last\n                                                \n                            \n                        Email*\n                                \n                                    \n                                    Enter Email\n                                \n                                \n                                    \n                                    Confirm Email\n                                \n                                \n                            Phone/Cellular Number*What is your status in Canada?*\n			\n					\n					Permanent Resident\n			\n			\n					\n					Protected Person\n			\n			\n					\n					Refugee Claimant\n			\n			\n					\n					Canadian Citizen\n			\n			\n					\n					Other\n			Select the English Conversation Circles you would like to attend:*\n								\n								Monday\, 10:00am - 12:00pm\, in person at ISGW\n							\n								\n								Monday\, 1:30pm - 2:30pm\, ONLINE\, using Zoom\n							\n								\n								Tuesday\, 9:30am - 11:30am\, for seniors\, in person at ISGW\n							\n								\n								Wednesday\, 1:00pm - 2:30pm\, in person at ISGW\n							\n								\n								Thursday\, Cooking Circle\, 11:30am - 1:00pm\, ONLINE\, using Zoom\n							\n								\n								Thursday\, 1:30pm - 2:30pm\, in person at ISGW\n							If you are attending online\, have you used Zoom before?*\n			\n					\n					Yes\n			\n			\n					\n					No. I would like help to set this up.\n			What is your English level?*\n			\n					\n					Beginner\n			\n			\n					\n					Intermediate\n			\n			\n					\n					Advanced\n			Enter the first and last names of any additional members of your household who will be attending:Consent*By clicking the box below\, I consent to being contacted by Immigrant Services Guelph-Wellington (ISGW) by phone\, email and Zoom. I acknowledge that in attending ISGW’s online workshops\, my name and image may be visible to other ISGW clients\, volunteers and staff.  Yes\, I consent.Photo Consent*By clicking the box above\, I understand that photos of the group may be taken and I acknowledge that these photos may be used online or in print to promote ISGW and its programs. ISGW will not identify participants by name in any usage.\n			\n					\n					Yes\, I consent.\n			CAPTCHA
URL:https://is-gw.ca/event/learn-and-dance-2/2026-06-01/
LOCATION:ISGW Office\, 104 Dawson Road\, Unit 102\, Guelph\, Ontario\, N1H 1A6\, Canada
CATEGORIES:English Conversation Circles
ATTACH;FMTTYPE=image/jpeg:https://is-gw.ca/wp-content/uploads/2024/09/ConnectLearn-featuregraphic.jpg
ORGANIZER;CN="Tarik Belmqaddem":MAILTO:tbelmqaddem@is-gw.ca
END:VEVENT
BEGIN:VEVENT
DTSTART;TZID=America/Toronto:20260601T133000
DTEND;TZID=America/Toronto:20260601T143000
DTSTAMP:20260421T203046
CREATED:20260320T191520Z
LAST-MODIFIED:20260324T133218Z
UID:10004837-1780320600-1780324200@is-gw.ca
SUMMARY:English Conversation Circle - Online
DESCRIPTION:Newcomers can join us to practise listening and speaking skills in a safe\, encouraging and welcoming environment. \nThis Monday afternoon English Conversation Circle takes place online  using Zoom. \nView PDF flyer. \n\n Please note that this ECC is cancelled on Monday\, May 18 for the Victoria Day holiday. \n Need help with technology? Let us know\, we can help! \n For more information\, contact Tarik at 519-836-2222\, ext. 230 or tBelmqaddem@is-gw.ca \n\n\n                \n                        \n                            English Conversation Circles - Spring 2026\n                             \n							"*" indicates required fields \n                        \n                        Name*\n                            \n                            \n                                                    \n                                                    First\n                                                \n                            \n                            \n                                                    \n                                                    Last\n                                                \n                            \n                        Email*\n                                \n                                    \n                                    Enter Email\n                                \n                                \n                                    \n                                    Confirm Email\n                                \n                                \n                            Phone/Cellular Number*What is your status in Canada?*\n			\n					\n					Permanent Resident\n			\n			\n					\n					Protected Person\n			\n			\n					\n					Refugee Claimant\n			\n			\n					\n					Canadian Citizen\n			\n			\n					\n					Other\n			Select the English Conversation Circles you would like to attend:*\n								\n								Monday\, 10:00am - 12:00pm\, in person at ISGW\n							\n								\n								Monday\, 1:30pm - 2:30pm\, ONLINE\, using Zoom\n							\n								\n								Tuesday\, 9:30am - 11:30am\, for seniors\, in person at ISGW\n							\n								\n								Wednesday\, 1:00pm - 2:30pm\, in person at ISGW\n							\n								\n								Thursday\, Cooking Circle\, 11:30am - 1:00pm\, ONLINE\, using Zoom\n							\n								\n								Thursday\, 1:30pm - 2:30pm\, in person at ISGW\n							If you are attending online\, have you used Zoom before?*\n			\n					\n					Yes\n			\n			\n					\n					No. I would like help to set this up.\n			What is your English level?*\n			\n					\n					Beginner\n			\n			\n					\n					Intermediate\n			\n			\n					\n					Advanced\n			Enter the first and last names of any additional members of your household who will be attending:Consent*By clicking the box below\, I consent to being contacted by Immigrant Services Guelph-Wellington (ISGW) by phone\, email and Zoom. I acknowledge that in attending ISGW’s online workshops\, my name and image may be visible to other ISGW clients\, volunteers and staff.  Yes\, I consent.Photo Consent*By clicking the box above\, I understand that photos of the group may be taken and I acknowledge that these photos may be used online or in print to promote ISGW and its programs. ISGW will not identify participants by name in any usage.\n			\n					\n					Yes\, I consent.\n			CAPTCHA
URL:https://is-gw.ca/event/english-conversation-circle-online-22/2026-06-01/
LOCATION:Zoom
CATEGORIES:English Conversation Circles,ISGW Online Classes
ATTACH;FMTTYPE=image/jpeg:https://is-gw.ca/wp-content/uploads/2024/09/ConnectLearn-featuregraphic.jpg
ORGANIZER;CN="Tarik Belmqaddem":MAILTO:tbelmqaddem@is-gw.ca
END:VEVENT
END:VCALENDAR