BEGIN:VCALENDAR
VERSION:2.0
PRODID:-//ISGW - ECPv6.13.0//NONSGML v1.0//EN
CALSCALE:GREGORIAN
METHOD:PUBLISH
X-WR-CALNAME:ISGW
X-ORIGINAL-URL:https://is-gw.ca
X-WR-CALDESC:Events for ISGW
REFRESH-INTERVAL;VALUE=DURATION:PT1H
X-Robots-Tag:noindex
X-PUBLISHED-TTL:PT1H
BEGIN:VTIMEZONE
TZID:America/Toronto
BEGIN:DAYLIGHT
TZOFFSETFROM:-0500
TZOFFSETTO:-0400
TZNAME:EDT
DTSTART:20250309T070000
END:DAYLIGHT
BEGIN:STANDARD
TZOFFSETFROM:-0400
TZOFFSETTO:-0500
TZNAME:EST
DTSTART:20251102T060000
END:STANDARD
END:VTIMEZONE
BEGIN:VEVENT
DTSTART;TZID=America/Toronto:20250806T100000
DTEND;TZID=America/Toronto:20250806T110000
DTSTAMP:20260422T085441
CREATED:20250616T170846Z
LAST-MODIFIED:20250617T175715Z
UID:10004346-1754474400-1754478000@is-gw.ca
SUMMARY:English Conversation Circle with GPL Main Library - online
DESCRIPTION:English Conversation Circles provide opportunities for newcomers to practice conversational English skills in a relaxed and friendly environment. \nEvery 2 weeks\, a staff member from Guelph Public Library – Main Library joins us to share an overview of library services and programs available to newcomers. During these sessions\, participants can receive assistance in applying for a library card. \nJoin us online  using Zoom for this English conversation circle. \nView PDF flyer. \nFor more information\, contact Yasmin at 519-836-2222\, ext. 230 or yholoubi@is-gw.ca
URL:https://is-gw.ca/event/english-conversation-circle-with-gpl-main-library-online-5/2025-08-06/
LOCATION:Zoom
CATEGORIES:English Conversation Circles,ISGW Online Classes
ATTACH;FMTTYPE=image/jpeg:https://is-gw.ca/wp-content/uploads/2024/09/ConnectLearn-featuregraphic.jpg
ORGANIZER;CN="Yasmin Holoubi":MAILTO:yholoubi@is-gw.ca
END:VEVENT
BEGIN:VEVENT
DTSTART;TZID=America/Toronto:20250811T100000
DTEND;TZID=America/Toronto:20250811T110000
DTSTAMP:20260422T085441
CREATED:20250616T171622Z
LAST-MODIFIED:20250617T175816Z
UID:10004338-1754906400-1754910000@is-gw.ca
SUMMARY:English Conversation Circle-Coding: online
DESCRIPTION:During this online  session\, we’ll be introducing children aged 7 to 12 to the basics of the language used for programming in a fun and engaging way. Through interactive activities and games\, kids develop problem-solving\, creativity\, and logical thinking skills while exploring the world of technology. \nView PDF flyer. \n Please note that classes will be cancelled on Monday\, August 4 for the Civic holiday and Monday\, September 1 for the Labour Day holiday. \nFor more information\, contact Yasmin at 519-836-2222\, ext. 230 or yholoubi@is-gw.ca
URL:https://is-gw.ca/event/english-conversation-circle-coding-online/2025-08-11/
LOCATION:Zoom
CATEGORIES:English Conversation Circles,ISGW Online Classes
ATTACH;FMTTYPE=image/jpeg:https://is-gw.ca/wp-content/uploads/2024/09/ConnectLearn-featuregraphic.jpg
ORGANIZER;CN="Yasmin Holoubi":MAILTO:yholoubi@is-gw.ca
END:VEVENT
BEGIN:VEVENT
DTSTART;TZID=America/Toronto:20250813T100000
DTEND;TZID=America/Toronto:20250813T110000
DTSTAMP:20260422T085441
CREATED:20250616T170846Z
LAST-MODIFIED:20250617T175715Z
UID:10004347-1755079200-1755082800@is-gw.ca
SUMMARY:English Conversation Circle with GPL Main Library - online
DESCRIPTION:English Conversation Circles provide opportunities for newcomers to practice conversational English skills in a relaxed and friendly environment. \nEvery 2 weeks\, a staff member from Guelph Public Library – Main Library joins us to share an overview of library services and programs available to newcomers. During these sessions\, participants can receive assistance in applying for a library card. \nJoin us online  using Zoom for this English conversation circle. \nView PDF flyer. \nFor more information\, contact Yasmin at 519-836-2222\, ext. 230 or yholoubi@is-gw.ca
URL:https://is-gw.ca/event/english-conversation-circle-with-gpl-main-library-online-5/2025-08-13/
LOCATION:Zoom
CATEGORIES:English Conversation Circles,ISGW Online Classes
ATTACH;FMTTYPE=image/jpeg:https://is-gw.ca/wp-content/uploads/2024/09/ConnectLearn-featuregraphic.jpg
ORGANIZER;CN="Yasmin Holoubi":MAILTO:yholoubi@is-gw.ca
END:VEVENT
BEGIN:VEVENT
DTSTART;TZID=America/Toronto:20250818T100000
DTEND;TZID=America/Toronto:20250818T110000
DTSTAMP:20260422T085441
CREATED:20250616T171622Z
LAST-MODIFIED:20250617T175816Z
UID:10004339-1755511200-1755514800@is-gw.ca
SUMMARY:English Conversation Circle-Coding: online
DESCRIPTION:During this online  session\, we’ll be introducing children aged 7 to 12 to the basics of the language used for programming in a fun and engaging way. Through interactive activities and games\, kids develop problem-solving\, creativity\, and logical thinking skills while exploring the world of technology. \nView PDF flyer. \n Please note that classes will be cancelled on Monday\, August 4 for the Civic holiday and Monday\, September 1 for the Labour Day holiday. \nFor more information\, contact Yasmin at 519-836-2222\, ext. 230 or yholoubi@is-gw.ca
URL:https://is-gw.ca/event/english-conversation-circle-coding-online/2025-08-18/
LOCATION:Zoom
CATEGORIES:English Conversation Circles,ISGW Online Classes
ATTACH;FMTTYPE=image/jpeg:https://is-gw.ca/wp-content/uploads/2024/09/ConnectLearn-featuregraphic.jpg
ORGANIZER;CN="Yasmin Holoubi":MAILTO:yholoubi@is-gw.ca
END:VEVENT
BEGIN:VEVENT
DTSTART;TZID=America/Toronto:20250820T100000
DTEND;TZID=America/Toronto:20250820T110000
DTSTAMP:20260422T085441
CREATED:20250616T170846Z
LAST-MODIFIED:20250617T175715Z
UID:10004348-1755684000-1755687600@is-gw.ca
SUMMARY:English Conversation Circle with GPL Main Library - online
DESCRIPTION:English Conversation Circles provide opportunities for newcomers to practice conversational English skills in a relaxed and friendly environment. \nEvery 2 weeks\, a staff member from Guelph Public Library – Main Library joins us to share an overview of library services and programs available to newcomers. During these sessions\, participants can receive assistance in applying for a library card. \nJoin us online  using Zoom for this English conversation circle. \nView PDF flyer. \nFor more information\, contact Yasmin at 519-836-2222\, ext. 230 or yholoubi@is-gw.ca
URL:https://is-gw.ca/event/english-conversation-circle-with-gpl-main-library-online-5/2025-08-20/
LOCATION:Zoom
CATEGORIES:English Conversation Circles,ISGW Online Classes
ATTACH;FMTTYPE=image/jpeg:https://is-gw.ca/wp-content/uploads/2024/09/ConnectLearn-featuregraphic.jpg
ORGANIZER;CN="Yasmin Holoubi":MAILTO:yholoubi@is-gw.ca
END:VEVENT
BEGIN:VEVENT
DTSTART;TZID=America/Toronto:20250825T100000
DTEND;TZID=America/Toronto:20250825T110000
DTSTAMP:20260422T085441
CREATED:20250616T171622Z
LAST-MODIFIED:20250617T175816Z
UID:10004340-1756116000-1756119600@is-gw.ca
SUMMARY:English Conversation Circle-Coding: online
DESCRIPTION:During this online  session\, we’ll be introducing children aged 7 to 12 to the basics of the language used for programming in a fun and engaging way. Through interactive activities and games\, kids develop problem-solving\, creativity\, and logical thinking skills while exploring the world of technology. \nView PDF flyer. \n Please note that classes will be cancelled on Monday\, August 4 for the Civic holiday and Monday\, September 1 for the Labour Day holiday. \nFor more information\, contact Yasmin at 519-836-2222\, ext. 230 or yholoubi@is-gw.ca
URL:https://is-gw.ca/event/english-conversation-circle-coding-online/2025-08-25/
LOCATION:Zoom
CATEGORIES:English Conversation Circles,ISGW Online Classes
ATTACH;FMTTYPE=image/jpeg:https://is-gw.ca/wp-content/uploads/2024/09/ConnectLearn-featuregraphic.jpg
ORGANIZER;CN="Yasmin Holoubi":MAILTO:yholoubi@is-gw.ca
END:VEVENT
BEGIN:VEVENT
DTSTART;TZID=America/Toronto:20250827T100000
DTEND;TZID=America/Toronto:20250827T110000
DTSTAMP:20260422T085441
CREATED:20250616T170846Z
LAST-MODIFIED:20250617T175715Z
UID:10004349-1756288800-1756292400@is-gw.ca
SUMMARY:English Conversation Circle with GPL Main Library - online
DESCRIPTION:English Conversation Circles provide opportunities for newcomers to practice conversational English skills in a relaxed and friendly environment. \nEvery 2 weeks\, a staff member from Guelph Public Library – Main Library joins us to share an overview of library services and programs available to newcomers. During these sessions\, participants can receive assistance in applying for a library card. \nJoin us online  using Zoom for this English conversation circle. \nView PDF flyer. \nFor more information\, contact Yasmin at 519-836-2222\, ext. 230 or yholoubi@is-gw.ca
URL:https://is-gw.ca/event/english-conversation-circle-with-gpl-main-library-online-5/2025-08-27/
LOCATION:Zoom
CATEGORIES:English Conversation Circles,ISGW Online Classes
ATTACH;FMTTYPE=image/jpeg:https://is-gw.ca/wp-content/uploads/2024/09/ConnectLearn-featuregraphic.jpg
ORGANIZER;CN="Yasmin Holoubi":MAILTO:yholoubi@is-gw.ca
END:VEVENT
END:VCALENDAR