BEGIN:VCALENDAR
VERSION:2.0
PRODID:-//ISGW - ECPv6.13.0//NONSGML v1.0//EN
CALSCALE:GREGORIAN
METHOD:PUBLISH
X-ORIGINAL-URL:https://is-gw.ca
X-WR-CALDESC:Events for ISGW
REFRESH-INTERVAL;VALUE=DURATION:PT1H
X-Robots-Tag:noindex
X-PUBLISHED-TTL:PT1H
BEGIN:VTIMEZONE
TZID:America/Toronto
BEGIN:DAYLIGHT
TZOFFSETFROM:-0500
TZOFFSETTO:-0400
TZNAME:EDT
DTSTART:20260308T070000
END:DAYLIGHT
BEGIN:STANDARD
TZOFFSETFROM:-0400
TZOFFSETTO:-0500
TZNAME:EST
DTSTART:20261101T060000
END:STANDARD
END:VTIMEZONE
BEGIN:VEVENT
DTSTART;TZID=America/Toronto:20260108T163000
DTEND;TZID=America/Toronto:20260108T173000
DTSTAMP:20260421T202609
CREATED:20251117T192240Z
LAST-MODIFIED:20251117T193904Z
UID:10004648-1767889800-1767893400@is-gw.ca
SUMMARY:Citizenship Test Preparation
DESCRIPTION:This online program is intended for Permanent Residents who have applied or are in the process of applying for Canadian citizenship. It is designed to help you prepare to take the Canadian citizenship test. \nUsing the Discover Canada: The Rights and Responsibilities of Citizenship study guide\, we will provide you with many opportunities to learn\, study\, and practice material that will be on your test. Participants should have already completed CLB level 4 for Listening and Speaking. \nThe program will be delivered online  using Zoom and runs for 8 weeks. The Discover Canada study guide will be provided for participants (either online or a hard copy). \nView PDF flyer. \n\n Need help with Zoom? Let us know\, we can help! \n For more information\, contact Elaine at 519-836-2222\, ext. 237 or EAnderson@is-gw.ca \n\n\n\n                \n                        \n                            Citizenship Test Preparation - April 2026\n                             \n							"*" indicates required fields \n                        \n                        Name*\n                            \n                            \n                                                    \n                                                    First\n                                                \n                            \n                            \n                                                    \n                                                    Last\n                                                \n                            \n                        Email*\n                                \n                                    \n                                    Enter Email\n                                \n                                \n                                    \n                                    Confirm Email\n                                \n                                \n                            Phone/Cellular Number*What is your status in Canada?\n			\n					\n					Permanent Resident\n			\n			\n					\n					Protected Person\n			\n			\n					\n					Refugee Claimant\n			\n			\n					\n					Canadian Citizen\n			\n			\n					\n					Other\n			Are you familiar with the online meeting platform Zoom?\n			\n					\n					Yes\n			\n			\n					\n					No\n			Do you need assistance using Zoom?\n			\n					\n					Yes\n			\n			\n					\n					No\n			Consent*By clicking the box below\, I consent to being contacted by Immigrant Services Guelph-Wellington (ISGW) by phone\, email and Zoom. I acknowledge that in attending ISGW’s online workshops\, my name and image may be visible to other ISGW clients\, volunteers and staff. Yes\, I consent.CAPTCHA
URL:https://is-gw.ca/event/citizenship-test-preparation-9/2026-01-08/
LOCATION:Zoom
CATEGORIES:ISGW Online Classes
ATTACH;FMTTYPE=image/jpeg:https://is-gw.ca/wp-content/uploads/2025/03/OnlineWorkshop-featuregraphic.jpg
ORGANIZER;CN="Elaine Anderson":MAILTO:EAnderson@is-gw.ca
END:VEVENT
BEGIN:VEVENT
DTSTART;TZID=America/Toronto:20260115T163000
DTEND;TZID=America/Toronto:20260115T173000
DTSTAMP:20260421T202609
CREATED:20251117T192240Z
LAST-MODIFIED:20251117T193904Z
UID:10004649-1768494600-1768498200@is-gw.ca
SUMMARY:Citizenship Test Preparation
DESCRIPTION:This online program is intended for Permanent Residents who have applied or are in the process of applying for Canadian citizenship. It is designed to help you prepare to take the Canadian citizenship test. \nUsing the Discover Canada: The Rights and Responsibilities of Citizenship study guide\, we will provide you with many opportunities to learn\, study\, and practice material that will be on your test. Participants should have already completed CLB level 4 for Listening and Speaking. \nThe program will be delivered online  using Zoom and runs for 8 weeks. The Discover Canada study guide will be provided for participants (either online or a hard copy). \nView PDF flyer. \n\n Need help with Zoom? Let us know\, we can help! \n For more information\, contact Elaine at 519-836-2222\, ext. 237 or EAnderson@is-gw.ca \n\n\n                \n                        \n                            Citizenship Test Preparation - April 2026\n                             \n							"*" indicates required fields \n                        \n                        Name*\n                            \n                            \n                                                    \n                                                    First\n                                                \n                            \n                            \n                                                    \n                                                    Last\n                                                \n                            \n                        Email*\n                                \n                                    \n                                    Enter Email\n                                \n                                \n                                    \n                                    Confirm Email\n                                \n                                \n                            Phone/Cellular Number*What is your status in Canada?\n			\n					\n					Permanent Resident\n			\n			\n					\n					Protected Person\n			\n			\n					\n					Refugee Claimant\n			\n			\n					\n					Canadian Citizen\n			\n			\n					\n					Other\n			Are you familiar with the online meeting platform Zoom?\n			\n					\n					Yes\n			\n			\n					\n					No\n			Do you need assistance using Zoom?\n			\n					\n					Yes\n			\n			\n					\n					No\n			Consent*By clicking the box below\, I consent to being contacted by Immigrant Services Guelph-Wellington (ISGW) by phone\, email and Zoom. I acknowledge that in attending ISGW’s online workshops\, my name and image may be visible to other ISGW clients\, volunteers and staff. Yes\, I consent.CAPTCHA
URL:https://is-gw.ca/event/citizenship-test-preparation-9/2026-01-15/
LOCATION:Zoom
CATEGORIES:ISGW Online Classes
ATTACH;FMTTYPE=image/jpeg:https://is-gw.ca/wp-content/uploads/2025/03/OnlineWorkshop-featuregraphic.jpg
ORGANIZER;CN="Elaine Anderson":MAILTO:EAnderson@is-gw.ca
END:VEVENT
BEGIN:VEVENT
DTSTART;TZID=America/Toronto:20260122T163000
DTEND;TZID=America/Toronto:20260122T173000
DTSTAMP:20260421T202609
CREATED:20251117T192240Z
LAST-MODIFIED:20251117T193904Z
UID:10004650-1769099400-1769103000@is-gw.ca
SUMMARY:Citizenship Test Preparation
DESCRIPTION:This online program is intended for Permanent Residents who have applied or are in the process of applying for Canadian citizenship. It is designed to help you prepare to take the Canadian citizenship test. \nUsing the Discover Canada: The Rights and Responsibilities of Citizenship study guide\, we will provide you with many opportunities to learn\, study\, and practice material that will be on your test. Participants should have already completed CLB level 4 for Listening and Speaking. \nThe program will be delivered online  using Zoom and runs for 8 weeks. The Discover Canada study guide will be provided for participants (either online or a hard copy). \nView PDF flyer. \n\n Need help with Zoom? Let us know\, we can help! \n For more information\, contact Elaine at 519-836-2222\, ext. 237 or EAnderson@is-gw.ca \n\n\n                \n                        \n                            Citizenship Test Preparation - April 2026\n                             \n							"*" indicates required fields \n                        \n                        Name*\n                            \n                            \n                                                    \n                                                    First\n                                                \n                            \n                            \n                                                    \n                                                    Last\n                                                \n                            \n                        Email*\n                                \n                                    \n                                    Enter Email\n                                \n                                \n                                    \n                                    Confirm Email\n                                \n                                \n                            Phone/Cellular Number*What is your status in Canada?\n			\n					\n					Permanent Resident\n			\n			\n					\n					Protected Person\n			\n			\n					\n					Refugee Claimant\n			\n			\n					\n					Canadian Citizen\n			\n			\n					\n					Other\n			Are you familiar with the online meeting platform Zoom?\n			\n					\n					Yes\n			\n			\n					\n					No\n			Do you need assistance using Zoom?\n			\n					\n					Yes\n			\n			\n					\n					No\n			Consent*By clicking the box below\, I consent to being contacted by Immigrant Services Guelph-Wellington (ISGW) by phone\, email and Zoom. I acknowledge that in attending ISGW’s online workshops\, my name and image may be visible to other ISGW clients\, volunteers and staff. Yes\, I consent.CAPTCHA
URL:https://is-gw.ca/event/citizenship-test-preparation-9/2026-01-22/
LOCATION:Zoom
CATEGORIES:ISGW Online Classes
ATTACH;FMTTYPE=image/jpeg:https://is-gw.ca/wp-content/uploads/2025/03/OnlineWorkshop-featuregraphic.jpg
ORGANIZER;CN="Elaine Anderson":MAILTO:EAnderson@is-gw.ca
END:VEVENT
BEGIN:VEVENT
DTSTART;TZID=America/Toronto:20260129T163000
DTEND;TZID=America/Toronto:20260129T173000
DTSTAMP:20260421T202609
CREATED:20251117T192240Z
LAST-MODIFIED:20251117T193904Z
UID:10004651-1769704200-1769707800@is-gw.ca
SUMMARY:Citizenship Test Preparation
DESCRIPTION:This online program is intended for Permanent Residents who have applied or are in the process of applying for Canadian citizenship. It is designed to help you prepare to take the Canadian citizenship test. \nUsing the Discover Canada: The Rights and Responsibilities of Citizenship study guide\, we will provide you with many opportunities to learn\, study\, and practice material that will be on your test. Participants should have already completed CLB level 4 for Listening and Speaking. \nThe program will be delivered online  using Zoom and runs for 8 weeks. The Discover Canada study guide will be provided for participants (either online or a hard copy). \nView PDF flyer. \n\n Need help with Zoom? Let us know\, we can help! \n For more information\, contact Elaine at 519-836-2222\, ext. 237 or EAnderson@is-gw.ca \n\n\n                \n                        \n                            Citizenship Test Preparation - April 2026\n                             \n							"*" indicates required fields \n                        \n                        Name*\n                            \n                            \n                                                    \n                                                    First\n                                                \n                            \n                            \n                                                    \n                                                    Last\n                                                \n                            \n                        Email*\n                                \n                                    \n                                    Enter Email\n                                \n                                \n                                    \n                                    Confirm Email\n                                \n                                \n                            Phone/Cellular Number*What is your status in Canada?\n			\n					\n					Permanent Resident\n			\n			\n					\n					Protected Person\n			\n			\n					\n					Refugee Claimant\n			\n			\n					\n					Canadian Citizen\n			\n			\n					\n					Other\n			Are you familiar with the online meeting platform Zoom?\n			\n					\n					Yes\n			\n			\n					\n					No\n			Do you need assistance using Zoom?\n			\n					\n					Yes\n			\n			\n					\n					No\n			Consent*By clicking the box below\, I consent to being contacted by Immigrant Services Guelph-Wellington (ISGW) by phone\, email and Zoom. I acknowledge that in attending ISGW’s online workshops\, my name and image may be visible to other ISGW clients\, volunteers and staff. Yes\, I consent.CAPTCHA
URL:https://is-gw.ca/event/citizenship-test-preparation-9/2026-01-29/
LOCATION:Zoom
CATEGORIES:ISGW Online Classes
ATTACH;FMTTYPE=image/jpeg:https://is-gw.ca/wp-content/uploads/2025/03/OnlineWorkshop-featuregraphic.jpg
ORGANIZER;CN="Elaine Anderson":MAILTO:EAnderson@is-gw.ca
END:VEVENT
END:VCALENDAR