BEGIN:VCALENDAR
VERSION:2.0
PRODID:-//ISGW - ECPv6.13.0//NONSGML v1.0//EN
CALSCALE:GREGORIAN
METHOD:PUBLISH
X-WR-CALNAME:ISGW
X-ORIGINAL-URL:https://is-gw.ca
X-WR-CALDESC:Events for ISGW
REFRESH-INTERVAL;VALUE=DURATION:PT1H
X-Robots-Tag:noindex
X-PUBLISHED-TTL:PT1H
BEGIN:VTIMEZONE
TZID:America/Toronto
BEGIN:DAYLIGHT
TZOFFSETFROM:-0500
TZOFFSETTO:-0400
TZNAME:EDT
DTSTART:20260308T070000
END:DAYLIGHT
BEGIN:STANDARD
TZOFFSETFROM:-0400
TZOFFSETTO:-0500
TZNAME:EST
DTSTART:20261101T060000
END:STANDARD
END:VTIMEZONE
BEGIN:VEVENT
DTSTART;TZID=America/Toronto:20260619T100000
DTEND;TZID=America/Toronto:20260619T110000
DTSTAMP:20260421T214426
CREATED:20260324T154211Z
LAST-MODIFIED:20260324T154803Z
UID:10004913-1781863200-1781866800@is-gw.ca
SUMMARY:Citizenship Test Preparation
DESCRIPTION:This online program is intended for Permanent Residents who have applied or are in the process of applying for Canadian citizenship. It is designed to help you prepare to take the Canadian citizenship test. \nUsing the Discover Canada: The Rights and Responsibilities of Citizenship study guide\, we will provide you with many opportunities to learn\, study\, and practice material that will be on your test. Participants should have already completed CLB level 4 for Listening and Speaking. \nThe program will be delivered online  using Zoom and runs for 8 weeks. The Discover Canada study guide will be provided for participants (either online or a hard copy). \nView PDF flyer. \n\n Please note that class will be cancelled on Friday\, May 22. \n Need help with Zoom? Let us know\, we can help! \n For more information\, contact Elaine at 519-836-2222\, ext. 237 or EAnderson@is-gw.ca \n\n\n\n                \n                        \n                            Citizenship Test Preparation - April 2026\n                             \n							"*" indicates required fields \n                        \n                        Name*\n                            \n                            \n                                                    \n                                                    First\n                                                \n                            \n                            \n                                                    \n                                                    Last\n                                                \n                            \n                        Email*\n                                \n                                    \n                                    Enter Email\n                                \n                                \n                                    \n                                    Confirm Email\n                                \n                                \n                            Phone/Cellular Number*What is your status in Canada?\n			\n					\n					Permanent Resident\n			\n			\n					\n					Protected Person\n			\n			\n					\n					Refugee Claimant\n			\n			\n					\n					Canadian Citizen\n			\n			\n					\n					Other\n			Are you familiar with the online meeting platform Zoom?\n			\n					\n					Yes\n			\n			\n					\n					No\n			Do you need assistance using Zoom?\n			\n					\n					Yes\n			\n			\n					\n					No\n			Consent*By clicking the box below\, I consent to being contacted by Immigrant Services Guelph-Wellington (ISGW) by phone\, email and Zoom. I acknowledge that in attending ISGW’s online workshops\, my name and image may be visible to other ISGW clients\, volunteers and staff. Yes\, I consent.CAPTCHA
URL:https://is-gw.ca/event/citizenship-test-preparation-10/2026-06-19/
LOCATION:Zoom
CATEGORIES:ISGW Online Classes
ATTACH;FMTTYPE=image/jpeg:https://is-gw.ca/wp-content/uploads/2025/03/OnlineWorkshop-featuregraphic.jpg
ORGANIZER;CN="Elaine Anderson":MAILTO:EAnderson@is-gw.ca
END:VEVENT
BEGIN:VEVENT
DTSTART;TZID=America/Toronto:20260622T100000
DTEND;TZID=America/Toronto:20260622T120000
DTSTAMP:20260421T214426
CREATED:20260320T190311Z
LAST-MODIFIED:20260324T133137Z
UID:10004778-1782122400-1782129600@is-gw.ca
SUMMARY:Learn and Dance
DESCRIPTION:Newcomers can join us to practise listening and speaking skills in a safe\, encouraging and welcoming environment. \nJoin us\, in person  at ISGW\, for an introduction to effective online English learning techniques. Participants will be guided on how to use digital resources to find the best websites and tools for learning English. \nThe goal is to empower you to confidently begin your self-directed learning journey\, equipped with the skills and resources needed to improve your English on your own. \nClients will be encouraged to use their personal cell phones for easy access to the applications discussed. \nWe will also get our bodies moving with 30 minutes of Zumba at the end of each session. \nView PDF flyer. \n\n Please note that this ECC will be cancelled on Monday\, May 18 for the Victoria Day holiday. \n For more information\, contact Tarik at 519-836-2222\, ext. 230 or tBelmqaddem@is-gw.ca \n\n\n                \n                        \n                            English Conversation Circles - Spring 2026\n                             \n							"*" indicates required fields \n                        \n                        Name*\n                            \n                            \n                                                    \n                                                    First\n                                                \n                            \n                            \n                                                    \n                                                    Last\n                                                \n                            \n                        Email*\n                                \n                                    \n                                    Enter Email\n                                \n                                \n                                    \n                                    Confirm Email\n                                \n                                \n                            Phone/Cellular Number*What is your status in Canada?*\n			\n					\n					Permanent Resident\n			\n			\n					\n					Protected Person\n			\n			\n					\n					Refugee Claimant\n			\n			\n					\n					Canadian Citizen\n			\n			\n					\n					Other\n			Select the English Conversation Circles you would like to attend:*\n								\n								Monday\, 10:00am - 12:00pm\, in person at ISGW\n							\n								\n								Monday\, 1:30pm - 2:30pm\, ONLINE\, using Zoom\n							\n								\n								Tuesday\, 9:30am - 11:30am\, for seniors\, in person at ISGW\n							\n								\n								Wednesday\, 1:00pm - 2:30pm\, in person at ISGW\n							\n								\n								Thursday\, Cooking Circle\, 11:30am - 1:00pm\, ONLINE\, using Zoom\n							\n								\n								Thursday\, 1:30pm - 2:30pm\, in person at ISGW\n							If you are attending online\, have you used Zoom before?*\n			\n					\n					Yes\n			\n			\n					\n					No. I would like help to set this up.\n			What is your English level?*\n			\n					\n					Beginner\n			\n			\n					\n					Intermediate\n			\n			\n					\n					Advanced\n			Enter the first and last names of any additional members of your household who will be attending:Consent*By clicking the box below\, I consent to being contacted by Immigrant Services Guelph-Wellington (ISGW) by phone\, email and Zoom. I acknowledge that in attending ISGW’s online workshops\, my name and image may be visible to other ISGW clients\, volunteers and staff.  Yes\, I consent.Photo Consent*By clicking the box above\, I understand that photos of the group may be taken and I acknowledge that these photos may be used online or in print to promote ISGW and its programs. ISGW will not identify participants by name in any usage.\n			\n					\n					Yes\, I consent.\n			CAPTCHA
URL:https://is-gw.ca/event/learn-and-dance-2/2026-06-22/
LOCATION:ISGW Office\, 104 Dawson Road\, Unit 102\, Guelph\, Ontario\, N1H 1A6\, Canada
CATEGORIES:English Conversation Circles
ATTACH;FMTTYPE=image/jpeg:https://is-gw.ca/wp-content/uploads/2024/09/ConnectLearn-featuregraphic.jpg
ORGANIZER;CN="Tarik Belmqaddem":MAILTO:tbelmqaddem@is-gw.ca
END:VEVENT
BEGIN:VEVENT
DTSTART;TZID=America/Toronto:20260622T133000
DTEND;TZID=America/Toronto:20260622T143000
DTSTAMP:20260421T214426
CREATED:20260320T191520Z
LAST-MODIFIED:20260324T133218Z
UID:10004840-1782135000-1782138600@is-gw.ca
SUMMARY:English Conversation Circle - Online
DESCRIPTION:Newcomers can join us to practise listening and speaking skills in a safe\, encouraging and welcoming environment. \nThis Monday afternoon English Conversation Circle takes place online  using Zoom. \nView PDF flyer. \n\n Please note that this ECC is cancelled on Monday\, May 18 for the Victoria Day holiday. \n Need help with technology? Let us know\, we can help! \n For more information\, contact Tarik at 519-836-2222\, ext. 230 or tBelmqaddem@is-gw.ca \n\n\n                \n                        \n                            English Conversation Circles - Spring 2026\n                             \n							"*" indicates required fields \n                        \n                        Name*\n                            \n                            \n                                                    \n                                                    First\n                                                \n                            \n                            \n                                                    \n                                                    Last\n                                                \n                            \n                        Email*\n                                \n                                    \n                                    Enter Email\n                                \n                                \n                                    \n                                    Confirm Email\n                                \n                                \n                            Phone/Cellular Number*What is your status in Canada?*\n			\n					\n					Permanent Resident\n			\n			\n					\n					Protected Person\n			\n			\n					\n					Refugee Claimant\n			\n			\n					\n					Canadian Citizen\n			\n			\n					\n					Other\n			Select the English Conversation Circles you would like to attend:*\n								\n								Monday\, 10:00am - 12:00pm\, in person at ISGW\n							\n								\n								Monday\, 1:30pm - 2:30pm\, ONLINE\, using Zoom\n							\n								\n								Tuesday\, 9:30am - 11:30am\, for seniors\, in person at ISGW\n							\n								\n								Wednesday\, 1:00pm - 2:30pm\, in person at ISGW\n							\n								\n								Thursday\, Cooking Circle\, 11:30am - 1:00pm\, ONLINE\, using Zoom\n							\n								\n								Thursday\, 1:30pm - 2:30pm\, in person at ISGW\n							If you are attending online\, have you used Zoom before?*\n			\n					\n					Yes\n			\n			\n					\n					No. I would like help to set this up.\n			What is your English level?*\n			\n					\n					Beginner\n			\n			\n					\n					Intermediate\n			\n			\n					\n					Advanced\n			Enter the first and last names of any additional members of your household who will be attending:Consent*By clicking the box below\, I consent to being contacted by Immigrant Services Guelph-Wellington (ISGW) by phone\, email and Zoom. I acknowledge that in attending ISGW’s online workshops\, my name and image may be visible to other ISGW clients\, volunteers and staff.  Yes\, I consent.Photo Consent*By clicking the box above\, I understand that photos of the group may be taken and I acknowledge that these photos may be used online or in print to promote ISGW and its programs. ISGW will not identify participants by name in any usage.\n			\n					\n					Yes\, I consent.\n			CAPTCHA
URL:https://is-gw.ca/event/english-conversation-circle-online-22/2026-06-22/
LOCATION:Zoom
CATEGORIES:English Conversation Circles,ISGW Online Classes
ATTACH;FMTTYPE=image/jpeg:https://is-gw.ca/wp-content/uploads/2024/09/ConnectLearn-featuregraphic.jpg
ORGANIZER;CN="Tarik Belmqaddem":MAILTO:tbelmqaddem@is-gw.ca
END:VEVENT
BEGIN:VEVENT
DTSTART;TZID=America/Toronto:20260623T093000
DTEND;TZID=America/Toronto:20260623T113000
DTSTAMP:20260421T214426
CREATED:20260320T192545Z
LAST-MODIFIED:20260324T133303Z
UID:10004851-1782207000-1782214200@is-gw.ca
SUMMARY:Seniors' English Conversation Circle
DESCRIPTION:Newcomers can join us to practise listening and speaking skills in a safe\, encouraging and welcoming environment. \nOur Seniors’ English Conversation Circle takes place in person  at Immigrant Services. It is a chance to practise English\, exercise and socialize with others over light snacks. \nView PDF flyer. \n For more information\, contact Tarik at 519-836-2222\, ext. 230 or tBelmqaddem@is-gw.ca \n\n\n                \n                        \n                            English Conversation Circles - Spring 2026\n                             \n							"*" indicates required fields \n                        \n                        Name*\n                            \n                            \n                                                    \n                                                    First\n                                                \n                            \n                            \n                                                    \n                                                    Last\n                                                \n                            \n                        Email*\n                                \n                                    \n                                    Enter Email\n                                \n                                \n                                    \n                                    Confirm Email\n                                \n                                \n                            Phone/Cellular Number*What is your status in Canada?*\n			\n					\n					Permanent Resident\n			\n			\n					\n					Protected Person\n			\n			\n					\n					Refugee Claimant\n			\n			\n					\n					Canadian Citizen\n			\n			\n					\n					Other\n			Select the English Conversation Circles you would like to attend:*\n								\n								Monday\, 10:00am - 12:00pm\, in person at ISGW\n							\n								\n								Monday\, 1:30pm - 2:30pm\, ONLINE\, using Zoom\n							\n								\n								Tuesday\, 9:30am - 11:30am\, for seniors\, in person at ISGW\n							\n								\n								Wednesday\, 1:00pm - 2:30pm\, in person at ISGW\n							\n								\n								Thursday\, Cooking Circle\, 11:30am - 1:00pm\, ONLINE\, using Zoom\n							\n								\n								Thursday\, 1:30pm - 2:30pm\, in person at ISGW\n							If you are attending online\, have you used Zoom before?*\n			\n					\n					Yes\n			\n			\n					\n					No. I would like help to set this up.\n			What is your English level?*\n			\n					\n					Beginner\n			\n			\n					\n					Intermediate\n			\n			\n					\n					Advanced\n			Enter the first and last names of any additional members of your household who will be attending:Consent*By clicking the box below\, I consent to being contacted by Immigrant Services Guelph-Wellington (ISGW) by phone\, email and Zoom. I acknowledge that in attending ISGW’s online workshops\, my name and image may be visible to other ISGW clients\, volunteers and staff.  Yes\, I consent.Photo Consent*By clicking the box above\, I understand that photos of the group may be taken and I acknowledge that these photos may be used online or in print to promote ISGW and its programs. ISGW will not identify participants by name in any usage.\n			\n					\n					Yes\, I consent.\n			CAPTCHA
URL:https://is-gw.ca/event/seniors-english-conversation-circle-11/2026-06-23/
LOCATION:ISGW Office\, 104 Dawson Road\, Unit 102\, Guelph\, Ontario\, N1H 1A6\, Canada
CATEGORIES:English Conversation Circles
ATTACH;FMTTYPE=image/jpeg:https://is-gw.ca/wp-content/uploads/2024/09/ConnectLearn-featuregraphic.jpg
ORGANIZER;CN="Tarik Belmqaddem":MAILTO:tbelmqaddem@is-gw.ca
END:VEVENT
BEGIN:VEVENT
DTSTART;TZID=America/Toronto:20260623T130000
DTEND;TZID=America/Toronto:20260623T143000
DTSTAMP:20260421T214426
CREATED:20260323T135830Z
LAST-MODIFIED:20260324T133341Z
UID:10004905-1782219600-1782225000@is-gw.ca
SUMMARY:ESL Literacy Circle
DESCRIPTION:We start with ABC and 123 in this conversation circle.\nWould you like to practise the English alphabet and learn to write\, read and say new words in English? \nDuring this in-person  session\, participants will learn English from the beginning. \nView PDF flyer. \nThrough tailored lessons\, interactive workshops\, and personalized support\, participants will build confidence in reading\, writing\, and speaking English\, enhance their communication skills and connect with the community. \n\n Clients who want to participate in this English Conversation Circle must be referred by one of  ISGW’s language assessors. \n For more information\, contact Tarik at 519-836-2222\, ext. 230 or tBelmqaddem@is-gw.ca
URL:https://is-gw.ca/event/esl-literacy-circle-7/2026-06-23/
LOCATION:ISGW Office\, 104 Dawson Road\, Unit 102\, Guelph\, Ontario\, N1H 1A6\, Canada
CATEGORIES:English Conversation Circles
ATTACH;FMTTYPE=image/jpeg:https://is-gw.ca/wp-content/uploads/2024/09/ConnectLearn-featuregraphic.jpg
ORGANIZER;CN="Tarik Belmqaddem":MAILTO:tbelmqaddem@is-gw.ca
END:VEVENT
BEGIN:VEVENT
DTSTART;TZID=America/Toronto:20260624T130000
DTEND;TZID=America/Toronto:20260624T143000
DTSTAMP:20260421T214426
CREATED:20260320T195806Z
LAST-MODIFIED:20260324T133409Z
UID:10004888-1782306000-1782311400@is-gw.ca
SUMMARY:Wednesday English Conversation Circle
DESCRIPTION:Newcomers can join us to practise listening and speaking skills in a safe\, encouraging and welcoming environment. \nThis Wednesday afternoon English Conversation Circle takes place in person  at Immigrant Services. \nView PDF flyer. \n\n Space is limited. You must be registered to attend this English Conversation Circle. \n  For more information\, contact Tarik at 519-836-2222\, ext. 230 or tBelmqaddem@is-gw.ca \n\n\n                \n                        \n                            English Conversation Circles - Spring 2026\n                             \n							"*" indicates required fields \n                        \n                        Name*\n                            \n                            \n                                                    \n                                                    First\n                                                \n                            \n                            \n                                                    \n                                                    Last\n                                                \n                            \n                        Email*\n                                \n                                    \n                                    Enter Email\n                                \n                                \n                                    \n                                    Confirm Email\n                                \n                                \n                            Phone/Cellular Number*What is your status in Canada?*\n			\n					\n					Permanent Resident\n			\n			\n					\n					Protected Person\n			\n			\n					\n					Refugee Claimant\n			\n			\n					\n					Canadian Citizen\n			\n			\n					\n					Other\n			Select the English Conversation Circles you would like to attend:*\n								\n								Monday\, 10:00am - 12:00pm\, in person at ISGW\n							\n								\n								Monday\, 1:30pm - 2:30pm\, ONLINE\, using Zoom\n							\n								\n								Tuesday\, 9:30am - 11:30am\, for seniors\, in person at ISGW\n							\n								\n								Wednesday\, 1:00pm - 2:30pm\, in person at ISGW\n							\n								\n								Thursday\, Cooking Circle\, 11:30am - 1:00pm\, ONLINE\, using Zoom\n							\n								\n								Thursday\, 1:30pm - 2:30pm\, in person at ISGW\n							If you are attending online\, have you used Zoom before?*\n			\n					\n					Yes\n			\n			\n					\n					No. I would like help to set this up.\n			What is your English level?*\n			\n					\n					Beginner\n			\n			\n					\n					Intermediate\n			\n			\n					\n					Advanced\n			Enter the first and last names of any additional members of your household who will be attending:Consent*By clicking the box below\, I consent to being contacted by Immigrant Services Guelph-Wellington (ISGW) by phone\, email and Zoom. I acknowledge that in attending ISGW’s online workshops\, my name and image may be visible to other ISGW clients\, volunteers and staff.  Yes\, I consent.Photo Consent*By clicking the box above\, I understand that photos of the group may be taken and I acknowledge that these photos may be used online or in print to promote ISGW and its programs. ISGW will not identify participants by name in any usage.\n			\n					\n					Yes\, I consent.\n			CAPTCHA
URL:https://is-gw.ca/event/wednesday-english-conversation-circle-4/2026-06-24/
LOCATION:ISGW Office\, 104 Dawson Road\, Unit 102\, Guelph\, Ontario\, N1H 1A6\, Canada
CATEGORIES:English Conversation Circles
ATTACH;FMTTYPE=image/jpeg:https://is-gw.ca/wp-content/uploads/2024/09/ConnectLearn-featuregraphic.jpg
ORGANIZER;CN="Tarik Belmqaddem":MAILTO:tbelmqaddem@is-gw.ca
END:VEVENT
BEGIN:VEVENT
DTSTART;TZID=America/Toronto:20260625T113000
DTEND;TZID=America/Toronto:20260625T130000
DTSTAMP:20260421T214426
CREATED:20260323T135224Z
LAST-MODIFIED:20260324T133442Z
UID:10004894-1782387000-1782392400@is-gw.ca
SUMMARY:Cooking Circle - online
DESCRIPTION:Newcomers can join us to practise listening and speaking skills in a safe\, encouraging and welcoming environment. \nThis English Conversation Circle takes place online  using Zoom. Join us to explore new cuisines and learn new recipes from around the world while practising English listening and speaking skills. \n Please note that this ECC takes place every 2 weeks. \nView PDF flyer. \n\n Need help with technology? Let us know\, we can help! \n For more information\, contact Tarik at 519-836-2222\, ext. 230 or tBelmqaddem@is-gw.ca \n\n\n                \n                        \n                            English Conversation Circles - Spring 2026\n                             \n							"*" indicates required fields \n                        \n                        Name*\n                            \n                            \n                                                    \n                                                    First\n                                                \n                            \n                            \n                                                    \n                                                    Last\n                                                \n                            \n                        Email*\n                                \n                                    \n                                    Enter Email\n                                \n                                \n                                    \n                                    Confirm Email\n                                \n                                \n                            Phone/Cellular Number*What is your status in Canada?*\n			\n					\n					Permanent Resident\n			\n			\n					\n					Protected Person\n			\n			\n					\n					Refugee Claimant\n			\n			\n					\n					Canadian Citizen\n			\n			\n					\n					Other\n			Select the English Conversation Circles you would like to attend:*\n								\n								Monday\, 10:00am - 12:00pm\, in person at ISGW\n							\n								\n								Monday\, 1:30pm - 2:30pm\, ONLINE\, using Zoom\n							\n								\n								Tuesday\, 9:30am - 11:30am\, for seniors\, in person at ISGW\n							\n								\n								Wednesday\, 1:00pm - 2:30pm\, in person at ISGW\n							\n								\n								Thursday\, Cooking Circle\, 11:30am - 1:00pm\, ONLINE\, using Zoom\n							\n								\n								Thursday\, 1:30pm - 2:30pm\, in person at ISGW\n							If you are attending online\, have you used Zoom before?*\n			\n					\n					Yes\n			\n			\n					\n					No. I would like help to set this up.\n			What is your English level?*\n			\n					\n					Beginner\n			\n			\n					\n					Intermediate\n			\n			\n					\n					Advanced\n			Enter the first and last names of any additional members of your household who will be attending:Consent*By clicking the box below\, I consent to being contacted by Immigrant Services Guelph-Wellington (ISGW) by phone\, email and Zoom. I acknowledge that in attending ISGW’s online workshops\, my name and image may be visible to other ISGW clients\, volunteers and staff.  Yes\, I consent.Photo Consent*By clicking the box above\, I understand that photos of the group may be taken and I acknowledge that these photos may be used online or in print to promote ISGW and its programs. ISGW will not identify participants by name in any usage.\n			\n					\n					Yes\, I consent.\n			CAPTCHA
URL:https://is-gw.ca/event/cooking-circle-online/2026-06-25/
LOCATION:Zoom
CATEGORIES:English Conversation Circles,ISGW Online Classes
ATTACH;FMTTYPE=image/jpeg:https://is-gw.ca/wp-content/uploads/2024/09/ConnectLearn-featuregraphic.jpg
ORGANIZER;CN="Tarik Belmqaddem":MAILTO:tbelmqaddem@is-gw.ca
END:VEVENT
BEGIN:VEVENT
DTSTART;TZID=America/Toronto:20260625T133000
DTEND;TZID=America/Toronto:20260625T143000
DTSTAMP:20260421T214426
CREATED:20260320T194502Z
LAST-MODIFIED:20260324T133517Z
UID:10004877-1782394200-1782397800@is-gw.ca
SUMMARY:Thursday English Conversation Circle
DESCRIPTION:Newcomers can join us to practise listening and speaking skills in a safe\, encouraging and welcoming environment. \nThis Thursday afternoon English Conversation Circle takes place in person  at Immigrant Services. \nView PDF flyer. \n\n Space is limited. You must be registered to attend this English Conversation Circle. \n Please note that this Circle will be cancelled on April 30 and May 14. \n For more information\, contact Tarik at 519-836-2222\, ext. 230 or tBelmqaddem@is-gw.ca \n\n\n                \n                        \n                            English Conversation Circles - Spring 2026\n                             \n							"*" indicates required fields \n                        \n                        Name*\n                            \n                            \n                                                    \n                                                    First\n                                                \n                            \n                            \n                                                    \n                                                    Last\n                                                \n                            \n                        Email*\n                                \n                                    \n                                    Enter Email\n                                \n                                \n                                    \n                                    Confirm Email\n                                \n                                \n                            Phone/Cellular Number*What is your status in Canada?*\n			\n					\n					Permanent Resident\n			\n			\n					\n					Protected Person\n			\n			\n					\n					Refugee Claimant\n			\n			\n					\n					Canadian Citizen\n			\n			\n					\n					Other\n			Select the English Conversation Circles you would like to attend:*\n								\n								Monday\, 10:00am - 12:00pm\, in person at ISGW\n							\n								\n								Monday\, 1:30pm - 2:30pm\, ONLINE\, using Zoom\n							\n								\n								Tuesday\, 9:30am - 11:30am\, for seniors\, in person at ISGW\n							\n								\n								Wednesday\, 1:00pm - 2:30pm\, in person at ISGW\n							\n								\n								Thursday\, Cooking Circle\, 11:30am - 1:00pm\, ONLINE\, using Zoom\n							\n								\n								Thursday\, 1:30pm - 2:30pm\, in person at ISGW\n							If you are attending online\, have you used Zoom before?*\n			\n					\n					Yes\n			\n			\n					\n					No. I would like help to set this up.\n			What is your English level?*\n			\n					\n					Beginner\n			\n			\n					\n					Intermediate\n			\n			\n					\n					Advanced\n			Enter the first and last names of any additional members of your household who will be attending:Consent*By clicking the box below\, I consent to being contacted by Immigrant Services Guelph-Wellington (ISGW) by phone\, email and Zoom. I acknowledge that in attending ISGW’s online workshops\, my name and image may be visible to other ISGW clients\, volunteers and staff.  Yes\, I consent.Photo Consent*By clicking the box above\, I understand that photos of the group may be taken and I acknowledge that these photos may be used online or in print to promote ISGW and its programs. ISGW will not identify participants by name in any usage.\n			\n					\n					Yes\, I consent.\n			CAPTCHA
URL:https://is-gw.ca/event/thursday-english-conversation-circle/2026-06-25/
LOCATION:ISGW Office\, 104 Dawson Road\, Unit 102\, Guelph\, Ontario\, N1H 1A6\, Canada
CATEGORIES:English Conversation Circles
ATTACH;FMTTYPE=image/jpeg:https://is-gw.ca/wp-content/uploads/2024/09/ConnectLearn-featuregraphic.jpg
ORGANIZER;CN="Tarik Belmqaddem":MAILTO:tbelmqaddem@is-gw.ca
END:VEVENT
END:VCALENDAR