BEGIN:VCALENDAR
VERSION:2.0
PRODID:-//ISGW - ECPv6.13.0//NONSGML v1.0//EN
CALSCALE:GREGORIAN
METHOD:PUBLISH
X-ORIGINAL-URL:https://is-gw.ca
X-WR-CALDESC:Events for ISGW
REFRESH-INTERVAL;VALUE=DURATION:PT1H
X-Robots-Tag:noindex
X-PUBLISHED-TTL:PT1H
BEGIN:VTIMEZONE
TZID:America/Toronto
BEGIN:DAYLIGHT
TZOFFSETFROM:-0500
TZOFFSETTO:-0400
TZNAME:EDT
DTSTART:20260308T070000
END:DAYLIGHT
BEGIN:STANDARD
TZOFFSETFROM:-0400
TZOFFSETTO:-0500
TZNAME:EST
DTSTART:20261101T060000
END:STANDARD
END:VTIMEZONE
BEGIN:VEVENT
DTSTART;TZID=America/Toronto:20260430T163000
DTEND;TZID=America/Toronto:20260430T173000
DTSTAMP:20260421T171422
CREATED:20260420T184850Z
LAST-MODIFIED:20260421T131342Z
UID:10004918-1777566600-1777570200@is-gw.ca
SUMMARY:Youth Chat: Academic Transition Program (ATP)\, University of Guelph
DESCRIPTION:The Academic Transition Program (ATP) at the University of Guelph is a supportive pathway designed to help mature and non-traditional learners prepare for successful university study and transition confidently into a degree program. \nAbout the program: \n\nAlternative pathway to university for mature and non-traditional students who may not meet traditional admission requirements\nBuild essential academic skills such as writing\, critical thinking\, research\, and study strategies\nSupportive learning environment designed to increase confidence and readiness for university-level courses\nGuidance and advising to help plan your degree pathway and navigate university systems\nPreparation for successful transition into undergraduate study and long-term academic success for Bachelor of Arts\n\nJoin us in person  at ISGW to learn about the program with guest speaker: Funmi Ogunbi\, Academic Transition Program Developer\, University of Guelph. \nView PDF flyer. \n\n You must register in advance to attend the session. \n Language interpretation is available\, based on need. Please register as soon as possible. \n For more information contact Alisiia at 226-332-0785 or adovban@is-gw.ca \n\n\n\n                \n                        \n                            SWIS Youth Chat - Academic Transition Program at U of G\n                             \n							"*" indicates required fields \n                        \n                        Name*\n                            \n                            \n                                                    \n                                                    First\n                                                \n                            \n                            \n                                                    \n                                                    Last\n                                                \n                            \n                        Email*\n                                \n                                    \n                                    Enter Email\n                                \n                                \n                                    \n                                    Confirm Email\n                                \n                                \n                            Phone/Cellular Number*What is your immigration status?*\n			\n					\n					Permanent Resident\n			\n			\n					\n					Protected Person\n			\n			\n					\n					Refugee Claimant\n			\n			\n					\n					Canadian Citizen\n			\n			\n					\n					Other\n			Which school do you attend?*\n			\n					\n					Bishop Macdonell\n			\n			\n					\n					Centennial\n			\n			\n					\n					Guelph CVI\n			\n			\n					\n					John F. Ross\n			\n			\n					\n					Our Lady of Lourdes\n			\n			\n					\n					St. James\n			\n			\n					\n					Not attending school\n			\n			\n					\n					Other\n			Do you need language interpretation?Interpretation is available\, based on need. Please let us know your language.Consent*By clicking the box below\, I consent to being contacted by Immigrant Services Guelph-Wellington (ISGW) by phone and/or email. Yes\, I consent.Photo Consent*By clicking the box below\, I understand that photos of the group may be taken and I acknowledge that these photos may be used online or in print to promote ISGW and its programs. ISGW will not identify participants by name in any usage. Yes\, I consent.CAPTCHA
URL:https://is-gw.ca/event/youth-chat-academic-transition-program-atp-university-of-guelph/
LOCATION:ISGW Office\, 104 Dawson Road\, Unit 102\, Guelph\, Ontario\, N1H 1A6\, Canada
CATEGORIES:SWIS Information Sessions,Youth
ATTACH;FMTTYPE=image/jpeg:https://is-gw.ca/wp-content/uploads/2024/04/YouthChat-featuregraphic.jpg
ORGANIZER;CN="Alisiia Dovban":MAILTO:adovban@is-gw.ca
END:VEVENT
END:VCALENDAR