BEGIN:VCALENDAR
VERSION:2.0
PRODID:-//ISGW - ECPv6.13.0//NONSGML v1.0//EN
CALSCALE:GREGORIAN
METHOD:PUBLISH
X-ORIGINAL-URL:https://is-gw.ca
X-WR-CALDESC:Events for ISGW
REFRESH-INTERVAL;VALUE=DURATION:PT1H
X-Robots-Tag:noindex
X-PUBLISHED-TTL:PT1H
BEGIN:VTIMEZONE
TZID:America/Toronto
BEGIN:DAYLIGHT
TZOFFSETFROM:-0500
TZOFFSETTO:-0400
TZNAME:EDT
DTSTART:20240310T070000
END:DAYLIGHT
BEGIN:STANDARD
TZOFFSETFROM:-0400
TZOFFSETTO:-0500
TZNAME:EST
DTSTART:20241103T060000
END:STANDARD
BEGIN:DAYLIGHT
TZOFFSETFROM:-0500
TZOFFSETTO:-0400
TZNAME:EDT
DTSTART:20250309T070000
END:DAYLIGHT
BEGIN:STANDARD
TZOFFSETFROM:-0400
TZOFFSETTO:-0500
TZNAME:EST
DTSTART:20251102T060000
END:STANDARD
END:VTIMEZONE
BEGIN:VEVENT
DTSTART;TZID=America/Toronto:20250123T130000
DTEND;TZID=America/Toronto:20250123T140000
DTSTAMP:20260422T133203
CREATED:20250107T162330Z
LAST-MODIFIED:20250107T162633Z
UID:10004109-1737637200-1737640800@is-gw.ca
SUMMARY:Connecting to Your School Using Your Smartphone
DESCRIPTION:Join our SWIS team in person at ISGW\, to learn about using your smart phone to stay in touch with your child(ren)’s school activities\, teacher\, newsletter and more! \nWe will talk about: \n\nEmail and online meeting basics\nNavigating the school and board websites\nAccessing the school calendar\, school newsletter\nSchoolCash Online payment system\nSchool bus and inclement weather communication\n\nHands-on practise with your phone will be included in this session. \nView PDF flyer \n\nLanguage interpretation is available\, based on need. Please register as soon as possible and be sure to complete the interpretation section of the registration form. \nFor more information or to register\, contact Danait at 519-831-1281 or dafewerqi@is-gw.ca \n  \nThank you for your interest in this session. Registration is now closed.
URL:https://is-gw.ca/event/connecting-to-your-school-using-your-smartphone-2/
LOCATION:ISGW Office\, 104 Dawson Road\, Unit 102\, Guelph\, Ontario\, N1H 1A6\, Canada
CATEGORIES:SWIS Information Sessions
ATTACH;FMTTYPE=image/jpeg:https://is-gw.ca/wp-content/uploads/2024/08/SWIS-feature-graphic-2024.jpg
ORGANIZER;CN="Danait Afewerqi":MAILTO:dafewerqi@is-gw.ca
END:VEVENT
BEGIN:VEVENT
DTSTART;TZID=America/Toronto:20241218T170000
DTEND;TZID=America/Toronto:20241218T180000
DTSTAMP:20260422T133203
CREATED:20241127T190012Z
LAST-MODIFIED:20241213T202837Z
UID:10003938-1734541200-1734544800@is-gw.ca
SUMMARY:Winter and Spring Camps and Activities for Children
DESCRIPTION:Join our SWIS team online\, using Zoom\, to learn about the winter and spring camps and activities available for children in the area. \nWe will talk about: \n\nThe benefits of attending camp for children\nHow to find and choose a camp for your child(ren)\nAge eligibility\, how to register and the cost\nFinancial assistance programs available: Free to Grow\, Jumpstart\n\nView PDF flyer. \nLanguage interpretation is available\, based on need. Please register as soon as possible and be sure\nto complete the interpretation section of the registration form. \nNeed help with Zoom? Let us know\, we can help! \nFor more information or to register\, contact Danait at 519-831-1281 or dafewerqi@is-gw.ca \n  \nThank you for your interest in this session. Registration is now closed.
URL:https://is-gw.ca/event/winter-and-spring-camps-and-activities-for-children/
LOCATION:Zoom
CATEGORIES:SWIS Information Sessions
ATTACH;FMTTYPE=image/jpeg:https://is-gw.ca/wp-content/uploads/2024/08/SWIS-feature-graphic-2024.jpg
ORGANIZER;CN="Danait Afewerqi":MAILTO:dafewerqi@is-gw.ca
END:VEVENT
BEGIN:VEVENT
DTSTART;TZID=America/Toronto:20241209T170000
DTEND;TZID=America/Toronto:20241209T180000
DTSTAMP:20260422T133203
CREATED:20241128T191208Z
LAST-MODIFIED:20241129T175202Z
UID:10003939-1733763600-1733767200@is-gw.ca
SUMMARY:How to Register for Recreational Activities in the City of Guelph
DESCRIPTION:This session will be presented in Tigrinya.  \nJoin our SWIS team online\, using Zoom\, to learn how to register for recreational activities in the City of Guelph using Rec Enroll. \nWe will talk about: \n\nHow to create a Recenroll account\nHow to navigate the City of Guelph website\nOnline registration steps for swimming classes\, PD day camps\, sports\, and more\nDrop-In program registration\nIn-Person registration locations during the registration period\nPreparing for Winter Program registration day on December 11\nAvailable financial assistance: Free to Grow and subsidized programs from the City of Guelph\n\nView PDF flyer. \nNeed help with Zoom? Let us know\, we can help! \nFor more information or to register\, contact Danait at 519-831-1281 or dafewerqi@is-gw.ca \n  \nThank you for your interest in this session. Registration is now closed.
URL:https://is-gw.ca/event/how-to-register-for-recreational-activities-in-the-city-of-guelph/
LOCATION:Zoom
CATEGORIES:SWIS Information Sessions
ATTACH;FMTTYPE=image/jpeg:https://is-gw.ca/wp-content/uploads/2024/08/SWIS-feature-graphic-2024.jpg
ORGANIZER;CN="Danait Afewerqi":MAILTO:dafewerqi@is-gw.ca
END:VEVENT
BEGIN:VEVENT
DTSTART;TZID=America/Toronto:20241023T170000
DTEND;TZID=America/Toronto:20241023T180000
DTSTAMP:20260422T133203
CREATED:20241007T153851Z
LAST-MODIFIED:20241007T155418Z
UID:10003881-1729702800-1729706400@is-gw.ca
SUMMARY:Connecting to Your School - WCDSB schools
DESCRIPTION:Are you new to Canada?\nDo you want to learn how to navigate your child’s school website and more?\nJoin our SWIS team\, online\, using Zoom\, to learn about: \n\nNavigating the school and board websites\nAccessing the school calendar\, school newsletter\nSchoolCash Online payment system\nSchool bus and inclement weather communication\nSchool fundraising events\, school trips\nPreparing your child for school (clothing\, packed lunch\, etc.)\nCommunicating with your child’s teacher\, reporting absence\nStudents arriving on time for school\nNo parking in the school parking lot\n\nView PDF flyer. \nLanguage interpretation is available\, based on need. Please register as soon as possible and be sure to complete the interpretation section of the registration form. \nDo you want to attend online but don’t have a device? Need help with Zoom? Let us know\, we can help! \nFor more information or to register\, contact Danait at 519-831-1281 or dafewerqi@is-gw.ca \n  \nThank you for your interest in this session. Registration is now closed.
URL:https://is-gw.ca/event/connecting-to-your-school-wcdsb-schools/
LOCATION:Zoom
CATEGORIES:SWIS Information Sessions
ATTACH;FMTTYPE=image/jpeg:https://is-gw.ca/wp-content/uploads/2024/08/SWIS-feature-graphic-2024.jpg
ORGANIZER;CN="Danait Afewerqi":MAILTO:dafewerqi@is-gw.ca
END:VEVENT
END:VCALENDAR