BEGIN:VCALENDAR
VERSION:2.0
PRODID:-//ISGW - ECPv6.13.0//NONSGML v1.0//EN
CALSCALE:GREGORIAN
METHOD:PUBLISH
X-WR-CALNAME:ISGW
X-ORIGINAL-URL:https://is-gw.ca
X-WR-CALDESC:Events for ISGW
REFRESH-INTERVAL;VALUE=DURATION:PT1H
X-Robots-Tag:noindex
X-PUBLISHED-TTL:PT1H
BEGIN:VTIMEZONE
TZID:America/Toronto
BEGIN:DAYLIGHT
TZOFFSETFROM:-0500
TZOFFSETTO:-0400
TZNAME:EDT
DTSTART:20240310T070000
END:DAYLIGHT
BEGIN:STANDARD
TZOFFSETFROM:-0400
TZOFFSETTO:-0500
TZNAME:EST
DTSTART:20241103T060000
END:STANDARD
END:VTIMEZONE
BEGIN:VTIMEZONE
TZID:UTC
BEGIN:STANDARD
TZOFFSETFROM:+0000
TZOFFSETTO:+0000
TZNAME:UTC
DTSTART:20220101T000000
END:STANDARD
END:VTIMEZONE
BEGIN:VEVENT
DTSTART;TZID=America/Toronto:20241115T100000
DTEND;TZID=America/Toronto:20241115T110000
DTSTAMP:20260422T084009
CREATED:20241031T175009Z
LAST-MODIFIED:20241031T175140Z
UID:10003914-1731664800-1731668400@is-gw.ca
SUMMARY:Refugee Sponsorship Training
DESCRIPTION:Join us\, in person at ISGW or online using Zoom\, to learn about refugee sponsorship with Said Nixon Bangura from Refugee Sponsorship Training Program at Catholic Crosscultural Services. \nDiscussion topics include: \n\nOverview of IRCC’s new\, online portal\nHow to create an account and start filling the application.\n\nView PDF flyer. \nLanguage interpretation is available\, based on need. If you would like to request interpretation\, please register as soon as possible. \nJoining online and need help with technology? Let us know\, we can help! \nOne-on-one appointments can be booked in advance and will take place at the end of the session. These appointments are for clients who have already started an application and need guidance. Please contact us. \nFor more information\, contact Huria at 519-836-2222\, ext. 241 or htesfa@is-gw.ca \n  \nThank you for your interest in this session. Registration is now closed. Please check our event calendar for upcoming sessions.
URL:https://is-gw.ca/event/refugee-sponsorship-training-28/
LOCATION:ISGW Office\, 104 Dawson Road\, Unit 102\, Guelph\, Ontario\, N1H 1A6\, Canada
CATEGORIES:Refugee Sponsorship Training
ORGANIZER;CN="Huria Tesfa":MAILTO:htesfa@is-gw.ca
END:VEVENT
BEGIN:VEVENT
DTSTART;TZID=America/Toronto:20241018T100000
DTEND;TZID=America/Toronto:20241018T110000
DTSTAMP:20260422T084009
CREATED:20241010T150623Z
LAST-MODIFIED:20241010T151057Z
UID:10003893-1729245600-1729249200@is-gw.ca
SUMMARY:Refugee Sponsorship Training
DESCRIPTION:Join us\, in person at ISGW or online using Zoom\, to learn about refugee sponsorship with Said Nixon Bangura from Refugee Sponsorship Training Program at Catholic Crosscultural Services. \nDiscussion topics include: \n\nOverview of IRCC’s new\, online portal\nHow to create an account and start filling the application.\n\nView PDF flyer. \nLanguage interpretation is available\, based on need. If you would like to request interpretation\, please register as soon as possible. \nJoining online and need help with technology? Let us know\, we can help! \n\nOne-on-one appointments can be booked in advance and will take place at the end of the session. These appointments are for clients who have already started an application and need guidance. Please contact us. \n\nFor more information\, contact Huria at 519-836-2222\, ext. 241 or htesfa@is-gw.ca \n  \nThank you for your interest in this session. Registration is now closed. Please check our event calendar for upcoming sessions.
URL:https://is-gw.ca/event/refugee-sponsorship-training-27/
LOCATION:ISGW Office\, 104 Dawson Road\, Unit 102\, Guelph\, Ontario\, N1H 1A6\, Canada
CATEGORIES:Refugee Sponsorship Training
ORGANIZER;CN="Huria Tesfa":MAILTO:htesfa@is-gw.ca
END:VEVENT
BEGIN:VEVENT
DTSTART;TZID=America/Toronto:20240920T100000
DTEND;TZID=America/Toronto:20240920T120000
DTSTAMP:20260422T084009
CREATED:20240828T182528Z
LAST-MODIFIED:20240828T190342Z
UID:10003756-1726826400-1726833600@is-gw.ca
SUMMARY:Refugee Sponsorship Training
DESCRIPTION:Join us\, in person at ISGW or online using Zoom\, to learn about refugee sponsorship with Said Nixon Bangura from Refugee Sponsorship Training Program at Catholic Crosscultural Services. \nDiscussion topics include: \n\nOverview of IRCC’s new\, online portal\nHow to create an account and start filling the application.\n\nView PDF flyer. \nLanguage interpretation is available\, based on need. If you would like to request interpretation\, please register by Monday\, September 16. \nJoining online and need help with technology? Let us know\, we can help! \n\nOne-on-one appointments can be booked in advance and will take place at the end of the session. These appointments are for clients who have already started an application and need guidance. Please contact us. \n\nFor more information\, contact Huria at 519-836-2222\, ext. 241 or htesfa@is-gw.ca \n  \nThank you for your interest in this session. Registration is now closed. Please check our event calendar for upcoming sessions.
URL:https://is-gw.ca/event/refugee-sponsorship-training-26/
LOCATION:ISGW Office\, 104 Dawson Road\, Unit 102\, Guelph\, Ontario\, N1H 1A6\, Canada
CATEGORIES:Information Sessions,Refugee Sponsorship Training
ORGANIZER;CN="Huria Tesfa":MAILTO:htesfa@is-gw.ca
END:VEVENT
BEGIN:VEVENT
DTSTART;TZID=America/Toronto:20240719T100000
DTEND;TZID=America/Toronto:20240719T110000
DTSTAMP:20260422T084009
CREATED:20240626T192308Z
LAST-MODIFIED:20240626T192702Z
UID:10003283-1721383200-1721386800@is-gw.ca
SUMMARY:Refugee Sponsorship Training
DESCRIPTION:Join us\, in person at ISGW or online using Zoom\, to learn about refugee sponsorship with Said Nixon Bangura from Refugee Sponsorship Training Program at Catholic Crosscultural Services. \nDiscussion topics include: \n\nOverview of IRCC’s new\, online portal\nHow to create an account and start filling the application.\n\nView PDF flyer. \nLanguage interpretation is available\, based on need. If you would like to request interpretation\, please register by Monday\, July 15. \nJoining online and need help with technology? Let us know\, we can help! \n\nOne-on-one appointments can be booked in advance and will take place at the end of the session. These appointments are for clients who have already started an application and need guidance. Please contact us. \n\nFor more information\, contact Huria at 519-836-2222\, ext. 241 or htesfa@is-gw.ca \n  \nThank you for your interest in this session. Registration is now closed. Please check our event calendar for upcoming sessions.
URL:https://is-gw.ca/event/refugee-sponsorship-training-25/
LOCATION:ISGW Office\, 104 Dawson Road\, Unit 102\, Guelph\, Ontario\, N1H 1A6\, Canada
CATEGORIES:Refugee Sponsorship Training
ORGANIZER;CN="Huria Tesfa":MAILTO:htesfa@is-gw.ca
END:VEVENT
BEGIN:VEVENT
DTSTART;TZID=America/Toronto:20240621T100000
DTEND;TZID=America/Toronto:20240621T110000
DTSTAMP:20260422T084009
CREATED:20240529T180234Z
LAST-MODIFIED:20240529T180456Z
UID:10003095-1718964000-1718967600@is-gw.ca
SUMMARY:Refugee Sponsorship Training
DESCRIPTION:Join us\, in person at ISGW or online using Zoom\, to learn about refugee sponsorship with Said Nixon Bangura from Refugee Sponsorship Training Program at Catholic Crosscultural Services. \nDiscussion topics include: \n\nOverview of IRCC’s new\, online portal\nHow to create an account and start filling the application.\n\nView PDF flyer. \nLanguage interpretation is available\, based on need. If you would like to request interpretation\, please register by Monday\, June 17. \nJoining online and need help with technology? Let us know\, we can help! \n\nOne-on-one appointments can be booked in advance and will take place at the end of the session. These appointments are for clients who have already started an application and need guidance. Please contact us. \n\nFor more information\, contact Huria at 519-836-2222\, ext. 241 or htesfa@is-gw.ca \n  \nThank you for your interest in this session. Registration is now closed. Please check our event calendar for upcoming sessions.
URL:https://is-gw.ca/event/refugee-sponsorship-training-24/
LOCATION:ISGW Office\, 104 Dawson Road\, Unit 102\, Guelph\, Ontario\, N1H 1A6\, Canada
CATEGORIES:Refugee Sponsorship Training
ORGANIZER;CN="Huria Tesfa":MAILTO:htesfa@is-gw.ca
END:VEVENT
BEGIN:VEVENT
DTSTART;TZID=UTC:20220318T100000
DTEND;TZID=UTC:20220318T110000
DTSTAMP:20260422T084009
CREATED:20220304T001549Z
LAST-MODIFIED:20220304T011607Z
UID:10001267-1647597600-1647601200@is-gw.ca
SUMMARY:Refugee Sponsorship Training
DESCRIPTION:During this online\, information session\, Said Nixon Bangura will present: \n\na general overview of the process\neligibility and requirements\n\nOne-on-one appointments for form review are available by appointment. \nView PDF flyer. \nLanguage interpretation is available for this workshop\, based on need.\nBe sure to complete the interpretation section on the form and register by Tuesday\, March 15. \nTo register\, please fill the form below. \nFor more information contact Huria at 519-836-2222\, ext. 263 or htesfa@is-gw.ca
URL:https://is-gw.ca/event/refugee-sponsorship-training-4/
LOCATION:Zoom
CATEGORIES:Information Sessions,Refugee Sponsorship Training
ORGANIZER;CN="Huria Tesfa":MAILTO:htesfa@is-gw.ca
END:VEVENT
BEGIN:VEVENT
DTSTART;TZID=UTC:20220218T100000
DTEND;TZID=UTC:20220218T110000
DTSTAMP:20260422T084009
CREATED:20220204T214956Z
LAST-MODIFIED:20220204T215232Z
UID:10000818-1645178400-1645182000@is-gw.ca
SUMMARY:Refugee Sponsorship Training
DESCRIPTION:During this online information session\, Said Nixon Bangura will discuss: \n\nhow to fill the forms\nsettlement plan\nnumber of applications a person can be involved with\n\nOne-on-one appointments for form review are available by appointment. \nView PDF flyer. \nLanguage interpretation is available for this workshop\, based on need.\nPlease register by Wednesday\, February 16. Be sure to complete the interpretation section on the form. \nFor more information\, contact Huria at 519-836-2222\, ext. 263 or htesfa@is-gw.ca
URL:https://is-gw.ca/event/refugee-sponsorship-training-3/
LOCATION:Zoom
CATEGORIES:Refugee Sponsorship Training
ORGANIZER;CN="Huria Tesfa":MAILTO:htesfa@is-gw.ca
END:VEVENT
BEGIN:VEVENT
DTSTART;TZID=UTC:20220208T170000
DTEND;TZID=UTC:20220208T180000
DTSTAMP:20260422T084009
CREATED:20220201T235813Z
LAST-MODIFIED:20220202T020029Z
UID:10000817-1644339600-1644343200@is-gw.ca
SUMMARY:Applying for Citizenship (Tigrinya)
DESCRIPTION:Join us online using Zoom to learn about applying for Canadian citizenship. The session will be presented in Tigrinya. \nTopics to be covered: \n\neligibility and requirements\nhow to apply – online or on paper\napplying for children\, with or without parent\n\nView PDF flyer. \nTo register\, fill the form below. \nFor more information\, contact Huria at 519-836-2222\, ext. 263 or htesfa@is-gw.ca
URL:https://is-gw.ca/event/applying-for-citizenship-tigrinya/
LOCATION:Zoom
CATEGORIES:Information Sessions
ORGANIZER;CN="Huria Tesfa":MAILTO:htesfa@is-gw.ca
END:VEVENT
END:VCALENDAR